BEGIN:VCALENDAR
VERSION:2.0
PRODID:-//Asiago 7C Bike Team - ECPv5.12.3//NONSGML v1.0//EN
CALSCALE:GREGORIAN
METHOD:PUBLISH
X-WR-CALNAME:Asiago 7C Bike Team
X-ORIGINAL-URL:https://www.asiago7cbiketeam.com
X-WR-CALDESC:Events for Asiago 7C Bike Team
REFRESH-INTERVAL;VALUE=DURATION:PT1H
X-Robots-Tag:noindex
X-PUBLISHED-TTL:PT1H
BEGIN:VTIMEZONE
TZID:Europe/Rome
BEGIN:DAYLIGHT
TZOFFSETFROM:+0100
TZOFFSETTO:+0200
TZNAME:CEST
DTSTART:20220327T010000
END:DAYLIGHT
BEGIN:STANDARD
TZOFFSETFROM:+0200
TZOFFSETTO:+0100
TZNAME:CET
DTSTART:20221030T010000
END:STANDARD
END:VTIMEZONE
BEGIN:VEVENT
DTSTART;VALUE=DATE:20220522
DTEND;VALUE=DATE:20220523
DTSTAMP:20260423T172940
CREATED:20220310T070600Z
LAST-MODIFIED:20220310T070600Z
UID:685-1653177600-1653263999@www.asiago7cbiketeam.com
SUMMARY:Nove Colli
DESCRIPTION:
URL:https://www.asiago7cbiketeam.com/event/nove-colli-2/
LOCATION:Cesenatico (FC)
CATEGORIES:GRAN FONDO
END:VEVENT
BEGIN:VEVENT
DTSTART;VALUE=DATE:20220522
DTEND;VALUE=DATE:20220523
DTSTAMP:20260423T172940
CREATED:20220310T090458Z
LAST-MODIFIED:20220310T090458Z
UID:904-1653177600-1653263999@www.asiago7cbiketeam.com
SUMMARY:Pietralata Mtb Race
DESCRIPTION:
URL:https://www.asiago7cbiketeam.com/event/pietralata-mtb-race/
LOCATION:Fermignano (PU)
CATEGORIES:MTB
END:VEVENT
BEGIN:VEVENT
DTSTART;VALUE=DATE:20220522
DTEND;VALUE=DATE:20220523
DTSTAMP:20260423T172940
CREATED:20220310T090543Z
LAST-MODIFIED:20220310T090543Z
UID:907-1653177600-1653263999@www.asiago7cbiketeam.com
SUMMARY:Antica Carsulae
DESCRIPTION:
URL:https://www.asiago7cbiketeam.com/event/antica-carsulae-2/
LOCATION:Montecastrilli (Tr)
CATEGORIES:MTB
END:VEVENT
BEGIN:VEVENT
DTSTART;VALUE=DATE:20220522
DTEND;VALUE=DATE:20220523
DTSTAMP:20260423T172940
CREATED:20220310T090631Z
LAST-MODIFIED:20220310T090631Z
UID:909-1653177600-1653263999@www.asiago7cbiketeam.com
SUMMARY:GF di Santa Ninfa
DESCRIPTION:
URL:https://www.asiago7cbiketeam.com/event/gf-di-santa-ninfa/
LOCATION:Santa Ninfa (Tp)
CATEGORIES:MTB
END:VEVENT
BEGIN:VEVENT
DTSTART;VALUE=DATE:20220522
DTEND;VALUE=DATE:20220523
DTSTAMP:20260423T172940
CREATED:20220310T090727Z
LAST-MODIFIED:20220310T090727Z
UID:911-1653177600-1653263999@www.asiago7cbiketeam.com
SUMMARY:South Garda Bike
DESCRIPTION:
URL:https://www.asiago7cbiketeam.com/event/south-garda-bike/
LOCATION:Medole (Mn)
CATEGORIES:MTB
END:VEVENT
BEGIN:VEVENT
DTSTART;VALUE=DATE:20220522
DTEND;VALUE=DATE:20220523
DTSTAMP:20260423T172940
CREATED:20220310T091218Z
LAST-MODIFIED:20220310T091218Z
UID:913-1653177600-1653263999@www.asiago7cbiketeam.com
SUMMARY:Sirente Bike MX
DESCRIPTION:
URL:https://www.asiago7cbiketeam.com/event/sirente-bike-mx-2/
LOCATION:Aielli (Aq)
CATEGORIES:MTB
END:VEVENT
BEGIN:VEVENT
DTSTART;VALUE=DATE:20220522
DTEND;VALUE=DATE:20220523
DTSTAMP:20260423T172940
CREATED:20220310T091302Z
LAST-MODIFIED:20220310T091302Z
UID:915-1653177600-1653263999@www.asiago7cbiketeam.com
SUMMARY:Da Piazza a Piazza
DESCRIPTION:
URL:https://www.asiago7cbiketeam.com/event/da-piazza-a-piazza/
LOCATION:Prato
CATEGORIES:MTB
END:VEVENT
END:VCALENDAR