BEGIN:VCALENDAR
VERSION:2.0
PRODID:-//Asiago 7C Bike Team - ECPv5.12.3//NONSGML v1.0//EN
CALSCALE:GREGORIAN
METHOD:PUBLISH
X-WR-CALNAME:Asiago 7C Bike Team
X-ORIGINAL-URL:https://www.asiago7cbiketeam.com
X-WR-CALDESC:Events for Asiago 7C Bike Team
REFRESH-INTERVAL;VALUE=DURATION:PT1H
X-Robots-Tag:noindex
X-PUBLISHED-TTL:PT1H
BEGIN:VTIMEZONE
TZID:Europe/Rome
BEGIN:DAYLIGHT
TZOFFSETFROM:+0100
TZOFFSETTO:+0200
TZNAME:CEST
DTSTART:20220327T010000
END:DAYLIGHT
BEGIN:STANDARD
TZOFFSETFROM:+0200
TZOFFSETTO:+0100
TZNAME:CET
DTSTART:20221030T010000
END:STANDARD
END:VTIMEZONE
BEGIN:VEVENT
DTSTART;VALUE=DATE:20220710
DTEND;VALUE=DATE:20220711
DTSTAMP:20260423T144154
CREATED:20220310T074424Z
LAST-MODIFIED:20220310T074424Z
UID:768-1657411200-1657497599@www.asiago7cbiketeam.com
SUMMARY:Terre dei Varano
DESCRIPTION:
URL:https://www.asiago7cbiketeam.com/event/terre-dei-varano-3/
LOCATION:Camerino (Mc)
CATEGORIES:GRAN FONDO
END:VEVENT
BEGIN:VEVENT
DTSTART;VALUE=DATE:20220710
DTEND;VALUE=DATE:20220711
DTSTAMP:20260423T144154
CREATED:20220310T075410Z
LAST-MODIFIED:20220310T075410Z
UID:770-1657411200-1657497599@www.asiago7cbiketeam.com
SUMMARY:Re Stelvio
DESCRIPTION:
URL:https://www.asiago7cbiketeam.com/event/re-stelvio/
LOCATION:Bormio (So)
CATEGORIES:GRAN FONDO
END:VEVENT
BEGIN:VEVENT
DTSTART;VALUE=DATE:20220710
DTEND;VALUE=DATE:20220711
DTSTAMP:20260423T144154
CREATED:20220310T075517Z
LAST-MODIFIED:20220310T075517Z
UID:772-1657411200-1657497599@www.asiago7cbiketeam.com
SUMMARY:Casteggio
DESCRIPTION:
URL:https://www.asiago7cbiketeam.com/event/casteggio-2/
LOCATION:Casteggio (Pv)
CATEGORIES:GRAN FONDO
END:VEVENT
BEGIN:VEVENT
DTSTART;VALUE=DATE:20220710
DTEND;VALUE=DATE:20220711
DTSTAMP:20260423T144154
CREATED:20220310T075556Z
LAST-MODIFIED:20220310T075556Z
UID:774-1657411200-1657497599@www.asiago7cbiketeam.com
SUMMARY:GF Pinarello
DESCRIPTION:
URL:https://www.asiago7cbiketeam.com/event/gf-pinarello/
LOCATION:Treviso
CATEGORIES:GRAN FONDO
END:VEVENT
BEGIN:VEVENT
DTSTART;VALUE=DATE:20220710
DTEND;VALUE=DATE:20220711
DTSTAMP:20260423T144154
CREATED:20220310T093057Z
LAST-MODIFIED:20220310T093057Z
UID:960-1657411200-1657497599@www.asiago7cbiketeam.com
SUMMARY:Dolomiti Superbike
DESCRIPTION:
URL:https://www.asiago7cbiketeam.com/event/dolomiti-superbike-2/
LOCATION:Villabassa(Bz)
CATEGORIES:MTB
END:VEVENT
BEGIN:VEVENT
DTSTART;VALUE=DATE:20220710
DTEND;VALUE=DATE:20220711
DTSTAMP:20260423T144154
CREATED:20220310T093146Z
LAST-MODIFIED:20220310T093146Z
UID:962-1657411200-1657497599@www.asiago7cbiketeam.com
SUMMARY:Marathon Bike Haiti
DESCRIPTION:
URL:https://www.asiago7cbiketeam.com/event/marathon-bike-haiti/
LOCATION:Attimis (UD)
CATEGORIES:MTB
END:VEVENT
BEGIN:VEVENT
DTSTART;VALUE=DATE:20220710
DTEND;VALUE=DATE:20220711
DTSTAMP:20260423T144154
CREATED:20220310T093235Z
LAST-MODIFIED:20220310T093235Z
UID:965-1657411200-1657497599@www.asiago7cbiketeam.com
SUMMARY:Sentiero del Fumaiolo
DESCRIPTION:
URL:https://www.asiago7cbiketeam.com/event/sentiero-del-fumaiolo/
LOCATION:Balze (FC)
CATEGORIES:MTB
END:VEVENT
END:VCALENDAR