BEGIN:VCALENDAR
VERSION:2.0
PRODID:-//Asiago 7C Bike Team - ECPv5.12.3//NONSGML v1.0//EN
CALSCALE:GREGORIAN
METHOD:PUBLISH
X-WR-CALNAME:Asiago 7C Bike Team
X-ORIGINAL-URL:https://www.asiago7cbiketeam.com
X-WR-CALDESC:Events for Asiago 7C Bike Team
REFRESH-INTERVAL;VALUE=DURATION:PT1H
X-Robots-Tag:noindex
X-PUBLISHED-TTL:PT1H
BEGIN:VTIMEZONE
TZID:Europe/Rome
BEGIN:DAYLIGHT
TZOFFSETFROM:+0100
TZOFFSETTO:+0200
TZNAME:CEST
DTSTART:20220327T010000
END:DAYLIGHT
BEGIN:STANDARD
TZOFFSETFROM:+0200
TZOFFSETTO:+0100
TZNAME:CET
DTSTART:20221030T010000
END:STANDARD
END:VTIMEZONE
BEGIN:VEVENT
DTSTART;VALUE=DATE:20220911
DTEND;VALUE=DATE:20220912
DTSTAMP:20260423T123317
CREATED:20220310T080138Z
LAST-MODIFIED:20220310T080138Z
UID:786-1662854400-1662940799@www.asiago7cbiketeam.com
SUMMARY:La Gialla
DESCRIPTION:
URL:https://www.asiago7cbiketeam.com/event/la-gialla/
LOCATION:Misano (RN)
CATEGORIES:GRAN FONDO
END:VEVENT
BEGIN:VEVENT
DTSTART;VALUE=DATE:20220911
DTEND;VALUE=DATE:20220912
DTSTAMP:20260423T123317
CREATED:20220310T080246Z
LAST-MODIFIED:20220310T080246Z
UID:789-1662854400-1662940799@www.asiago7cbiketeam.com
SUMMARY:GF Segafredo
DESCRIPTION:
URL:https://www.asiago7cbiketeam.com/event/gf-segafredo/
LOCATION:Possagno (TV)
CATEGORIES:GRAN FONDO
END:VEVENT
BEGIN:VEVENT
DTSTART;VALUE=DATE:20220911
DTEND;VALUE=DATE:20220912
DTSTAMP:20260423T123317
CREATED:20220310T080332Z
LAST-MODIFIED:20220310T080332Z
UID:792-1662854400-1662940799@www.asiago7cbiketeam.com
SUMMARY:Albenga
DESCRIPTION:
URL:https://www.asiago7cbiketeam.com/event/albenga/
LOCATION:Albenga (SV)
CATEGORIES:GRAN FONDO
END:VEVENT
BEGIN:VEVENT
DTSTART;VALUE=DATE:20220911
DTEND;VALUE=DATE:20220912
DTSTAMP:20260423T123317
CREATED:20220310T095229Z
LAST-MODIFIED:20220310T095229Z
UID:999-1662854400-1662940799@www.asiago7cbiketeam.com
SUMMARY:Mythos Primiero
DESCRIPTION:
URL:https://www.asiago7cbiketeam.com/event/mythos-primiero/
LOCATION:Fiera di Primiero (Tn)
CATEGORIES:MTB
END:VEVENT
BEGIN:VEVENT
DTSTART;VALUE=DATE:20220911
DTEND;VALUE=DATE:20220912
DTSTAMP:20260423T123317
CREATED:20220310T095324Z
LAST-MODIFIED:20220310T095324Z
UID:1001-1662854400-1662940799@www.asiago7cbiketeam.com
SUMMARY:Mx Colli Albani
DESCRIPTION:
URL:https://www.asiago7cbiketeam.com/event/mx-colli-albani-2/
LOCATION:Lariano (RM)
CATEGORIES:MTB
END:VEVENT
BEGIN:VEVENT
DTSTART;VALUE=DATE:20220911
DTEND;VALUE=DATE:20220912
DTSTAMP:20260423T123317
CREATED:20220310T095414Z
LAST-MODIFIED:20220310T095414Z
UID:1004-1662854400-1662940799@www.asiago7cbiketeam.com
SUMMARY:La Gialla Mtb
DESCRIPTION:
URL:https://www.asiago7cbiketeam.com/event/la-gialla-mtb/
LOCATION:Misano (RN)
CATEGORIES:MTB
END:VEVENT
BEGIN:VEVENT
DTSTART;VALUE=DATE:20220911
DTEND;VALUE=DATE:20220912
DTSTAMP:20260423T123317
CREATED:20220310T095506Z
LAST-MODIFIED:20220310T095506Z
UID:1006-1662854400-1662940799@www.asiago7cbiketeam.com
SUMMARY:Sassorace
DESCRIPTION:
URL:https://www.asiago7cbiketeam.com/event/sassorace/
LOCATION:Sasso Marconi (BO)
CATEGORIES:MTB
END:VEVENT
END:VCALENDAR