BEGIN:VCALENDAR
VERSION:2.0
PRODID:-//Asiago 7C Bike Team - ECPv5.12.3//NONSGML v1.0//EN
CALSCALE:GREGORIAN
METHOD:PUBLISH
X-WR-CALNAME:Asiago 7C Bike Team
X-ORIGINAL-URL:https://www.asiago7cbiketeam.com
X-WR-CALDESC:Events for Asiago 7C Bike Team
REFRESH-INTERVAL;VALUE=DURATION:PT1H
X-Robots-Tag:noindex
X-PUBLISHED-TTL:PT1H
BEGIN:VTIMEZONE
TZID:Europe/Rome
BEGIN:DAYLIGHT
TZOFFSETFROM:+0100
TZOFFSETTO:+0200
TZNAME:CEST
DTSTART:20220327T010000
END:DAYLIGHT
BEGIN:STANDARD
TZOFFSETFROM:+0200
TZOFFSETTO:+0100
TZNAME:CET
DTSTART:20221030T010000
END:STANDARD
END:VTIMEZONE
BEGIN:VEVENT
DTSTART;VALUE=DATE:20220918
DTEND;VALUE=DATE:20220919
DTSTAMP:20260423T123250
CREATED:20220310T080437Z
LAST-MODIFIED:20220310T080437Z
UID:795-1663459200-1663545599@www.asiago7cbiketeam.com
SUMMARY:Dorelan Cycling
DESCRIPTION:
URL:https://www.asiago7cbiketeam.com/event/dorelan-cycling-2/
LOCATION:Peschiera del Garda (Vr)
CATEGORIES:GRAN FONDO
END:VEVENT
BEGIN:VEVENT
DTSTART;VALUE=DATE:20220918
DTEND;VALUE=DATE:20220919
DTSTAMP:20260423T123250
CREATED:20220310T080527Z
LAST-MODIFIED:20220310T080527Z
UID:797-1663459200-1663545599@www.asiago7cbiketeam.com
SUMMARY:Gallo Nero
DESCRIPTION:
URL:https://www.asiago7cbiketeam.com/event/gallo-nero-2/
LOCATION:Radda in Chianti (Si)
CATEGORIES:GRAN FONDO
END:VEVENT
BEGIN:VEVENT
DTSTART;VALUE=DATE:20220918
DTEND;VALUE=DATE:20220919
DTSTAMP:20260423T123250
CREATED:20220310T080624Z
LAST-MODIFIED:20220310T080624Z
UID:799-1663459200-1663545599@www.asiago7cbiketeam.com
SUMMARY:GF Campania
DESCRIPTION:
URL:https://www.asiago7cbiketeam.com/event/gf-campania-2/
LOCATION:Nola (Na)
CATEGORIES:GRAN FONDO
END:VEVENT
BEGIN:VEVENT
DTSTART;VALUE=DATE:20220918
DTEND;VALUE=DATE:20220919
DTSTAMP:20260423T123250
CREATED:20220310T080746Z
LAST-MODIFIED:20220310T080746Z
UID:801-1663459200-1663545599@www.asiago7cbiketeam.com
SUMMARY:Città dell'Aquila
DESCRIPTION:
URL:https://www.asiago7cbiketeam.com/event/citta-dellaquila/
LOCATION:L’Aquila
CATEGORIES:GRAN FONDO
END:VEVENT
BEGIN:VEVENT
DTSTART;VALUE=DATE:20220918
DTEND;VALUE=DATE:20220919
DTSTAMP:20260423T123250
CREATED:20220310T095649Z
LAST-MODIFIED:20220310T095649Z
UID:1012-1663459200-1663545599@www.asiago7cbiketeam.com
SUMMARY:Rampiconero
DESCRIPTION:
URL:https://www.asiago7cbiketeam.com/event/rampiconero-2/
LOCATION:Camerano (An)
CATEGORIES:MTB
END:VEVENT
BEGIN:VEVENT
DTSTART;VALUE=DATE:20220918
DTEND;VALUE=DATE:20220919
DTSTAMP:20260423T123250
CREATED:20220310T095743Z
LAST-MODIFIED:20220310T095743Z
UID:1014-1663459200-1663545599@www.asiago7cbiketeam.com
SUMMARY:Etna Marathon
DESCRIPTION:
URL:https://www.asiago7cbiketeam.com/event/etna-marathon-2/
LOCATION:Milo (Ct)
CATEGORIES:MTB
END:VEVENT
END:VCALENDAR