BEGIN:VCALENDAR
VERSION:2.0
PRODID:-//Asiago 7C Bike Team - ECPv5.12.3//NONSGML v1.0//EN
CALSCALE:GREGORIAN
METHOD:PUBLISH
X-WR-CALNAME:Asiago 7C Bike Team
X-ORIGINAL-URL:https://www.asiago7cbiketeam.com
X-WR-CALDESC:Events for Asiago 7C Bike Team
REFRESH-INTERVAL;VALUE=DURATION:PT1H
X-Robots-Tag:noindex
X-PUBLISHED-TTL:PT1H
BEGIN:VTIMEZONE
TZID:Europe/Rome
BEGIN:DAYLIGHT
TZOFFSETFROM:+0100
TZOFFSETTO:+0200
TZNAME:CEST
DTSTART:20220327T010000
END:DAYLIGHT
BEGIN:STANDARD
TZOFFSETFROM:+0200
TZOFFSETTO:+0100
TZNAME:CET
DTSTART:20221030T010000
END:STANDARD
END:VTIMEZONE
BEGIN:VEVENT
DTSTART;VALUE=DATE:20221015
DTEND;VALUE=DATE:20221016
DTSTAMP:20260423T112149
CREATED:20220310T100247Z
LAST-MODIFIED:20220310T100247Z
UID:1028-1665792000-1665878399@www.asiago7cbiketeam.com
SUMMARY:Capoliveri Legend
DESCRIPTION:
URL:https://www.asiago7cbiketeam.com/event/capoliveri-legend-2/
LOCATION:Capoliveri (Li)-Isola d’elba
CATEGORIES:MTB
END:VEVENT
END:VCALENDAR