BEGIN:VCALENDAR
VERSION:2.0
PRODID:-//Asiago 7C Bike Team - ECPv5.12.3//NONSGML v1.0//EN
CALSCALE:GREGORIAN
METHOD:PUBLISH
X-WR-CALNAME:Asiago 7C Bike Team
X-ORIGINAL-URL:https://www.asiago7cbiketeam.com
X-WR-CALDESC:Events for Asiago 7C Bike Team
REFRESH-INTERVAL;VALUE=DURATION:PT1H
X-Robots-Tag:noindex
X-PUBLISHED-TTL:PT1H
BEGIN:VTIMEZONE
TZID:Europe/Rome
BEGIN:DAYLIGHT
TZOFFSETFROM:+0100
TZOFFSETTO:+0200
TZNAME:CEST
DTSTART:20240331T010000
END:DAYLIGHT
BEGIN:STANDARD
TZOFFSETFROM:+0200
TZOFFSETTO:+0100
TZNAME:CET
DTSTART:20241027T010000
END:STANDARD
END:VTIMEZONE
BEGIN:VEVENT
DTSTART;VALUE=DATE:20240324
DTEND;VALUE=DATE:20240325
DTSTAMP:20260422T154023
CREATED:20240307T200901Z
LAST-MODIFIED:20240307T200901Z
UID:1064-1711238400-1711324799@www.asiago7cbiketeam.com
SUMMARY:Tre Valli Bike Fun
DESCRIPTION:
URL:https://www.asiago7cbiketeam.com/event/tre-valli-bike-fun/
LOCATION:Tregnago (VR)
CATEGORIES:GRAN FONDO
END:VEVENT
BEGIN:VEVENT
DTSTART;VALUE=DATE:20240324
DTEND;VALUE=DATE:20240325
DTSTAMP:20260422T154023
CREATED:20240307T201455Z
LAST-MODIFIED:20240307T201455Z
UID:1066-1711238400-1711324799@www.asiago7cbiketeam.com
SUMMARY:Valle dei Tufi Xc Race
DESCRIPTION:
URL:https://www.asiago7cbiketeam.com/event/valle-dei-tufi-xc-race/
LOCATION:Mondolfo (Pu)
CATEGORIES:GRAN FONDO
END:VEVENT
END:VCALENDAR