BEGIN:VCALENDAR
VERSION:2.0
PRODID:-//Asiago 7C Bike Team - ECPv5.12.3//NONSGML v1.0//EN
CALSCALE:GREGORIAN
METHOD:PUBLISH
X-WR-CALNAME:Asiago 7C Bike Team
X-ORIGINAL-URL:https://www.asiago7cbiketeam.com
X-WR-CALDESC:Events for Asiago 7C Bike Team
REFRESH-INTERVAL;VALUE=DURATION:PT1H
X-Robots-Tag:noindex
X-PUBLISHED-TTL:PT1H
BEGIN:VTIMEZONE
TZID:Europe/Rome
BEGIN:DAYLIGHT
TZOFFSETFROM:+0100
TZOFFSETTO:+0200
TZNAME:CEST
DTSTART:20240331T010000
END:DAYLIGHT
BEGIN:STANDARD
TZOFFSETFROM:+0200
TZOFFSETTO:+0100
TZNAME:CET
DTSTART:20241027T010000
END:STANDARD
END:VTIMEZONE
BEGIN:VEVENT
DTSTART;VALUE=DATE:20240601
DTEND;VALUE=DATE:20240602
DTSTAMP:20260422T131257
CREATED:20240512T175957Z
LAST-MODIFIED:20240512T175957Z
UID:1357-1717200000-1717286399@www.asiago7cbiketeam.com
SUMMARY:Geo Gravel Tuscany
DESCRIPTION:
URL:https://www.asiago7cbiketeam.com/event/geo-gravel-tuscany/
CATEGORIES:GRAN FONDO
END:VEVENT
BEGIN:VEVENT
DTSTART;VALUE=DATE:20240602
DTEND;VALUE=DATE:20240603
DTSTAMP:20260422T131257
CREATED:20240313T153413Z
LAST-MODIFIED:20240313T153413Z
UID:1156-1717286400-1717372799@www.asiago7cbiketeam.com
SUMMARY:il carpegna mi basta
DESCRIPTION:
URL:https://www.asiago7cbiketeam.com/event/il-carpegna-mi-basta-3/
LOCATION:Carpegna (PU)
CATEGORIES:GRAN FONDO
END:VEVENT
BEGIN:VEVENT
DTSTART;VALUE=DATE:20240602
DTEND;VALUE=DATE:20240603
DTSTAMP:20260422T131257
CREATED:20240313T153559Z
LAST-MODIFIED:20240313T153559Z
UID:1158-1717286400-1717372799@www.asiago7cbiketeam.com
SUMMARY:Marathon degli stazzi
DESCRIPTION:
URL:https://www.asiago7cbiketeam.com/event/marathon-degli-stazzi-2/
LOCATION:Scanno (AQ)
CATEGORIES:GRAN FONDO
END:VEVENT
BEGIN:VEVENT
DTSTART;VALUE=DATE:20240602
DTEND;VALUE=DATE:20240603
DTSTAMP:20260422T131257
CREATED:20240313T153819Z
LAST-MODIFIED:20240313T153819Z
UID:1161-1717286400-1717372799@www.asiago7cbiketeam.com
SUMMARY:Monselice in Rosa
DESCRIPTION:
URL:https://www.asiago7cbiketeam.com/event/monselice-in-rosa-2/
LOCATION:Monselice (PD)
CATEGORIES:GRAN FONDO
END:VEVENT
BEGIN:VEVENT
DTSTART;VALUE=DATE:20240602
DTEND;VALUE=DATE:20240603
DTSTAMP:20260422T131257
CREATED:20240313T153951Z
LAST-MODIFIED:20240313T153951Z
UID:1164-1717286400-1717372799@www.asiago7cbiketeam.com
SUMMARY:Trinacria Race
DESCRIPTION:
URL:https://www.asiago7cbiketeam.com/event/trinacria-race-3/
LOCATION:leojanni
CATEGORIES:GRAN FONDO
END:VEVENT
BEGIN:VEVENT
DTSTART;VALUE=DATE:20240602
DTEND;VALUE=DATE:20240603
DTSTAMP:20260422T131257
CREATED:20240512T180103Z
LAST-MODIFIED:20240512T180103Z
UID:1359-1717286400-1717372799@www.asiago7cbiketeam.com
SUMMARY:Dieci Colli-Arrow
DESCRIPTION:
URL:https://www.asiago7cbiketeam.com/event/dieci-colli-arrow/
LOCATION:Bologna
CATEGORIES:GRAN FONDO
END:VEVENT
BEGIN:VEVENT
DTSTART;VALUE=DATE:20240602
DTEND;VALUE=DATE:20240603
DTSTAMP:20260422T131257
CREATED:20240512T180209Z
LAST-MODIFIED:20240512T180209Z
UID:1361-1717286400-1717372799@www.asiago7cbiketeam.com
SUMMARY:GF del Vulture
DESCRIPTION:
URL:https://www.asiago7cbiketeam.com/event/gf-del-vulture/
CATEGORIES:GRAN FONDO
END:VEVENT
BEGIN:VEVENT
DTSTART;VALUE=DATE:20240602
DTEND;VALUE=DATE:20240603
DTSTAMP:20260422T131257
CREATED:20240512T180303Z
LAST-MODIFIED:20240512T180318Z
UID:1363-1717286400-1717372799@www.asiago7cbiketeam.com
SUMMARY:La Stelvio Santini
DESCRIPTION:
URL:https://www.asiago7cbiketeam.com/event/la-stelvio-santini/
LOCATION:Bormio (So)
CATEGORIES:GRAN FONDO
END:VEVENT
BEGIN:VEVENT
DTSTART;VALUE=DATE:20240602
DTEND;VALUE=DATE:20240603
DTSTAMP:20260422T131257
CREATED:20240512T180439Z
LAST-MODIFIED:20240512T180439Z
UID:1365-1717286400-1717372799@www.asiago7cbiketeam.com
SUMMARY:GF Penice-Ninicar
DESCRIPTION:
URL:https://www.asiago7cbiketeam.com/event/gf-penice-ninicar/
CATEGORIES:GRAN FONDO
END:VEVENT
BEGIN:VEVENT
DTSTART;VALUE=DATE:20240602
DTEND;VALUE=DATE:20240603
DTSTAMP:20260422T131257
CREATED:20240512T180623Z
LAST-MODIFIED:20240512T180623Z
UID:1367-1717286400-1717372799@www.asiago7cbiketeam.com
SUMMARY:Top Dolomites
DESCRIPTION:
URL:https://www.asiago7cbiketeam.com/event/top-dolomites-3/
LOCATION:Pinzolo (Tn)
CATEGORIES:GRAN FONDO
END:VEVENT
BEGIN:VEVENT
DTSTART;VALUE=DATE:20240607
DTEND;VALUE=DATE:20240608
DTSTAMP:20260422T131257
CREATED:20240512T180952Z
LAST-MODIFIED:20240512T180952Z
UID:1375-1717718400-1717804799@www.asiago7cbiketeam.com
SUMMARY:24 Ore Castelli
DESCRIPTION:
URL:https://www.asiago7cbiketeam.com/event/24-ore-castelli/
LOCATION:Feltre (Bl)
CATEGORIES:GRAN FONDO
END:VEVENT
BEGIN:VEVENT
DTSTART;VALUE=DATE:20240608
DTEND;VALUE=DATE:20240609
DTSTAMP:20260422T131257
CREATED:20240512T180735Z
LAST-MODIFIED:20240512T180735Z
UID:1369-1717804800-1717891199@www.asiago7cbiketeam.com
SUMMARY:Tuscany Bike Extreme
DESCRIPTION:
URL:https://www.asiago7cbiketeam.com/event/tuscany-bike-extreme/
LOCATION:Pescia (Pt)
CATEGORIES:GRAN FONDO
END:VEVENT
BEGIN:VEVENT
DTSTART;VALUE=DATE:20240608
DTEND;VALUE=DATE:20240609
DTSTAMP:20260422T131257
CREATED:20240512T180850Z
LAST-MODIFIED:20240512T180850Z
UID:1372-1717804800-1717891199@www.asiago7cbiketeam.com
SUMMARY:Nova Eroica G. Sasso
DESCRIPTION:
URL:https://www.asiago7cbiketeam.com/event/nova-eroica-g-sasso/
LOCATION:Castel del Monte (Aq)
CATEGORIES:GRAN FONDO
END:VEVENT
BEGIN:VEVENT
DTSTART;VALUE=DATE:20240609
DTEND;VALUE=DATE:20240610
DTSTAMP:20260422T131257
CREATED:20240313T154141Z
LAST-MODIFIED:20240313T154141Z
UID:1167-1717891200-1717977599@www.asiago7cbiketeam.com
SUMMARY:100Km dei Forti
DESCRIPTION:
URL:https://www.asiago7cbiketeam.com/event/100km-dei-forti/
LOCATION:Lavarone (Tn)
CATEGORIES:GRAN FONDO
END:VEVENT
BEGIN:VEVENT
DTSTART;VALUE=DATE:20240609
DTEND;VALUE=DATE:20240610
DTSTAMP:20260422T131257
CREATED:20240512T181108Z
LAST-MODIFIED:20240512T181108Z
UID:1377-1717891200-1717977599@www.asiago7cbiketeam.com
SUMMARY:Lapierre-Ventoux
DESCRIPTION:
URL:https://www.asiago7cbiketeam.com/event/lapierre-ventoux-2/
LOCATION:Vaison la Roimaine (FRA)
CATEGORIES:GRAN FONDO
END:VEVENT
BEGIN:VEVENT
DTSTART;VALUE=DATE:20240609
DTEND;VALUE=DATE:20240610
DTSTAMP:20260422T131257
CREATED:20240512T181202Z
LAST-MODIFIED:20240512T181202Z
UID:1380-1717891200-1717977599@www.asiago7cbiketeam.com
SUMMARY:Milano-Sanremo
DESCRIPTION:
URL:https://www.asiago7cbiketeam.com/event/milano-sanremo-3/
LOCATION:Milano
CATEGORIES:GRAN FONDO
END:VEVENT
BEGIN:VEVENT
DTSTART;VALUE=DATE:20240609
DTEND;VALUE=DATE:20240610
DTSTAMP:20260422T131257
CREATED:20240512T181315Z
LAST-MODIFIED:20240512T181315Z
UID:1382-1717891200-1717977599@www.asiago7cbiketeam.com
SUMMARY:La MontBlanc
DESCRIPTION:
URL:https://www.asiago7cbiketeam.com/event/la-montblanc-3/
LOCATION:Courmayeur (Ao)
CATEGORIES:GRAN FONDO
END:VEVENT
BEGIN:VEVENT
DTSTART;VALUE=DATE:20240609
DTEND;VALUE=DATE:20240610
DTSTAMP:20260422T131257
CREATED:20240512T181416Z
LAST-MODIFIED:20240512T181416Z
UID:1384-1717891200-1717977599@www.asiago7cbiketeam.com
SUMMARY:Marathon Franjia
DESCRIPTION:
URL:https://www.asiago7cbiketeam.com/event/marathon-franjia/
LOCATION:Lubiana (SLO)
CATEGORIES:GRAN FONDO
END:VEVENT
BEGIN:VEVENT
DTSTART;VALUE=DATE:20240609
DTEND;VALUE=DATE:20240610
DTSTAMP:20260422T131257
CREATED:20240512T181520Z
LAST-MODIFIED:20240512T181520Z
UID:1387-1717891200-1717977599@www.asiago7cbiketeam.com
SUMMARY:Giro Dolomiti Lienz
DESCRIPTION:
URL:https://www.asiago7cbiketeam.com/event/giro-dolomiti-lienz/
LOCATION:Lienz (AUT)
CATEGORIES:GRAN FONDO
END:VEVENT
BEGIN:VEVENT
DTSTART;VALUE=DATE:20240616
DTEND;VALUE=DATE:20240617
DTSTAMP:20260422T131257
CREATED:20240512T181633Z
LAST-MODIFIED:20240512T181633Z
UID:1390-1718496000-1718582399@www.asiago7cbiketeam.com
SUMMARY:GFNY Vaujany Huez
DESCRIPTION:
URL:https://www.asiago7cbiketeam.com/event/gfny-vaujany-huez/
LOCATION:Vaujany (FRA)
CATEGORIES:GRAN FONDO
END:VEVENT
BEGIN:VEVENT
DTSTART;VALUE=DATE:20240616
DTEND;VALUE=DATE:20240617
DTSTAMP:20260422T131257
CREATED:20240512T181747Z
LAST-MODIFIED:20240512T181747Z
UID:1393-1718496000-1718582399@www.asiago7cbiketeam.com
SUMMARY:Berghem #Molamia
DESCRIPTION:
URL:https://www.asiago7cbiketeam.com/event/berghem-molamia-3/
LOCATION:Gazzaniga (Bg)
CATEGORIES:GRAN FONDO
END:VEVENT
BEGIN:VEVENT
DTSTART;VALUE=DATE:20240616
DTEND;VALUE=DATE:20240617
DTSTAMP:20260422T131257
CREATED:20240512T181955Z
LAST-MODIFIED:20240512T181955Z
UID:1395-1718496000-1718582399@www.asiago7cbiketeam.com
SUMMARY:Edita Pucinskaite
DESCRIPTION:
URL:https://www.asiago7cbiketeam.com/event/edita-pucinskaite-3/
LOCATION:Pistoia
CATEGORIES:GRAN FONDO
END:VEVENT
BEGIN:VEVENT
DTSTART;VALUE=DATE:20240616
DTEND;VALUE=DATE:20240617
DTSTAMP:20260422T131257
CREATED:20240512T182052Z
LAST-MODIFIED:20240512T182052Z
UID:1397-1718496000-1718582399@www.asiago7cbiketeam.com
SUMMARY:Raffaello Gravel
DESCRIPTION:
URL:https://www.asiago7cbiketeam.com/event/raffaello-gravel/
LOCATION:Urbino (PU)
CATEGORIES:GRAN FONDO
END:VEVENT
BEGIN:VEVENT
DTSTART;VALUE=DATE:20240616
DTEND;VALUE=DATE:20240617
DTSTAMP:20260422T131257
CREATED:20240512T182206Z
LAST-MODIFIED:20240512T182206Z
UID:1399-1718496000-1718582399@www.asiago7cbiketeam.com
SUMMARY:Valli Monregalesi
DESCRIPTION:
URL:https://www.asiago7cbiketeam.com/event/valli-monregalesi-3/
LOCATION:Mondovì (Cn)
CATEGORIES:GRAN FONDO
END:VEVENT
BEGIN:VEVENT
DTSTART;VALUE=DATE:20240616
DTEND;VALUE=DATE:20240617
DTSTAMP:20260422T131257
CREATED:20240512T182312Z
LAST-MODIFIED:20240512T182312Z
UID:1401-1718496000-1718582399@www.asiago7cbiketeam.com
SUMMARY:Sportful Dolomiti
DESCRIPTION:
URL:https://www.asiago7cbiketeam.com/event/sportful-dolomiti-3/
LOCATION:Feltre (Bl)
CATEGORIES:GRAN FONDO
END:VEVENT
BEGIN:VEVENT
DTSTART;VALUE=DATE:20240622
DTEND;VALUE=DATE:20240623
DTSTAMP:20260422T131257
CREATED:20240512T182408Z
LAST-MODIFIED:20240512T182408Z
UID:1403-1719014400-1719100799@www.asiago7cbiketeam.com
SUMMARY:Nova Eroica
DESCRIPTION:
URL:https://www.asiago7cbiketeam.com/event/nova-eroica-3/
LOCATION:Buonconvento (Si)
CATEGORIES:GRAN FONDO
END:VEVENT
BEGIN:VEVENT
DTSTART;VALUE=DATE:20240623
DTEND;VALUE=DATE:20240624
DTSTAMP:20260422T131257
CREATED:20240512T182528Z
LAST-MODIFIED:20240512T182528Z
UID:1405-1719100800-1719187199@www.asiago7cbiketeam.com
SUMMARY:Terre dei Varano
DESCRIPTION:
URL:https://www.asiago7cbiketeam.com/event/terre-dei-varano-5/
LOCATION:Camerino (Mc)
CATEGORIES:GRAN FONDO
END:VEVENT
BEGIN:VEVENT
DTSTART;VALUE=DATE:20240623
DTEND;VALUE=DATE:20240624
DTSTAMP:20260422T131257
CREATED:20240512T182631Z
LAST-MODIFIED:20240512T182631Z
UID:1407-1719100800-1719187199@www.asiago7cbiketeam.com
SUMMARY:GFNY Tourmalet
DESCRIPTION:
URL:https://www.asiago7cbiketeam.com/event/gfny-tourmalet/
LOCATION:Lourdes (FRA)
CATEGORIES:GRAN FONDO
END:VEVENT
BEGIN:VEVENT
DTSTART;VALUE=DATE:20240623
DTEND;VALUE=DATE:20240624
DTSTAMP:20260422T131257
CREATED:20240512T182726Z
LAST-MODIFIED:20240512T182726Z
UID:1410-1719100800-1719187199@www.asiago7cbiketeam.com
SUMMARY:Sestiere-Finestre
DESCRIPTION:
URL:https://www.asiago7cbiketeam.com/event/sestiere-finestre/
LOCATION:Sestriere (To)
CATEGORIES:GRAN FONDO
END:VEVENT
BEGIN:VEVENT
DTSTART;VALUE=DATE:20240623
DTEND;VALUE=DATE:20240624
DTSTAMP:20260422T131257
CREATED:20240512T182827Z
LAST-MODIFIED:20240512T182827Z
UID:1412-1719100800-1719187199@www.asiago7cbiketeam.com
SUMMARY:GF del Mugello
DESCRIPTION:
URL:https://www.asiago7cbiketeam.com/event/gf-del-mugello-2/
LOCATION:Scarpiera (Fi)
CATEGORIES:GRAN FONDO
END:VEVENT
END:VCALENDAR