BEGIN:VCALENDAR
VERSION:2.0
PRODID:-//Asiago 7C Bike Team - ECPv5.12.3//NONSGML v1.0//EN
CALSCALE:GREGORIAN
METHOD:PUBLISH
X-WR-CALNAME:Asiago 7C Bike Team
X-ORIGINAL-URL:https://www.asiago7cbiketeam.com
X-WR-CALDESC:Events for Asiago 7C Bike Team
REFRESH-INTERVAL;VALUE=DURATION:PT1H
X-Robots-Tag:noindex
X-PUBLISHED-TTL:PT1H
BEGIN:VTIMEZONE
TZID:Europe/Rome
BEGIN:DAYLIGHT
TZOFFSETFROM:+0100
TZOFFSETTO:+0200
TZNAME:CEST
DTSTART:20240331T010000
END:DAYLIGHT
BEGIN:STANDARD
TZOFFSETFROM:+0200
TZOFFSETTO:+0100
TZNAME:CET
DTSTART:20241027T010000
END:STANDARD
END:VTIMEZONE
BEGIN:VEVENT
DTSTART;VALUE=DATE:20240707
DTEND;VALUE=DATE:20240708
DTSTAMP:20260422T115137
CREATED:20240512T183504Z
LAST-MODIFIED:20240512T183504Z
UID:1426-1720310400-1720396799@www.asiago7cbiketeam.com
SUMMARY:La Fabio Casartelli
DESCRIPTION:
URL:https://www.asiago7cbiketeam.com/event/la-fabio-casartelli-2/
LOCATION:Forlì (Fc)
CATEGORIES:GRAN FONDO
END:VEVENT
BEGIN:VEVENT
DTSTART;VALUE=DATE:20240707
DTEND;VALUE=DATE:20240708
DTSTAMP:20260422T115137
CREATED:20240512T183546Z
LAST-MODIFIED:20240512T183546Z
UID:1429-1720310400-1720396799@www.asiago7cbiketeam.com
SUMMARY:Maratona Dolomiti
DESCRIPTION:
URL:https://www.asiago7cbiketeam.com/event/maratona-dolomiti-2/
LOCATION:Corvara (Bz)
CATEGORIES:GRAN FONDO
END:VEVENT
BEGIN:VEVENT
DTSTART;VALUE=DATE:20240713
DTEND;VALUE=DATE:20240714
DTSTAMP:20260422T115137
CREATED:20240512T183652Z
LAST-MODIFIED:20240512T183652Z
UID:1431-1720828800-1720915199@www.asiago7cbiketeam.com
SUMMARY:Sportful D. Gravel
DESCRIPTION:
URL:https://www.asiago7cbiketeam.com/event/sportful-d-gravel/
LOCATION:Feltre (Bl)
CATEGORIES:GRAN FONDO
END:VEVENT
BEGIN:VEVENT
DTSTART;VALUE=DATE:20240714
DTEND;VALUE=DATE:20240715
DTSTAMP:20260422T115137
CREATED:20240512T183755Z
LAST-MODIFIED:20240512T183755Z
UID:1433-1720915200-1721001599@www.asiago7cbiketeam.com
SUMMARY:Re Stelvio
DESCRIPTION:
URL:https://www.asiago7cbiketeam.com/event/re-stelvio-2/
LOCATION:Bormio (So)
CATEGORIES:GRAN FONDO
END:VEVENT
BEGIN:VEVENT
DTSTART;VALUE=DATE:20240714
DTEND;VALUE=DATE:20240715
DTSTAMP:20260422T115137
CREATED:20240512T183957Z
LAST-MODIFIED:20240512T183957Z
UID:1438-1720915200-1721001599@www.asiago7cbiketeam.com
SUMMARY:Città di Pontecorvo
DESCRIPTION:
URL:https://www.asiago7cbiketeam.com/event/citta-di-pontecorvo/
LOCATION:Pontecorvo (FR)
CATEGORIES:GRAN FONDO
END:VEVENT
BEGIN:VEVENT
DTSTART;VALUE=DATE:20240714
DTEND;VALUE=DATE:20240715
DTSTAMP:20260422T115137
CREATED:20240512T184053Z
LAST-MODIFIED:20240512T184053Z
UID:1441-1720915200-1721001599@www.asiago7cbiketeam.com
SUMMARY:Monte Sibillini
DESCRIPTION:
URL:https://www.asiago7cbiketeam.com/event/monte-sibillini/
LOCATION:Caldarola (MC)
CATEGORIES:GRAN FONDO
END:VEVENT
BEGIN:VEVENT
DTSTART;VALUE=DATE:20240714
DTEND;VALUE=DATE:20240715
DTSTAMP:20260422T115137
CREATED:20240512T184150Z
LAST-MODIFIED:20240512T184150Z
UID:1443-1720915200-1721001599@www.asiago7cbiketeam.com
SUMMARY:San Gottardo
DESCRIPTION:
URL:https://www.asiago7cbiketeam.com/event/san-gottardo-3/
LOCATION:Ambrì (SUI)
CATEGORIES:GRAN FONDO
END:VEVENT
BEGIN:VEVENT
DTSTART;VALUE=DATE:20240728
DTEND;VALUE=DATE:20240729
DTSTAMP:20260422T115137
CREATED:20240512T184257Z
LAST-MODIFIED:20240512T184257Z
UID:1445-1722124800-1722211199@www.asiago7cbiketeam.com
SUMMARY:GF dei Templari
DESCRIPTION:
URL:https://www.asiago7cbiketeam.com/event/gf-dei-templari-2/
LOCATION:Pordenone
CATEGORIES:GRAN FONDO
END:VEVENT
END:VCALENDAR