BEGIN:VCALENDAR
VERSION:2.0
PRODID:-//Asiago 7C Bike Team - ECPv5.12.3//NONSGML v1.0//EN
CALSCALE:GREGORIAN
METHOD:PUBLISH
X-WR-CALNAME:Asiago 7C Bike Team
X-ORIGINAL-URL:https://www.asiago7cbiketeam.com
X-WR-CALDESC:Events for Asiago 7C Bike Team
REFRESH-INTERVAL;VALUE=DURATION:PT1H
X-Robots-Tag:noindex
X-PUBLISHED-TTL:PT1H
BEGIN:VTIMEZONE
TZID:Europe/Rome
BEGIN:DAYLIGHT
TZOFFSETFROM:+0100
TZOFFSETTO:+0200
TZNAME:CEST
DTSTART:20210328T010000
END:DAYLIGHT
BEGIN:STANDARD
TZOFFSETFROM:+0200
TZOFFSETTO:+0100
TZNAME:CET
DTSTART:20211031T010000
END:STANDARD
END:VTIMEZONE
BEGIN:VEVENT
DTSTART;VALUE=DATE:20210410
DTEND;VALUE=DATE:20210411
DTSTAMP:20260424T173709
CREATED:20210722T061436Z
LAST-MODIFIED:20210722T061436Z
UID:61-1618012800-1618099199@www.asiago7cbiketeam.com
SUMMARY:El Diablo Cycling
DESCRIPTION:
URL:https://www.asiago7cbiketeam.com/event/el-diablo-cycling/
LOCATION:Porto Sant’Elpidio (FM)
CATEGORIES:GRAN FONDO
END:VEVENT
BEGIN:VEVENT
DTSTART;VALUE=DATE:20210411
DTEND;VALUE=DATE:20210412
DTSTAMP:20260424T173709
CREATED:20210722T061610Z
LAST-MODIFIED:20210722T061610Z
UID:64-1618099200-1618185599@www.asiago7cbiketeam.com
SUMMARY:Ceramica
DESCRIPTION:
URL:https://www.asiago7cbiketeam.com/event/ceramica/
LOCATION:S. Stefano di Camastra (ME)
CATEGORIES:GRAN FONDO
END:VEVENT
BEGIN:VEVENT
DTSTART;VALUE=DATE:20210411
DTEND;VALUE=DATE:20210412
DTSTAMP:20260424T173709
CREATED:20210722T061712Z
LAST-MODIFIED:20210722T061712Z
UID:67-1618099200-1618185599@www.asiago7cbiketeam.com
SUMMARY:Andora
DESCRIPTION:
URL:https://www.asiago7cbiketeam.com/event/andora/
LOCATION:Andora (SV)
CATEGORIES:GRAN FONDO
END:VEVENT
BEGIN:VEVENT
DTSTART;VALUE=DATE:20210411
DTEND;VALUE=DATE:20210412
DTSTAMP:20260424T173709
CREATED:20210722T061825Z
LAST-MODIFIED:20210722T061825Z
UID:70-1618099200-1618185599@www.asiago7cbiketeam.com
SUMMARY:Colnago Cycling
DESCRIPTION:
URL:https://www.asiago7cbiketeam.com/event/colnago-cycling/
LOCATION:Desenzano del G. (VR)
CATEGORIES:GRAN FONDO
END:VEVENT
BEGIN:VEVENT
DTSTART;VALUE=DATE:20210418
DTEND;VALUE=DATE:20210419
DTSTAMP:20260424T173709
CREATED:20210722T061914Z
LAST-MODIFIED:20210722T061914Z
UID:73-1618704000-1618790399@www.asiago7cbiketeam.com
SUMMARY:GF delle Madonie
DESCRIPTION:
URL:https://www.asiago7cbiketeam.com/event/gf-delle-madonie/
LOCATION:Cefalù (PL)
CATEGORIES:GRAN FONDO
END:VEVENT
BEGIN:VEVENT
DTSTART;VALUE=DATE:20210418
DTEND;VALUE=DATE:20210419
DTSTAMP:20260424T173709
CREATED:20210722T062009Z
LAST-MODIFIED:20210722T062009Z
UID:76-1618704000-1618790399@www.asiago7cbiketeam.com
SUMMARY:Via del Sale
DESCRIPTION:
URL:https://www.asiago7cbiketeam.com/event/via-del-sale/
LOCATION:Cervia (RA)
CATEGORIES:GRAN FONDO
END:VEVENT
BEGIN:VEVENT
DTSTART;VALUE=DATE:20210418
DTEND;VALUE=DATE:20210419
DTSTAMP:20260424T173709
CREATED:20210722T062057Z
LAST-MODIFIED:20210722T062137Z
UID:79-1618704000-1618790399@www.asiago7cbiketeam.com
SUMMARY:Avesani Luca
DESCRIPTION:
URL:https://www.asiago7cbiketeam.com/event/avesani-luca/
LOCATION:Verona
CATEGORIES:GRAN FONDO
END:VEVENT
BEGIN:VEVENT
DTSTART;VALUE=DATE:20210418
DTEND;VALUE=DATE:20210419
DTSTAMP:20260424T173709
CREATED:20210722T062227Z
LAST-MODIFIED:20210722T062227Z
UID:82-1618704000-1618790399@www.asiago7cbiketeam.com
SUMMARY:Diano Marina
DESCRIPTION:
URL:https://www.asiago7cbiketeam.com/event/diano-marina/
LOCATION:Diano Marina (IM)
CATEGORIES:GRAN FONDO
END:VEVENT
BEGIN:VEVENT
DTSTART;VALUE=DATE:20210423
DTEND;VALUE=DATE:20210424
DTSTAMP:20260424T173709
CREATED:20210722T062332Z
LAST-MODIFIED:20210722T062332Z
UID:85-1619136000-1619222399@www.asiago7cbiketeam.com
SUMMARY:Ganten Chia Sardinia
DESCRIPTION:
URL:https://www.asiago7cbiketeam.com/event/ganten-chia-sardinia/
LOCATION:Chia (SU)
CATEGORIES:GRAN FONDO
END:VEVENT
BEGIN:VEVENT
DTSTART;VALUE=DATE:20210425
DTEND;VALUE=DATE:20210426
DTSTAMP:20260424T173709
CREATED:20210722T062515Z
LAST-MODIFIED:20210722T062515Z
UID:88-1619308800-1619395199@www.asiago7cbiketeam.com
SUMMARY:Le Strade Rosa
DESCRIPTION:
URL:https://www.asiago7cbiketeam.com/event/le-strade-rosa/
LOCATION:Castelnuovo di Farfa (RI)
CATEGORIES:GRAN FONDO
END:VEVENT
BEGIN:VEVENT
DTSTART;VALUE=DATE:20210425
DTEND;VALUE=DATE:20210426
DTSTAMP:20260424T173709
CREATED:20210722T062614Z
LAST-MODIFIED:20210722T062614Z
UID:91-1619308800-1619395199@www.asiago7cbiketeam.com
SUMMARY:Dieci Colli-Basso
DESCRIPTION:
URL:https://www.asiago7cbiketeam.com/event/dieci-colli-basso/
LOCATION:Bologna
CATEGORIES:GRAN FONDO
END:VEVENT
BEGIN:VEVENT
DTSTART;VALUE=DATE:20210425
DTEND;VALUE=DATE:20210426
DTSTAMP:20260424T173709
CREATED:20210722T062705Z
LAST-MODIFIED:20210722T062705Z
UID:94-1619308800-1619395199@www.asiago7cbiketeam.com
SUMMARY:GF Sardegna
DESCRIPTION:
URL:https://www.asiago7cbiketeam.com/event/gf-sardegna/
LOCATION:Alghero (SS)
CATEGORIES:GRAN FONDO
END:VEVENT
BEGIN:VEVENT
DTSTART;VALUE=DATE:20210425
DTEND;VALUE=DATE:20210426
DTSTAMP:20260424T173709
CREATED:20210722T062815Z
LAST-MODIFIED:20210722T062815Z
UID:97-1619308800-1619395199@www.asiago7cbiketeam.com
SUMMARY:MF Primavera
DESCRIPTION:
URL:https://www.asiago7cbiketeam.com/event/mf-primavera/
LOCATION:Ariano Irpino (AV)
CATEGORIES:GRAN FONDO
END:VEVENT
BEGIN:VEVENT
DTSTART;VALUE=DATE:20210425
DTEND;VALUE=DATE:20210426
DTSTAMP:20260424T173709
CREATED:20210722T062915Z
LAST-MODIFIED:20210722T062915Z
UID:100-1619308800-1619395199@www.asiago7cbiketeam.com
SUMMARY:Bra Bra-Specialized
DESCRIPTION:
URL:https://www.asiago7cbiketeam.com/event/bra-bra-specialized/
LOCATION:Bra – Loc. Pollenzo (CN)
CATEGORIES:GRAN FONDO
END:VEVENT
BEGIN:VEVENT
DTSTART;VALUE=DATE:20210502
DTEND;VALUE=DATE:20210503
DTSTAMP:20260424T173709
CREATED:20210722T063002Z
LAST-MODIFIED:20210722T063002Z
UID:103-1619913600-1619999999@www.asiago7cbiketeam.com
SUMMARY:Liotto - Vicenza
DESCRIPTION:
URL:https://www.asiago7cbiketeam.com/event/liotto-vicenza/
LOCATION:Vicenza
CATEGORIES:GRAN FONDO
END:VEVENT
BEGIN:VEVENT
DTSTART;VALUE=DATE:20210502
DTEND;VALUE=DATE:20210503
DTSTAMP:20260424T173709
CREATED:20210722T063043Z
LAST-MODIFIED:20210722T063043Z
UID:106-1619913600-1619999999@www.asiago7cbiketeam.com
SUMMARY:Torino
DESCRIPTION:
URL:https://www.asiago7cbiketeam.com/event/torino/
LOCATION:Torino
CATEGORIES:GRAN FONDO
END:VEVENT
BEGIN:VEVENT
DTSTART;VALUE=DATE:20210509
DTEND;VALUE=DATE:20210510
DTSTAMP:20260424T173709
CREATED:20210722T063318Z
LAST-MODIFIED:20210722T063318Z
UID:112-1620518400-1620604799@www.asiago7cbiketeam.com
SUMMARY:Blockhaus Marathon
DESCRIPTION:
URL:https://www.asiago7cbiketeam.com/event/blockhaus-marathon/
LOCATION:Sulmona (AQ)
CATEGORIES:GRAN FONDO
END:VEVENT
BEGIN:VEVENT
DTSTART;VALUE=DATE:20210509
DTEND;VALUE=DATE:20210510
DTSTAMP:20260424T173709
CREATED:20210722T063409Z
LAST-MODIFIED:20210722T063409Z
UID:115-1620518400-1620604799@www.asiago7cbiketeam.com
SUMMARY:Gimondi-Bianchi
DESCRIPTION:
URL:https://www.asiago7cbiketeam.com/event/gimondi-bianchi/
LOCATION:Bergamo
CATEGORIES:GRAN FONDO
END:VEVENT
BEGIN:VEVENT
DTSTART;TZID=Europe/Rome:20210509T080000
DTEND;TZID=Europe/Rome:20210509T170000
DTSTAMP:20260424T173709
CREATED:20210722T063202Z
LAST-MODIFIED:20210722T063202Z
UID:109-1620547200-1620579600@www.asiago7cbiketeam.com
SUMMARY:GF del Golfo
DESCRIPTION:
URL:https://www.asiago7cbiketeam.com/event/gf-del-golfo/
LOCATION:Giardinello (PA)
CATEGORIES:GRAN FONDO
END:VEVENT
BEGIN:VEVENT
DTSTART;VALUE=DATE:20210516
DTEND;VALUE=DATE:20210517
DTSTAMP:20260424T173709
CREATED:20210722T063502Z
LAST-MODIFIED:20210722T063502Z
UID:118-1621123200-1621209599@www.asiago7cbiketeam.com
SUMMARY:Squali-Trek
DESCRIPTION:
URL:https://www.asiago7cbiketeam.com/event/squali-trek/
LOCATION:Cattolica (RN)
CATEGORIES:GRAN FONDO
END:VEVENT
BEGIN:VEVENT
DTSTART;VALUE=DATE:20210516
DTEND;VALUE=DATE:20210517
DTSTAMP:20260424T173709
CREATED:20210722T063639Z
LAST-MODIFIED:20210722T063726Z
UID:121-1621123200-1621209599@www.asiago7cbiketeam.com
SUMMARY:Mangia e Bevi Vercelli
DESCRIPTION:
URL:https://www.asiago7cbiketeam.com/event/mangia-e-bevi-vercelli/
LOCATION:Vercelli
CATEGORIES:GRAN FONDO
END:VEVENT
BEGIN:VEVENT
DTSTART;VALUE=DATE:20210516
DTEND;VALUE=DATE:20210517
DTSTAMP:20260424T173709
CREATED:20210722T063814Z
LAST-MODIFIED:20210722T063814Z
UID:124-1621123200-1621209599@www.asiago7cbiketeam.com
SUMMARY:Corsa per Haiti
DESCRIPTION:
URL:https://www.asiago7cbiketeam.com/event/corsa-per-haiti/
LOCATION:Cividale del Friuli (UD)
CATEGORIES:GRAN FONDO
END:VEVENT
BEGIN:VEVENT
DTSTART;VALUE=DATE:20210516
DTEND;VALUE=DATE:20210517
DTSTAMP:20260424T173709
CREATED:20210722T063907Z
LAST-MODIFIED:20210722T063907Z
UID:127-1621123200-1621209599@www.asiago7cbiketeam.com
SUMMARY:Ceriale - El Diablo
DESCRIPTION:
URL:https://www.asiago7cbiketeam.com/event/ceriale-el-diablo/
LOCATION:Ceriale (SV)
CATEGORIES:GRAN FONDO
END:VEVENT
BEGIN:VEVENT
DTSTART;VALUE=DATE:20210523
DTEND;VALUE=DATE:20210524
DTSTAMP:20260424T173709
CREATED:20210722T085440Z
LAST-MODIFIED:20210722T085440Z
UID:130-1621728000-1621814399@www.asiago7cbiketeam.com
SUMMARY:Nove Colli
DESCRIPTION:
URL:https://www.asiago7cbiketeam.com/event/nove-colli/
LOCATION:Cesenatico (FC)
CATEGORIES:GRAN FONDO
END:VEVENT
BEGIN:VEVENT
DTSTART;VALUE=DATE:20210523
DTEND;VALUE=DATE:20210524
DTSTAMP:20260424T173709
CREATED:20210722T085755Z
LAST-MODIFIED:20210722T085755Z
UID:133-1621728000-1621814399@www.asiago7cbiketeam.com
SUMMARY:Why Sport
DESCRIPTION:
URL:https://www.asiago7cbiketeam.com/event/why-sport/
LOCATION:Valdagno (VI)
CATEGORIES:GRAN FONDO
END:VEVENT
BEGIN:VEVENT
DTSTART;VALUE=DATE:20210530
DTEND;VALUE=DATE:20210531
DTSTAMP:20260424T173709
CREATED:20210722T092943Z
LAST-MODIFIED:20210722T092943Z
UID:136-1622332800-1622419199@www.asiago7cbiketeam.com
SUMMARY:Marcialonga-Craft
DESCRIPTION:
URL:https://www.asiago7cbiketeam.com/event/marcialonga-craft/
LOCATION:Predazzo(Tn)
CATEGORIES:GRAN FONDO
END:VEVENT
BEGIN:VEVENT
DTSTART;TZID=Europe/Rome:20210530T080000
DTEND;TZID=Europe/Rome:20210530T170000
DTSTAMP:20260424T173709
CREATED:20210722T093219Z
LAST-MODIFIED:20210722T093219Z
UID:139-1622361600-1622394000@www.asiago7cbiketeam.com
SUMMARY:Valli Monregalesi
DESCRIPTION:
URL:https://www.asiago7cbiketeam.com/event/valli-monregalesi/
LOCATION:Mondovì (Cn)
CATEGORIES:GRAN FONDO
END:VEVENT
BEGIN:VEVENT
DTSTART;TZID=Europe/Rome:20210530T080000
DTEND;TZID=Europe/Rome:20210530T170000
DTSTAMP:20260424T173709
CREATED:20210722T093438Z
LAST-MODIFIED:20210722T093438Z
UID:142-1622361600-1622394000@www.asiago7cbiketeam.com
SUMMARY:Città dei Papi-Anagni
DESCRIPTION:
URL:https://www.asiago7cbiketeam.com/event/citta-dei-papi-anagni/
LOCATION:Anagni (Fr)
CATEGORIES:GRAN FONDO
END:VEVENT
BEGIN:VEVENT
DTSTART;VALUE=DATE:20210602
DTEND;VALUE=DATE:20210603
DTSTAMP:20260424T173709
CREATED:20210722T093808Z
LAST-MODIFIED:20210722T093808Z
UID:145-1622592000-1622678399@www.asiago7cbiketeam.com
SUMMARY:Bettini Geotermia
DESCRIPTION:
URL:https://www.asiago7cbiketeam.com/event/bettini-geotermia/
LOCATION:Pomarance (Pi)
CATEGORIES:GRAN FONDO
END:VEVENT
BEGIN:VEVENT
DTSTART;VALUE=DATE:20210606
DTEND;VALUE=DATE:20210607
DTSTAMP:20260424T173709
CREATED:20210722T093955Z
LAST-MODIFIED:20210722T093955Z
UID:148-1622937600-1623023999@www.asiago7cbiketeam.com
SUMMARY:Stelvio-Santini
DESCRIPTION:
URL:https://www.asiago7cbiketeam.com/event/stelvio-santini/
LOCATION:Bormio (So)
CATEGORIES:GRAN FONDO
END:VEVENT
END:VCALENDAR