BEGIN:VCALENDAR
VERSION:2.0
PRODID:-//Asiago 7C Bike Team - ECPv5.12.3//NONSGML v1.0//EN
CALSCALE:GREGORIAN
METHOD:PUBLISH
X-WR-CALNAME:Asiago 7C Bike Team
X-ORIGINAL-URL:https://www.asiago7cbiketeam.com
X-WR-CALDESC:Events for Asiago 7C Bike Team
REFRESH-INTERVAL;VALUE=DURATION:PT1H
X-Robots-Tag:noindex
X-PUBLISHED-TTL:PT1H
BEGIN:VTIMEZONE
TZID:Europe/Rome
BEGIN:DAYLIGHT
TZOFFSETFROM:+0100
TZOFFSETTO:+0200
TZNAME:CEST
DTSTART:20210328T010000
END:DAYLIGHT
BEGIN:STANDARD
TZOFFSETFROM:+0200
TZOFFSETTO:+0100
TZNAME:CET
DTSTART:20211031T010000
END:STANDARD
BEGIN:DAYLIGHT
TZOFFSETFROM:+0100
TZOFFSETTO:+0200
TZNAME:CEST
DTSTART:20220327T010000
END:DAYLIGHT
BEGIN:STANDARD
TZOFFSETFROM:+0200
TZOFFSETTO:+0100
TZNAME:CET
DTSTART:20221030T010000
END:STANDARD
END:VTIMEZONE
BEGIN:VEVENT
DTSTART;VALUE=DATE:20210919
DTEND;VALUE=DATE:20210920
DTSTAMP:20260424T112841
CREATED:20210722T134953Z
LAST-MODIFIED:20210722T134953Z
UID:295-1632009600-1632095999@www.asiago7cbiketeam.com
SUMMARY:GF Campania
DESCRIPTION:
URL:https://www.asiago7cbiketeam.com/event/gf-campania/
LOCATION:Nola (Na)
CATEGORIES:GRAN FONDO
END:VEVENT
BEGIN:VEVENT
DTSTART;VALUE=DATE:20210919
DTEND;VALUE=DATE:20210920
DTSTAMP:20260424T112841
CREATED:20210722T135743Z
LAST-MODIFIED:20210722T135743Z
UID:298-1632009600-1632095999@www.asiago7cbiketeam.com
SUMMARY:Dorelan Cycling
DESCRIPTION:
URL:https://www.asiago7cbiketeam.com/event/dorelan-cycling/
LOCATION:Peschiera del Garda (Vr)
CATEGORIES:GRAN FONDO
END:VEVENT
BEGIN:VEVENT
DTSTART;VALUE=DATE:20210919
DTEND;VALUE=DATE:20210920
DTSTAMP:20260424T112841
CREATED:20210722T135930Z
LAST-MODIFIED:20210722T135930Z
UID:301-1632009600-1632095999@www.asiago7cbiketeam.com
SUMMARY:Gallo Nero
DESCRIPTION:
URL:https://www.asiago7cbiketeam.com/event/gallo-nero/
LOCATION:Radda in Chianti (Si)
CATEGORIES:GRAN FONDO
END:VEVENT
BEGIN:VEVENT
DTSTART;VALUE=DATE:20210926
DTEND;VALUE=DATE:20210927
DTSTAMP:20260424T112841
CREATED:20210722T140112Z
LAST-MODIFIED:20210722T140112Z
UID:304-1632614400-1632700799@www.asiago7cbiketeam.com
SUMMARY:Prosecco Cycling
DESCRIPTION:
URL:https://www.asiago7cbiketeam.com/event/prosecco-cycling/
LOCATION:Valdobbiadene (Tv)
CATEGORIES:GRAN FONDO
END:VEVENT
BEGIN:VEVENT
DTSTART;VALUE=DATE:20210926
DTEND;VALUE=DATE:20210927
DTSTAMP:20260424T112841
CREATED:20210722T140227Z
LAST-MODIFIED:20210722T140227Z
UID:307-1632614400-1632700799@www.asiago7cbiketeam.com
SUMMARY:GF Varazze
DESCRIPTION:
URL:https://www.asiago7cbiketeam.com/event/gf-varazze/
LOCATION:Varazze (Sv)
CATEGORIES:GRAN FONDO
END:VEVENT
BEGIN:VEVENT
DTSTART;VALUE=DATE:20210926
DTEND;VALUE=DATE:20210927
DTSTAMP:20260424T112841
CREATED:20210722T140354Z
LAST-MODIFIED:20210722T140354Z
UID:310-1632614400-1632700799@www.asiago7cbiketeam.com
SUMMARY:Michele Scarponi
DESCRIPTION:
URL:https://www.asiago7cbiketeam.com/event/michele-scarponi/
LOCATION:Filottrano (An)
CATEGORIES:GRAN FONDO
END:VEVENT
BEGIN:VEVENT
DTSTART;VALUE=DATE:20211003
DTEND;VALUE=DATE:20211004
DTSTAMP:20260424T112841
CREATED:20210722T140619Z
LAST-MODIFIED:20210722T140619Z
UID:313-1633219200-1633305599@www.asiago7cbiketeam.com
SUMMARY:S. Benedetto-Ciù Ciù
DESCRIPTION:
URL:https://www.asiago7cbiketeam.com/event/s-benedetto-ciu-ciu/
LOCATION:San Benedetto del Tronto (Ap)
CATEGORIES:GRAN FONDO
END:VEVENT
BEGIN:VEVENT
DTSTART;VALUE=DATE:20211003
DTEND;VALUE=DATE:20211004
DTSTAMP:20260424T112841
CREATED:20210722T140902Z
LAST-MODIFIED:20210722T140902Z
UID:316-1633219200-1633305599@www.asiago7cbiketeam.com
SUMMARY:La Medievale
DESCRIPTION:
URL:https://www.asiago7cbiketeam.com/event/la-medievale/
LOCATION:San Paolo dei Cavaliri (Rm)
CATEGORIES:GRAN FONDO
END:VEVENT
BEGIN:VEVENT
DTSTART;VALUE=DATE:20211010
DTEND;VALUE=DATE:20211011
DTSTAMP:20260424T112841
CREATED:20210722T141030Z
LAST-MODIFIED:20210722T141030Z
UID:319-1633824000-1633910399@www.asiago7cbiketeam.com
SUMMARY:Il Lombardia
DESCRIPTION:
URL:https://www.asiago7cbiketeam.com/event/il-lombardia/
LOCATION:Cantù (Co)
CATEGORIES:GRAN FONDO
END:VEVENT
BEGIN:VEVENT
DTSTART;VALUE=DATE:20211017
DTEND;VALUE=DATE:20211018
DTSTAMP:20260424T112841
CREATED:20210722T141208Z
LAST-MODIFIED:20210722T141208Z
UID:322-1634428800-1634515199@www.asiago7cbiketeam.com
SUMMARY:Nibali 5 Mila Marche
DESCRIPTION:
URL:https://www.asiago7cbiketeam.com/event/nibali-5-mila-marche/
LOCATION:Porto Recanti (Mc)
CATEGORIES:GRAN FONDO
END:VEVENT
BEGIN:VEVENT
DTSTART;VALUE=DATE:20211017
DTEND;VALUE=DATE:20211018
DTSTAMP:20260424T112841
CREATED:20210722T141333Z
LAST-MODIFIED:20210722T141333Z
UID:325-1634428800-1634515199@www.asiago7cbiketeam.com
SUMMARY:Alassio
DESCRIPTION:
URL:https://www.asiago7cbiketeam.com/event/alassio/
LOCATION:Alassio (Sv)
CATEGORIES:GRAN FONDO
END:VEVENT
BEGIN:VEVENT
DTSTART;VALUE=DATE:20211024
DTEND;VALUE=DATE:20211025
DTSTAMP:20260424T112841
CREATED:20210722T141458Z
LAST-MODIFIED:20210722T141458Z
UID:328-1635033600-1635119999@www.asiago7cbiketeam.com
SUMMARY:Fara in Sabina
DESCRIPTION:
URL:https://www.asiago7cbiketeam.com/event/fara-in-sabina/
LOCATION:Passo Corese (Ri)
CATEGORIES:GRAN FONDO
END:VEVENT
BEGIN:VEVENT
DTSTART;VALUE=DATE:20220306
DTEND;VALUE=DATE:20220307
DTSTAMP:20260424T112841
CREATED:20220310T055305Z
LAST-MODIFIED:20220310T055305Z
UID:603-1646524800-1646611199@www.asiago7cbiketeam.com
SUMMARY:Strade Bianche
DESCRIPTION:
URL:https://www.asiago7cbiketeam.com/event/strade-bianche-2/
LOCATION:Siena
CATEGORIES:GRAN FONDO
END:VEVENT
BEGIN:VEVENT
DTSTART;VALUE=DATE:20220313
DTEND;VALUE=DATE:20220314
DTSTAMP:20260424T112841
CREATED:20220310T062414Z
LAST-MODIFIED:20220310T062426Z
UID:606-1647129600-1647215999@www.asiago7cbiketeam.com
SUMMARY:Alassio
DESCRIPTION:
URL:https://www.asiago7cbiketeam.com/event/alassio-2/
CATEGORIES:GRAN FONDO
END:VEVENT
BEGIN:VEVENT
DTSTART;VALUE=DATE:20220320
DTEND;VALUE=DATE:20220321
DTSTAMP:20260424T112841
CREATED:20220310T062634Z
LAST-MODIFIED:20220310T062634Z
UID:610-1647734400-1647820799@www.asiago7cbiketeam.com
SUMMARY:GF del Po
DESCRIPTION:
URL:https://www.asiago7cbiketeam.com/event/gf-del-po-2/
CATEGORIES:GRAN FONDO
END:VEVENT
BEGIN:VEVENT
DTSTART;VALUE=DATE:20220320
DTEND;VALUE=DATE:20220321
DTSTAMP:20260424T112841
CREATED:20220310T062750Z
LAST-MODIFIED:20220310T062750Z
UID:612-1647734400-1647820799@www.asiago7cbiketeam.com
SUMMARY:Garda - Nottecchia
DESCRIPTION:
URL:https://www.asiago7cbiketeam.com/event/garda-nottecchia/
CATEGORIES:GRAN FONDO
END:VEVENT
BEGIN:VEVENT
DTSTART;TZID=Europe/Rome:20220320T080000
DTEND;TZID=Europe/Rome:20220320T170000
DTSTAMP:20260424T112841
CREATED:20220310T062554Z
LAST-MODIFIED:20220310T062554Z
UID:608-1647763200-1647795600@www.asiago7cbiketeam.com
SUMMARY:La Classicissima
DESCRIPTION:
URL:https://www.asiago7cbiketeam.com/event/la-classicissima-2/
CATEGORIES:GRAN FONDO
END:VEVENT
BEGIN:VEVENT
DTSTART;VALUE=DATE:20220327
DTEND;VALUE=DATE:20220328
DTSTAMP:20260424T112841
CREATED:20220310T062841Z
LAST-MODIFIED:20220310T063259Z
UID:614-1648339200-1648425599@www.asiago7cbiketeam.com
SUMMARY:GFNY Cannes
DESCRIPTION:
URL:https://www.asiago7cbiketeam.com/event/gfny-cannes/
CATEGORIES:GRAN FONDO
END:VEVENT
BEGIN:VEVENT
DTSTART;VALUE=DATE:20220327
DTEND;VALUE=DATE:20220328
DTSTAMP:20260424T112841
CREATED:20220310T063419Z
LAST-MODIFIED:20220310T063419Z
UID:616-1648339200-1648425599@www.asiago7cbiketeam.com
SUMMARY:Valtidone
DESCRIPTION:
URL:https://www.asiago7cbiketeam.com/event/valtidone-2/
CATEGORIES:GRAN FONDO
END:VEVENT
BEGIN:VEVENT
DTSTART;VALUE=DATE:20220327
DTEND;VALUE=DATE:20220328
DTSTAMP:20260424T112841
CREATED:20220310T063511Z
LAST-MODIFIED:20220310T063511Z
UID:618-1648339200-1648425599@www.asiago7cbiketeam.com
SUMMARY:Vernaccia
DESCRIPTION:
URL:https://www.asiago7cbiketeam.com/event/vernaccia-2/
LOCATION:San Gimignano (Si)
CATEGORIES:GRAN FONDO
END:VEVENT
BEGIN:VEVENT
DTSTART;VALUE=DATE:20220327
DTEND;VALUE=DATE:20220328
DTSTAMP:20260424T112841
CREATED:20220310T063602Z
LAST-MODIFIED:20220310T063602Z
UID:620-1648339200-1648425599@www.asiago7cbiketeam.com
SUMMARY:Leopardiana Dipa
DESCRIPTION:
URL:https://www.asiago7cbiketeam.com/event/leopardiana-dipa/
LOCATION:Recanati (Mc)
CATEGORIES:GRAN FONDO
END:VEVENT
BEGIN:VEVENT
DTSTART;TZID=Europe/Rome:20220327T080000
DTEND;TZID=Europe/Rome:20220327T170000
DTSTAMP:20260424T112841
CREATED:20220310T063642Z
LAST-MODIFIED:20220310T063642Z
UID:622-1648368000-1648400400@www.asiago7cbiketeam.com
SUMMARY:Fara in Sabina
DESCRIPTION:
URL:https://www.asiago7cbiketeam.com/event/fara-in-sabina-2/
LOCATION:Passo Corese (Ri)
CATEGORIES:GRAN FONDO
END:VEVENT
BEGIN:VEVENT
DTSTART;VALUE=DATE:20220403
DTEND;VALUE=DATE:20220404
DTSTAMP:20260424T112841
CREATED:20220310T063733Z
LAST-MODIFIED:20220310T063733Z
UID:624-1648944000-1649030399@www.asiago7cbiketeam.com
SUMMARY:Velodromo Forano
DESCRIPTION:
URL:https://www.asiago7cbiketeam.com/event/velodromo-forano-2/
LOCATION:Forano (Ri)
CATEGORIES:GRAN FONDO
END:VEVENT
BEGIN:VEVENT
DTSTART;VALUE=DATE:20220403
DTEND;VALUE=DATE:20220404
DTSTAMP:20260424T112841
CREATED:20220310T063832Z
LAST-MODIFIED:20220310T063832Z
UID:626-1648944000-1649030399@www.asiago7cbiketeam.com
SUMMARY:Colnago Cycling
DESCRIPTION:
URL:https://www.asiago7cbiketeam.com/event/colnago-cycling-2/
LOCATION:Desenzano del G. (VR)
CATEGORIES:GRAN FONDO
END:VEVENT
BEGIN:VEVENT
DTSTART;VALUE=DATE:20220403
DTEND;VALUE=DATE:20220404
DTSTAMP:20260424T112841
CREATED:20220310T063943Z
LAST-MODIFIED:20220310T063943Z
UID:628-1648944000-1649030399@www.asiago7cbiketeam.com
SUMMARY:Ceramica
DESCRIPTION:
URL:https://www.asiago7cbiketeam.com/event/ceramica-2/
LOCATION:Santo Stefano di Camastra (ME)
CATEGORIES:GRAN FONDO
END:VEVENT
BEGIN:VEVENT
DTSTART;VALUE=DATE:20220410
DTEND;VALUE=DATE:20220411
DTSTAMP:20260424T112841
CREATED:20220310T064029Z
LAST-MODIFIED:20220310T064029Z
UID:631-1649548800-1649635199@www.asiago7cbiketeam.com
SUMMARY:Ceriale - El Diablo
DESCRIPTION:
URL:https://www.asiago7cbiketeam.com/event/ceriale-el-diablo-2/
LOCATION:Ceriale (SV)
CATEGORIES:GRAN FONDO
END:VEVENT
BEGIN:VEVENT
DTSTART;VALUE=DATE:20220410
DTEND;VALUE=DATE:20220411
DTSTAMP:20260424T112841
CREATED:20220310T064111Z
LAST-MODIFIED:20220310T064111Z
UID:633-1649548800-1649635199@www.asiago7cbiketeam.com
SUMMARY:Via del Sale
DESCRIPTION:
URL:https://www.asiago7cbiketeam.com/event/via-del-sale-2/
LOCATION:Cervia (RA)
CATEGORIES:GRAN FONDO
END:VEVENT
BEGIN:VEVENT
DTSTART;VALUE=DATE:20220424
DTEND;VALUE=DATE:20220425
DTSTAMP:20260424T112841
CREATED:20220310T064210Z
LAST-MODIFIED:20220310T064210Z
UID:635-1650758400-1650844799@www.asiago7cbiketeam.com
SUMMARY:Bra - Bra Specialized
DESCRIPTION:
URL:https://www.asiago7cbiketeam.com/event/bra-bra-specialized-2/
LOCATION:Bra – Loc. Pollenzo (CN)
CATEGORIES:GRAN FONDO
END:VEVENT
BEGIN:VEVENT
DTSTART;VALUE=DATE:20220424
DTEND;VALUE=DATE:20220425
DTSTAMP:20260424T112841
CREATED:20220310T064316Z
LAST-MODIFIED:20220310T064316Z
UID:637-1650758400-1650844799@www.asiago7cbiketeam.com
SUMMARY:GranGiro Monte Albo
DESCRIPTION:
URL:https://www.asiago7cbiketeam.com/event/grangiro-monte-albo/
LOCATION:Budoni (SS)
CATEGORIES:GRAN FONDO
END:VEVENT
BEGIN:VEVENT
DTSTART;VALUE=DATE:20220424
DTEND;VALUE=DATE:20220425
DTSTAMP:20260424T112841
CREATED:20220310T064409Z
LAST-MODIFIED:20220310T064409Z
UID:640-1650758400-1650844799@www.asiago7cbiketeam.com
SUMMARY:MF Primavera
DESCRIPTION:
URL:https://www.asiago7cbiketeam.com/event/mf-primavera-2/
LOCATION:Ariano Irpino (AV)
CATEGORIES:GRAN FONDO
END:VEVENT
END:VCALENDAR