BEGIN:VCALENDAR
VERSION:2.0
PRODID:-//Asiago 7C Bike Team - ECPv5.12.3//NONSGML v1.0//EN
CALSCALE:GREGORIAN
METHOD:PUBLISH
X-WR-CALNAME:Asiago 7C Bike Team
X-ORIGINAL-URL:https://www.asiago7cbiketeam.com
X-WR-CALDESC:Events for Asiago 7C Bike Team
REFRESH-INTERVAL;VALUE=DURATION:PT1H
X-Robots-Tag:noindex
X-PUBLISHED-TTL:PT1H
BEGIN:VTIMEZONE
TZID:Europe/Rome
BEGIN:DAYLIGHT
TZOFFSETFROM:+0100
TZOFFSETTO:+0200
TZNAME:CEST
DTSTART:20210328T010000
END:DAYLIGHT
BEGIN:STANDARD
TZOFFSETFROM:+0200
TZOFFSETTO:+0100
TZNAME:CET
DTSTART:20211031T010000
END:STANDARD
END:VTIMEZONE
BEGIN:VEVENT
DTSTART;VALUE=DATE:20210328
DTEND;VALUE=DATE:20210329
DTSTAMP:20260424T173621
CREATED:20210722T060931Z
LAST-MODIFIED:20210722T060931Z
UID:55-1616889600-1616975999@www.asiago7cbiketeam.com
SUMMARY:Laigueglia-Lapierre
DESCRIPTION:
URL:https://www.asiago7cbiketeam.com/event/laigueglia-lapierre/
LOCATION:Laigueglia (SV)
CATEGORIES:GRAN FONDO
END:VEVENT
BEGIN:VEVENT
DTSTART;VALUE=DATE:20210328
DTEND;VALUE=DATE:20210329
DTSTAMP:20260424T173621
CREATED:20210722T061307Z
LAST-MODIFIED:20210722T061307Z
UID:58-1616889600-1616975999@www.asiago7cbiketeam.com
SUMMARY:Valtidone
DESCRIPTION:
URL:https://www.asiago7cbiketeam.com/event/valtidone/
LOCATION:Pianello Val Tidone (PC)
CATEGORIES:GRAN FONDO
END:VEVENT
END:VCALENDAR