BEGIN:VCALENDAR
VERSION:2.0
PRODID:-//Asiago 7C Bike Team - ECPv5.12.3//NONSGML v1.0//EN
CALSCALE:GREGORIAN
METHOD:PUBLISH
X-WR-CALNAME:Asiago 7C Bike Team
X-ORIGINAL-URL:https://www.asiago7cbiketeam.com
X-WR-CALDESC:Events for Asiago 7C Bike Team
REFRESH-INTERVAL;VALUE=DURATION:PT1H
X-Robots-Tag:noindex
X-PUBLISHED-TTL:PT1H
BEGIN:VTIMEZONE
TZID:Europe/Rome
BEGIN:DAYLIGHT
TZOFFSETFROM:+0100
TZOFFSETTO:+0200
TZNAME:CEST
DTSTART:20210328T010000
END:DAYLIGHT
BEGIN:STANDARD
TZOFFSETFROM:+0200
TZOFFSETTO:+0100
TZNAME:CET
DTSTART:20211031T010000
END:STANDARD
END:VTIMEZONE
BEGIN:VEVENT
DTSTART;VALUE=DATE:20210606
DTEND;VALUE=DATE:20210607
DTSTAMP:20260424T140900
CREATED:20210722T093955Z
LAST-MODIFIED:20210722T093955Z
UID:148-1622937600-1623023999@www.asiago7cbiketeam.com
SUMMARY:Stelvio-Santini
DESCRIPTION:
URL:https://www.asiago7cbiketeam.com/event/stelvio-santini/
LOCATION:Bormio (So)
CATEGORIES:GRAN FONDO
END:VEVENT
BEGIN:VEVENT
DTSTART;VALUE=DATE:20210606
DTEND;VALUE=DATE:20210607
DTSTAMP:20260424T140900
CREATED:20210722T094208Z
LAST-MODIFIED:20210722T094208Z
UID:151-1622937600-1623023999@www.asiago7cbiketeam.com
SUMMARY:Alè La Merckx
DESCRIPTION:
URL:https://www.asiago7cbiketeam.com/event/ale-la-merckx/
LOCATION:Verona
CATEGORIES:GRAN FONDO
END:VEVENT
BEGIN:VEVENT
DTSTART;VALUE=DATE:20210606
DTEND;VALUE=DATE:20210607
DTSTAMP:20260424T140900
CREATED:20210722T094411Z
LAST-MODIFIED:20210722T094411Z
UID:153-1622937600-1623023999@www.asiago7cbiketeam.com
SUMMARY:Terminillo Marathon
DESCRIPTION:
URL:https://www.asiago7cbiketeam.com/event/terminillo-marathon/
LOCATION:Pian de’ Valli Terminillo (Ri)
CATEGORIES:GRAN FONDO
END:VEVENT
BEGIN:VEVENT
DTSTART;VALUE=DATE:20210606
DTEND;VALUE=DATE:20210607
DTSTAMP:20260424T140900
CREATED:20210722T094627Z
LAST-MODIFIED:20210722T094627Z
UID:156-1622937600-1623023999@www.asiago7cbiketeam.com
SUMMARY:Milano Sanremo
DESCRIPTION:
URL:https://www.asiago7cbiketeam.com/event/milano-sanremo/
LOCATION:Milano
CATEGORIES:GRAN FONDO
END:VEVENT
BEGIN:VEVENT
DTSTART;VALUE=DATE:20210606
DTEND;VALUE=DATE:20210607
DTSTAMP:20260424T140900
CREATED:20210722T094843Z
LAST-MODIFIED:20210722T094843Z
UID:159-1622937600-1623023999@www.asiago7cbiketeam.com
SUMMARY:Ride Riccione
DESCRIPTION:
URL:https://www.asiago7cbiketeam.com/event/ride-riccione/
LOCATION:Riccione (Rn)
CATEGORIES:GRAN FONDO
END:VEVENT
BEGIN:VEVENT
DTSTART;VALUE=DATE:20210606
DTEND;VALUE=DATE:20210607
DTSTAMP:20260424T140900
CREATED:20210722T095118Z
LAST-MODIFIED:20210722T095118Z
UID:162-1622937600-1623023999@www.asiago7cbiketeam.com
SUMMARY:GF del Penice
DESCRIPTION:
URL:https://www.asiago7cbiketeam.com/event/gf-del-penice/
LOCATION:Vazi (Pi)
CATEGORIES:GRAN FONDO
END:VEVENT
END:VCALENDAR