BEGIN:VCALENDAR
VERSION:2.0
PRODID:-//Asiago 7C Bike Team - ECPv5.12.3//NONSGML v1.0//EN
CALSCALE:GREGORIAN
METHOD:PUBLISH
X-WR-CALNAME:Asiago 7C Bike Team
X-ORIGINAL-URL:https://www.asiago7cbiketeam.com
X-WR-CALDESC:Events for Asiago 7C Bike Team
REFRESH-INTERVAL;VALUE=DURATION:PT1H
X-Robots-Tag:noindex
X-PUBLISHED-TTL:PT1H
BEGIN:VTIMEZONE
TZID:Europe/Rome
BEGIN:DAYLIGHT
TZOFFSETFROM:+0100
TZOFFSETTO:+0200
TZNAME:CEST
DTSTART:20210328T010000
END:DAYLIGHT
BEGIN:STANDARD
TZOFFSETFROM:+0200
TZOFFSETTO:+0100
TZNAME:CET
DTSTART:20211031T010000
END:STANDARD
END:VTIMEZONE
BEGIN:VEVENT
DTSTART;VALUE=DATE:20210718
DTEND;VALUE=DATE:20210719
DTSTAMP:20260424T125708
CREATED:20210722T130443Z
LAST-MODIFIED:20210722T130443Z
UID:233-1626566400-1626652799@www.asiago7cbiketeam.com
SUMMARY:Pinarello
DESCRIPTION:
URL:https://www.asiago7cbiketeam.com/event/pinarello/
LOCATION:Treviso
CATEGORIES:GRAN FONDO
END:VEVENT
BEGIN:VEVENT
DTSTART;VALUE=DATE:20210718
DTEND;VALUE=DATE:20210719
DTSTAMP:20260424T125708
CREATED:20210722T130708Z
LAST-MODIFIED:20210722T130708Z
UID:236-1626566400-1626652799@www.asiago7cbiketeam.com
SUMMARY:Sestriere-Finestre
DESCRIPTION:
URL:https://www.asiago7cbiketeam.com/event/sestriere-finestre/
LOCATION:Sestriere (To)
CATEGORIES:GRAN FONDO
END:VEVENT
BEGIN:VEVENT
DTSTART;VALUE=DATE:20210718
DTEND;VALUE=DATE:20210719
DTSTAMP:20260424T125708
CREATED:20210722T130858Z
LAST-MODIFIED:20210722T130858Z
UID:239-1626566400-1626652799@www.asiago7cbiketeam.com
SUMMARY:La Fabio Casartelli
DESCRIPTION:
URL:https://www.asiago7cbiketeam.com/event/la-fabio-casartelli/
LOCATION:Albese con Cassano (Co)
CATEGORIES:GRAN FONDO
END:VEVENT
END:VCALENDAR