BEGIN:VCALENDAR
VERSION:2.0
PRODID:-//Asiago 7C Bike Team - ECPv5.12.3//NONSGML v1.0//EN
CALSCALE:GREGORIAN
METHOD:PUBLISH
X-WR-CALNAME:Asiago 7C Bike Team
X-ORIGINAL-URL:https://www.asiago7cbiketeam.com
X-WR-CALDESC:Events for Asiago 7C Bike Team
REFRESH-INTERVAL;VALUE=DURATION:PT1H
X-Robots-Tag:noindex
X-PUBLISHED-TTL:PT1H
BEGIN:VTIMEZONE
TZID:Europe/Rome
BEGIN:DAYLIGHT
TZOFFSETFROM:+0100
TZOFFSETTO:+0200
TZNAME:CEST
DTSTART:20240331T010000
END:DAYLIGHT
BEGIN:STANDARD
TZOFFSETFROM:+0200
TZOFFSETTO:+0100
TZNAME:CET
DTSTART:20241027T010000
END:STANDARD
END:VTIMEZONE
BEGIN:VEVENT
DTSTART;VALUE=DATE:20240526
DTEND;VALUE=DATE:20240527
DTSTAMP:20260422T160509
CREATED:20240313T152143Z
LAST-MODIFIED:20240313T152143Z
UID:1147-1716681600-1716767999@www.asiago7cbiketeam.com
SUMMARY:Durona Bike
DESCRIPTION:
URL:https://www.asiago7cbiketeam.com/event/durona-bike-2/
LOCATION:chiampo (Vi)
CATEGORIES:GRAN FONDO
END:VEVENT
BEGIN:VEVENT
DTSTART;VALUE=DATE:20240526
DTEND;VALUE=DATE:20240527
DTSTAMP:20260422T160509
CREATED:20240313T152538Z
LAST-MODIFIED:20240313T152538Z
UID:1149-1716681600-1716767999@www.asiago7cbiketeam.com
SUMMARY:Mx Monti Lucretili
DESCRIPTION:
URL:https://www.asiago7cbiketeam.com/event/mx-monti-lucretili-2/
CATEGORIES:GRAN FONDO
END:VEVENT
BEGIN:VEVENT
DTSTART;VALUE=DATE:20240526
DTEND;VALUE=DATE:20240527
DTSTAMP:20260422T160509
CREATED:20240313T152815Z
LAST-MODIFIED:20240313T152815Z
UID:1151-1716681600-1716767999@www.asiago7cbiketeam.com
SUMMARY:GF RWE Santa Ninfa
DESCRIPTION:
URL:https://www.asiago7cbiketeam.com/event/gf-rwe-santa-ninfa/
LOCATION:Santa Ninfa (Tp)
CATEGORIES:GRAN FONDO
END:VEVENT
BEGIN:VEVENT
DTSTART;VALUE=DATE:20240526
DTEND;VALUE=DATE:20240527
DTSTAMP:20260422T160509
CREATED:20240313T153127Z
LAST-MODIFIED:20240313T153127Z
UID:1153-1716681600-1716767999@www.asiago7cbiketeam.com
SUMMARY:Via dei Borromeo
DESCRIPTION:
URL:https://www.asiago7cbiketeam.com/event/via-dei-borromeo/
CATEGORIES:GRAN FONDO
END:VEVENT
BEGIN:VEVENT
DTSTART;VALUE=DATE:20240526
DTEND;VALUE=DATE:20240527
DTSTAMP:20260422T160509
CREATED:20240512T175357Z
LAST-MODIFIED:20240512T175357Z
UID:1344-1716681600-1716767999@www.asiago7cbiketeam.com
SUMMARY:Gran Borgosesia
DESCRIPTION:
URL:https://www.asiago7cbiketeam.com/event/gran-borgosesia/
LOCATION:Borgosesia (Vc)
CATEGORIES:GRAN FONDO
END:VEVENT
BEGIN:VEVENT
DTSTART;VALUE=DATE:20240526
DTEND;VALUE=DATE:20240527
DTSTAMP:20260422T160509
CREATED:20240512T175636Z
LAST-MODIFIED:20240512T175636Z
UID:1349-1716681600-1716767999@www.asiago7cbiketeam.com
SUMMARY:Marcialonga-Craft
DESCRIPTION:
URL:https://www.asiago7cbiketeam.com/event/marcialonga-craft-3/
LOCATION:Predazzo(Tn)
CATEGORIES:GRAN FONDO
END:VEVENT
BEGIN:VEVENT
DTSTART;VALUE=DATE:20240526
DTEND;VALUE=DATE:20240527
DTSTAMP:20260422T160509
CREATED:20240512T175756Z
LAST-MODIFIED:20240512T175756Z
UID:1351-1716681600-1716767999@www.asiago7cbiketeam.com
SUMMARY:Eroica Montalcino
DESCRIPTION:
URL:https://www.asiago7cbiketeam.com/event/eroica-montalcino/
LOCATION:Montalcino (SI)
CATEGORIES:GRAN FONDO
END:VEVENT
BEGIN:VEVENT
DTSTART;VALUE=DATE:20240526
DTEND;VALUE=DATE:20240527
DTSTAMP:20260422T160509
CREATED:20240512T175852Z
LAST-MODIFIED:20240512T175852Z
UID:1354-1716681600-1716767999@www.asiago7cbiketeam.com
SUMMARY:Matesannio
DESCRIPTION:
URL:https://www.asiago7cbiketeam.com/event/matesannio/
LOCATION:Telese Terme (Bn)
CATEGORIES:GRAN FONDO
END:VEVENT
END:VCALENDAR