BEGIN:VCALENDAR
VERSION:2.0
PRODID:-//Asiago 7C Bike Team - ECPv5.12.3//NONSGML v1.0//EN
CALSCALE:GREGORIAN
METHOD:PUBLISH
X-WR-CALNAME:Asiago 7C Bike Team
X-ORIGINAL-URL:https://www.asiago7cbiketeam.com
X-WR-CALDESC:Events for Asiago 7C Bike Team
REFRESH-INTERVAL;VALUE=DURATION:PT1H
X-Robots-Tag:noindex
X-PUBLISHED-TTL:PT1H
BEGIN:VTIMEZONE
TZID:Europe/Rome
BEGIN:DAYLIGHT
TZOFFSETFROM:+0100
TZOFFSETTO:+0200
TZNAME:CEST
DTSTART:20210328T010000
END:DAYLIGHT
BEGIN:STANDARD
TZOFFSETFROM:+0200
TZOFFSETTO:+0100
TZNAME:CET
DTSTART:20211031T010000
END:STANDARD
END:VTIMEZONE
BEGIN:VEVENT
DTSTART;VALUE=DATE:20210704
DTEND;VALUE=DATE:20210705
DTSTAMP:20260425T153730
CREATED:20210722T162252Z
LAST-MODIFIED:20210722T162252Z
UID:451-1625356800-1625443199@www.asiago7cbiketeam.com
SUMMARY:Assietta Legend
DESCRIPTION:
URL:https://www.asiago7cbiketeam.com/event/assietta-legend/
LOCATION:Sestriere (To)
CATEGORIES:MTB
END:VEVENT
BEGIN:VEVENT
DTSTART;VALUE=DATE:20210704
DTEND;VALUE=DATE:20210705
DTSTAMP:20260425T153730
CREATED:20210722T162557Z
LAST-MODIFIED:20210722T162557Z
UID:453-1625356800-1625443199@www.asiago7cbiketeam.com
SUMMARY:Martani Superbike
DESCRIPTION:
URL:https://www.asiago7cbiketeam.com/event/martani-superbike/
LOCATION:Massa Martana (Pg)
CATEGORIES:MTB
END:VEVENT
BEGIN:VEVENT
DTSTART;VALUE=DATE:20210704
DTEND;VALUE=DATE:20210705
DTSTAMP:20260425T153730
CREATED:20210722T162856Z
LAST-MODIFIED:20210722T162856Z
UID:456-1625356800-1625443199@www.asiago7cbiketeam.com
SUMMARY:Mx di Floresta 1275
DESCRIPTION:
URL:https://www.asiago7cbiketeam.com/event/mx-di-floresta-1275/
LOCATION:Floresta (Me)
CATEGORIES:MTB
END:VEVENT
BEGIN:VEVENT
DTSTART;VALUE=DATE:20210710
DTEND;VALUE=DATE:20210711
DTSTAMP:20260425T153730
CREATED:20210722T163004Z
LAST-MODIFIED:20210722T163004Z
UID:459-1625875200-1625961599@www.asiago7cbiketeam.com
SUMMARY:Dolomiti Superbike
DESCRIPTION:
URL:https://www.asiago7cbiketeam.com/event/dolomiti-superbike/
LOCATION:Villabassa(Bz)
CATEGORIES:MTB
END:VEVENT
BEGIN:VEVENT
DTSTART;VALUE=DATE:20210717
DTEND;VALUE=DATE:20210718
DTSTAMP:20260425T153730
CREATED:20210722T163123Z
LAST-MODIFIED:20210722T163123Z
UID:462-1626480000-1626566399@www.asiago7cbiketeam.com
SUMMARY:Cortina Trophy
DESCRIPTION:
URL:https://www.asiago7cbiketeam.com/event/cortina-trophy/
LOCATION:Cortina d’Ampezzo (Bi)
CATEGORIES:MTB
END:VEVENT
BEGIN:VEVENT
DTSTART;VALUE=DATE:20210718
DTEND;VALUE=DATE:20210719
DTSTAMP:20260425T153730
CREATED:20210722T163428Z
LAST-MODIFIED:20210722T163428Z
UID:465-1626566400-1626652799@www.asiago7cbiketeam.com
SUMMARY:Pollino Marathon
DESCRIPTION:
URL:https://www.asiago7cbiketeam.com/event/pollino-marathon/
LOCATION:Terra nova di Pollino (Pz)
CATEGORIES:MTB
END:VEVENT
BEGIN:VEVENT
DTSTART;VALUE=DATE:20210718
DTEND;VALUE=DATE:20210719
DTSTAMP:20260425T153730
CREATED:20210722T163642Z
LAST-MODIFIED:20210722T163642Z
UID:468-1626566400-1626652799@www.asiago7cbiketeam.com
SUMMARY:Rampichiana
DESCRIPTION:
URL:https://www.asiago7cbiketeam.com/event/rampichiana/
LOCATION:Camucia (Ar)
CATEGORIES:MTB
END:VEVENT
BEGIN:VEVENT
DTSTART;VALUE=DATE:20210718
DTEND;VALUE=DATE:20210719
DTSTAMP:20260425T153730
CREATED:20210722T163923Z
LAST-MODIFIED:20210722T163923Z
UID:471-1626566400-1626652799@www.asiago7cbiketeam.com
SUMMARY:Valseriana Mx
DESCRIPTION:
URL:https://www.asiago7cbiketeam.com/event/valseriana-mx/
LOCATION:Nembro (Bg)
CATEGORIES:MTB
END:VEVENT
BEGIN:VEVENT
DTSTART;VALUE=DATE:20210722
DTEND;VALUE=DATE:20210723
DTSTAMP:20260425T153730
CREATED:20210722T164816Z
LAST-MODIFIED:20210722T164816Z
UID:486-1626912000-1626998399@www.asiago7cbiketeam.com
SUMMARY:Sila Epic
DESCRIPTION:
URL:https://www.asiago7cbiketeam.com/event/sila-epic/
LOCATION:Camigliatello Silano (Cs)
CATEGORIES:MTB
END:VEVENT
BEGIN:VEVENT
DTSTART;VALUE=DATE:20210725
DTEND;VALUE=DATE:20210726
DTSTAMP:20260425T153730
CREATED:20210722T164117Z
LAST-MODIFIED:20210722T164117Z
UID:474-1627171200-1627257599@www.asiago7cbiketeam.com
SUMMARY:GT del Pratofiorito
DESCRIPTION:
URL:https://www.asiago7cbiketeam.com/event/gt-del-pratofiorito/
LOCATION:Bagni di Lucca (Lu)
CATEGORIES:MTB
END:VEVENT
BEGIN:VEVENT
DTSTART;VALUE=DATE:20210725
DTEND;VALUE=DATE:20210726
DTSTAMP:20260425T153730
CREATED:20210722T164249Z
LAST-MODIFIED:20210722T164249Z
UID:477-1627171200-1627257599@www.asiago7cbiketeam.com
SUMMARY:Tour de Salasses
DESCRIPTION:
URL:https://www.asiago7cbiketeam.com/event/tour-de-salasses/
LOCATION:La Salle (Ao)
CATEGORIES:MTB
END:VEVENT
BEGIN:VEVENT
DTSTART;VALUE=DATE:20210731
DTEND;VALUE=DATE:20210801
DTSTAMP:20260425T153730
CREATED:20210722T164442Z
LAST-MODIFIED:20210722T164442Z
UID:480-1627689600-1627775999@www.asiago7cbiketeam.com
SUMMARY:Alta Valtellina
DESCRIPTION:
URL:https://www.asiago7cbiketeam.com/event/alta-valtellina/
LOCATION:Valdidentro-Bormio (So)
CATEGORIES:MTB
END:VEVENT
END:VCALENDAR