BEGIN:VCALENDAR
VERSION:2.0
PRODID:-//Asiago 7C Bike Team - ECPv5.12.3//NONSGML v1.0//EN
CALSCALE:GREGORIAN
METHOD:PUBLISH
X-WR-CALNAME:Asiago 7C Bike Team
X-ORIGINAL-URL:https://www.asiago7cbiketeam.com
X-WR-CALDESC:Events for Asiago 7C Bike Team
REFRESH-INTERVAL;VALUE=DURATION:PT1H
X-Robots-Tag:noindex
X-PUBLISHED-TTL:PT1H
BEGIN:VTIMEZONE
TZID:Europe/Rome
BEGIN:DAYLIGHT
TZOFFSETFROM:+0100
TZOFFSETTO:+0200
TZNAME:CEST
DTSTART:20220327T010000
END:DAYLIGHT
BEGIN:STANDARD
TZOFFSETFROM:+0200
TZOFFSETTO:+0100
TZNAME:CET
DTSTART:20221030T010000
END:STANDARD
END:VTIMEZONE
BEGIN:VEVENT
DTSTART;VALUE=DATE:20220306
DTEND;VALUE=DATE:20220307
DTSTAMP:20260425T055452
CREATED:20220310T081647Z
LAST-MODIFIED:20220310T081647Z
UID:819-1646524800-1646611199@www.asiago7cbiketeam.com
SUMMARY:Orvieto Wine MX
DESCRIPTION:
URL:https://www.asiago7cbiketeam.com/event/orvieto-wine-mx/
LOCATION:Orvieto Scalo (TR)
CATEGORIES:MTB
END:VEVENT
BEGIN:VEVENT
DTSTART;VALUE=DATE:20220306
DTEND;VALUE=DATE:20220307
DTSTAMP:20260425T055452
CREATED:20220310T081817Z
LAST-MODIFIED:20220310T081817Z
UID:822-1646524800-1646611199@www.asiago7cbiketeam.com
SUMMARY:Lepini Bike Race
DESCRIPTION:
URL:https://www.asiago7cbiketeam.com/event/lepini-bike-race/
LOCATION:Patrica (FR)
CATEGORIES:MTB
END:VEVENT
BEGIN:VEVENT
DTSTART;VALUE=DATE:20220306
DTEND;VALUE=DATE:20220307
DTSTAMP:20260425T055452
CREATED:20220310T081931Z
LAST-MODIFIED:20220310T081931Z
UID:825-1646524800-1646611199@www.asiago7cbiketeam.com
SUMMARY:CronoTek
DESCRIPTION:
URL:https://www.asiago7cbiketeam.com/event/cronotek/
LOCATION:Galzignano Terme (PD)
CATEGORIES:MTB
END:VEVENT
BEGIN:VEVENT
DTSTART;VALUE=DATE:20220306
DTEND;VALUE=DATE:20220307
DTSTAMP:20260425T055452
CREATED:20220310T082034Z
LAST-MODIFIED:20220310T082034Z
UID:828-1646524800-1646611199@www.asiago7cbiketeam.com
SUMMARY:Energy Marathon
DESCRIPTION:
URL:https://www.asiago7cbiketeam.com/event/energy-marathon-2/
LOCATION:Carpendolo (Bs)
CATEGORIES:MTB
END:VEVENT
BEGIN:VEVENT
DTSTART;VALUE=DATE:20220313
DTEND;VALUE=DATE:20220314
DTSTAMP:20260425T055452
CREATED:20220310T082342Z
LAST-MODIFIED:20220310T082342Z
UID:830-1647129600-1647215999@www.asiago7cbiketeam.com
SUMMARY:Bardolino Bike
DESCRIPTION:
URL:https://www.asiago7cbiketeam.com/event/bardolino-bike-2/
LOCATION:Bardolino (VR)
CATEGORIES:MTB
END:VEVENT
BEGIN:VEVENT
DTSTART;VALUE=DATE:20220313
DTEND;VALUE=DATE:20220314
DTSTAMP:20260425T055452
CREATED:20220310T082456Z
LAST-MODIFIED:20220310T082456Z
UID:833-1647129600-1647215999@www.asiago7cbiketeam.com
SUMMARY:Bacialla Bike
DESCRIPTION:
URL:https://www.asiago7cbiketeam.com/event/bacialla-bike-2/
LOCATION:Terentola Cortona (AR)
CATEGORIES:MTB
END:VEVENT
BEGIN:VEVENT
DTSTART;VALUE=DATE:20220313
DTEND;VALUE=DATE:20220314
DTSTAMP:20260425T055452
CREATED:20220310T082610Z
LAST-MODIFIED:20220310T082610Z
UID:836-1647129600-1647215999@www.asiago7cbiketeam.com
SUMMARY:Wild Valtrompia
DESCRIPTION:
URL:https://www.asiago7cbiketeam.com/event/wild-valtrompia/
LOCATION:Concesio (BS)
CATEGORIES:MTB
END:VEVENT
BEGIN:VEVENT
DTSTART;TZID=Europe/Rome:20220320T080000
DTEND;TZID=Europe/Rome:20220320T170000
DTSTAMP:20260425T055452
CREATED:20220310T082710Z
LAST-MODIFIED:20220310T082710Z
UID:839-1647763200-1647795600@www.asiago7cbiketeam.com
SUMMARY:C. di Monteriggioni
DESCRIPTION:
URL:https://www.asiago7cbiketeam.com/event/c-di-monteriggioni/
LOCATION:Monteriggioni (Si)
CATEGORIES:MTB
END:VEVENT
BEGIN:VEVENT
DTSTART;VALUE=DATE:20220327
DTEND;VALUE=DATE:20220328
DTSTAMP:20260425T055452
CREATED:20220310T082800Z
LAST-MODIFIED:20220310T082800Z
UID:841-1648339200-1648425599@www.asiago7cbiketeam.com
SUMMARY:Rampichiana
DESCRIPTION:
URL:https://www.asiago7cbiketeam.com/event/rampichiana-2/
LOCATION:Arezzo
CATEGORIES:MTB
END:VEVENT
BEGIN:VEVENT
DTSTART;VALUE=DATE:20220327
DTEND;VALUE=DATE:20220328
DTSTAMP:20260425T055452
CREATED:20220310T082942Z
LAST-MODIFIED:20220310T082942Z
UID:844-1648339200-1648425599@www.asiago7cbiketeam.com
SUMMARY:Tre Valli by Gist
DESCRIPTION:
URL:https://www.asiago7cbiketeam.com/event/tre-valli-by-gist/
LOCATION:Tregnago (VR)
CATEGORIES:MTB
END:VEVENT
BEGIN:VEVENT
DTSTART;VALUE=DATE:20220327
DTEND;VALUE=DATE:20220328
DTSTAMP:20260425T055452
CREATED:20220310T083331Z
LAST-MODIFIED:20220310T083331Z
UID:847-1648339200-1648425599@www.asiago7cbiketeam.com
SUMMARY:Muretto di Alassio
DESCRIPTION:
URL:https://www.asiago7cbiketeam.com/event/muretto-di-alassio/
LOCATION:Alassio (Sv)
CATEGORIES:MTB
END:VEVENT
END:VCALENDAR