BEGIN:VCALENDAR
VERSION:2.0
PRODID:-//Asiago 7C Bike Team - ECPv5.12.3//NONSGML v1.0//EN
CALSCALE:GREGORIAN
METHOD:PUBLISH
X-WR-CALNAME:Asiago 7C Bike Team
X-ORIGINAL-URL:https://www.asiago7cbiketeam.com
X-WR-CALDESC:Events for Asiago 7C Bike Team
REFRESH-INTERVAL;VALUE=DURATION:PT1H
X-Robots-Tag:noindex
X-PUBLISHED-TTL:PT1H
BEGIN:VTIMEZONE
TZID:Europe/Rome
BEGIN:DAYLIGHT
TZOFFSETFROM:+0100
TZOFFSETTO:+0200
TZNAME:CEST
DTSTART:20220327T010000
END:DAYLIGHT
BEGIN:STANDARD
TZOFFSETFROM:+0200
TZOFFSETTO:+0100
TZNAME:CET
DTSTART:20221030T010000
END:STANDARD
END:VTIMEZONE
BEGIN:VEVENT
DTSTART;VALUE=DATE:20220703
DTEND;VALUE=DATE:20220704
DTSTAMP:20260425T012351
CREATED:20220310T092757Z
LAST-MODIFIED:20220310T092757Z
UID:953-1656806400-1656892799@www.asiago7cbiketeam.com
SUMMARY:Six2
DESCRIPTION:
URL:https://www.asiago7cbiketeam.com/event/six2/
LOCATION:Riolo Terme (RA)
CATEGORIES:MTB
END:VEVENT
BEGIN:VEVENT
DTSTART;VALUE=DATE:20220703
DTEND;VALUE=DATE:20220704
DTSTAMP:20260425T012351
CREATED:20220310T092845Z
LAST-MODIFIED:20220310T092845Z
UID:956-1656806400-1656892799@www.asiago7cbiketeam.com
SUMMARY:Assietta Legend
DESCRIPTION:
URL:https://www.asiago7cbiketeam.com/event/assietta-legend-2/
LOCATION:Sestriere (To)
CATEGORIES:MTB
END:VEVENT
BEGIN:VEVENT
DTSTART;VALUE=DATE:20220703
DTEND;VALUE=DATE:20220704
DTSTAMP:20260425T012351
CREATED:20220310T093011Z
LAST-MODIFIED:20220310T093011Z
UID:958-1656806400-1656892799@www.asiago7cbiketeam.com
SUMMARY:Martani Superbike
DESCRIPTION:
URL:https://www.asiago7cbiketeam.com/event/martani-superbike-2/
LOCATION:Massa Martana (Pg)
CATEGORIES:MTB
END:VEVENT
BEGIN:VEVENT
DTSTART;VALUE=DATE:20220710
DTEND;VALUE=DATE:20220711
DTSTAMP:20260425T012351
CREATED:20220310T093057Z
LAST-MODIFIED:20220310T093057Z
UID:960-1657411200-1657497599@www.asiago7cbiketeam.com
SUMMARY:Dolomiti Superbike
DESCRIPTION:
URL:https://www.asiago7cbiketeam.com/event/dolomiti-superbike-2/
LOCATION:Villabassa(Bz)
CATEGORIES:MTB
END:VEVENT
BEGIN:VEVENT
DTSTART;VALUE=DATE:20220710
DTEND;VALUE=DATE:20220711
DTSTAMP:20260425T012351
CREATED:20220310T093146Z
LAST-MODIFIED:20220310T093146Z
UID:962-1657411200-1657497599@www.asiago7cbiketeam.com
SUMMARY:Marathon Bike Haiti
DESCRIPTION:
URL:https://www.asiago7cbiketeam.com/event/marathon-bike-haiti/
LOCATION:Attimis (UD)
CATEGORIES:MTB
END:VEVENT
BEGIN:VEVENT
DTSTART;VALUE=DATE:20220710
DTEND;VALUE=DATE:20220711
DTSTAMP:20260425T012351
CREATED:20220310T093235Z
LAST-MODIFIED:20220310T093235Z
UID:965-1657411200-1657497599@www.asiago7cbiketeam.com
SUMMARY:Sentiero del Fumaiolo
DESCRIPTION:
URL:https://www.asiago7cbiketeam.com/event/sentiero-del-fumaiolo/
LOCATION:Balze (FC)
CATEGORIES:MTB
END:VEVENT
BEGIN:VEVENT
DTSTART;VALUE=DATE:20220717
DTEND;VALUE=DATE:20220718
DTSTAMP:20260425T012351
CREATED:20220310T093732Z
LAST-MODIFIED:20220310T093732Z
UID:968-1658016000-1658102399@www.asiago7cbiketeam.com
SUMMARY:Italiano Marathon
DESCRIPTION:
URL:https://www.asiago7cbiketeam.com/event/italiano-marathon/
LOCATION:Casella (GE)
CATEGORIES:MTB
END:VEVENT
BEGIN:VEVENT
DTSTART;VALUE=DATE:20220717
DTEND;VALUE=DATE:20220718
DTSTAMP:20260425T012351
CREATED:20220310T093823Z
LAST-MODIFIED:20220310T093823Z
UID:971-1658016000-1658102399@www.asiago7cbiketeam.com
SUMMARY:Pollino Marathon
DESCRIPTION:
URL:https://www.asiago7cbiketeam.com/event/pollino-marathon-2/
LOCATION:Terranova di Pollino (PZ)
CATEGORIES:MTB
END:VEVENT
BEGIN:VEVENT
DTSTART;VALUE=DATE:20220717
DTEND;VALUE=DATE:20220718
DTSTAMP:20260425T012351
CREATED:20220310T093912Z
LAST-MODIFIED:20220310T093912Z
UID:974-1658016000-1658102399@www.asiago7cbiketeam.com
SUMMARY:GT Pratofiorito
DESCRIPTION:
URL:https://www.asiago7cbiketeam.com/event/gt-pratofiorito/
LOCATION:Bagni di Lucca (Lu)
CATEGORIES:MTB
END:VEVENT
BEGIN:VEVENT
DTSTART;VALUE=DATE:20220717
DTEND;VALUE=DATE:20220718
DTSTAMP:20260425T012351
CREATED:20220310T094058Z
LAST-MODIFIED:20220310T094058Z
UID:976-1658016000-1658102399@www.asiago7cbiketeam.com
SUMMARY:Troi Trek
DESCRIPTION:
URL:https://www.asiago7cbiketeam.com/event/troi-trek/
LOCATION:Polcenigo (PN)
CATEGORIES:MTB
END:VEVENT
BEGIN:VEVENT
DTSTART;VALUE=DATE:20220723
DTEND;VALUE=DATE:20220724
DTSTAMP:20260425T012351
CREATED:20220310T094211Z
LAST-MODIFIED:20220310T094211Z
UID:979-1658534400-1658620799@www.asiago7cbiketeam.com
SUMMARY:Xevent - S. Vito di Cadore
DESCRIPTION:
URL:https://www.asiago7cbiketeam.com/event/xevent-s-vito-di-cadore/
LOCATION:San Vito di Cadore (BL)
CATEGORIES:MTB
END:VEVENT
BEGIN:VEVENT
DTSTART;VALUE=DATE:20220731
DTEND;VALUE=DATE:20220801
DTSTAMP:20260425T012351
CREATED:20220310T094528Z
LAST-MODIFIED:20220310T094528Z
UID:982-1659225600-1659311999@www.asiago7cbiketeam.com
SUMMARY:Presolana Race
DESCRIPTION:
URL:https://www.asiago7cbiketeam.com/event/presolana-race/
LOCATION:Rovetta (BG)
CATEGORIES:MTB
END:VEVENT
END:VCALENDAR