BEGIN:VCALENDAR
VERSION:2.0
PRODID:-//Asiago 7C Bike Team - ECPv5.12.3//NONSGML v1.0//EN
CALSCALE:GREGORIAN
METHOD:PUBLISH
X-WR-CALNAME:Asiago 7C Bike Team
X-ORIGINAL-URL:https://www.asiago7cbiketeam.com
X-WR-CALDESC:Events for Asiago 7C Bike Team
REFRESH-INTERVAL;VALUE=DURATION:PT1H
X-Robots-Tag:noindex
X-PUBLISHED-TTL:PT1H
BEGIN:VTIMEZONE
TZID:Europe/Rome
BEGIN:DAYLIGHT
TZOFFSETFROM:+0100
TZOFFSETTO:+0200
TZNAME:CEST
DTSTART:20210328T010000
END:DAYLIGHT
BEGIN:STANDARD
TZOFFSETFROM:+0200
TZOFFSETTO:+0100
TZNAME:CET
DTSTART:20211031T010000
END:STANDARD
END:VTIMEZONE
BEGIN:VEVENT
DTSTART;VALUE=DATE:20210731
DTEND;VALUE=DATE:20210801
DTSTAMP:20260425T182837
CREATED:20210722T164442Z
LAST-MODIFIED:20210722T164442Z
UID:480-1627689600-1627775999@www.asiago7cbiketeam.com
SUMMARY:Alta Valtellina
DESCRIPTION:
URL:https://www.asiago7cbiketeam.com/event/alta-valtellina/
LOCATION:Valdidentro-Bormio (So)
CATEGORIES:MTB
END:VEVENT
BEGIN:VEVENT
DTSTART;VALUE=DATE:20210801
DTEND;VALUE=DATE:20210802
DTSTAMP:20260425T182837
CREATED:20210722T164556Z
LAST-MODIFIED:20210722T164556Z
UID:483-1627776000-1627862399@www.asiago7cbiketeam.com
SUMMARY:Padalonga
DESCRIPTION:
URL:https://www.asiago7cbiketeam.com/event/padalonga/
LOCATION:Val Comelico (Bi)
CATEGORIES:MTB
END:VEVENT
BEGIN:VEVENT
DTSTART;VALUE=DATE:20210820
DTEND;VALUE=DATE:20210821
DTSTAMP:20260425T182837
CREATED:20210722T165203Z
LAST-MODIFIED:20210722T165203Z
UID:492-1629417600-1629503999@www.asiago7cbiketeam.com
SUMMARY:Aprica
DESCRIPTION:
URL:https://www.asiago7cbiketeam.com/event/aprica/
LOCATION:Aprica (So)
CATEGORIES:MTB
END:VEVENT
BEGIN:VEVENT
DTSTART;VALUE=DATE:20210828
DTEND;VALUE=DATE:20210829
DTSTAMP:20260425T182837
CREATED:20210722T165055Z
LAST-MODIFIED:20210722T165055Z
UID:489-1630108800-1630195199@www.asiago7cbiketeam.com
SUMMARY:Kronplatzking
DESCRIPTION:
URL:https://www.asiago7cbiketeam.com/event/kronplatzking/
LOCATION:San Vigilio di Marebbe (Bz)
CATEGORIES:MTB
END:VEVENT
BEGIN:VEVENT
DTSTART;VALUE=DATE:20210829
DTEND;VALUE=DATE:20210830
DTSTAMP:20260425T182837
CREATED:20210722T165455Z
LAST-MODIFIED:20210722T165455Z
UID:494-1630195200-1630281599@www.asiago7cbiketeam.com
SUMMARY:Sicily Epic
DESCRIPTION:
URL:https://www.asiago7cbiketeam.com/event/sicily-epic/
LOCATION:Giarratana (Rg)
CATEGORIES:MTB
END:VEVENT
BEGIN:VEVENT
DTSTART;VALUE=DATE:20210829
DTEND;VALUE=DATE:20210830
DTSTAMP:20260425T182837
CREATED:20210722T165640Z
LAST-MODIFIED:20210722T165640Z
UID:497-1630195200-1630281599@www.asiago7cbiketeam.com
SUMMARY:Bacialla Bike
DESCRIPTION:
URL:https://www.asiago7cbiketeam.com/event/bacialla-bike/
LOCATION:Terontola (Ar)
CATEGORIES:MTB
END:VEVENT
BEGIN:VEVENT
DTSTART;VALUE=DATE:20210905
DTEND;VALUE=DATE:20210906
DTSTAMP:20260425T182837
CREATED:20210722T170006Z
LAST-MODIFIED:20210722T170006Z
UID:500-1630800000-1630886399@www.asiago7cbiketeam.com
SUMMARY:Monti Ausoni
DESCRIPTION:
URL:https://www.asiago7cbiketeam.com/event/monti-ausoni/
LOCATION:San Magno\, Fondi (Lt)
CATEGORIES:MTB
END:VEVENT
BEGIN:VEVENT
DTSTART;VALUE=DATE:20210905
DTEND;VALUE=DATE:20210906
DTSTAMP:20260425T182837
CREATED:20210722T170150Z
LAST-MODIFIED:20210722T170150Z
UID:503-1630800000-1630886399@www.asiago7cbiketeam.com
SUMMARY:Castello dei Conti
DESCRIPTION:
URL:https://www.asiago7cbiketeam.com/event/castello-dei-conti/
LOCATION:Modica (Rg)
CATEGORIES:MTB
END:VEVENT
BEGIN:VEVENT
DTSTART;VALUE=DATE:20210905
DTEND;VALUE=DATE:20210906
DTSTAMP:20260425T182837
CREATED:20210722T170303Z
LAST-MODIFIED:20210722T170303Z
UID:506-1630800000-1630886399@www.asiago7cbiketeam.com
SUMMARY:Mx della Brianza
DESCRIPTION:
URL:https://www.asiago7cbiketeam.com/event/mx-della-brianza/
LOCATION:Casatenovo (Lc)
CATEGORIES:MTB
END:VEVENT
BEGIN:VEVENT
DTSTART;VALUE=DATE:20210905
DTEND;VALUE=DATE:20210906
DTSTAMP:20260425T182837
CREATED:20210722T170519Z
LAST-MODIFIED:20210722T170519Z
UID:509-1630800000-1630886399@www.asiago7cbiketeam.com
SUMMARY:Soprazocco Bike
DESCRIPTION:
URL:https://www.asiago7cbiketeam.com/event/soprazocco-bike/
LOCATION:Soprazzo di Gavardo (Bs)
CATEGORIES:MTB
END:VEVENT
BEGIN:VEVENT
DTSTART;VALUE=DATE:20210911
DTEND;VALUE=DATE:20210912
DTSTAMP:20260425T182837
CREATED:20210722T170940Z
LAST-MODIFIED:20210722T170940Z
UID:516-1631318400-1631404799@www.asiago7cbiketeam.com
SUMMARY:Mythons Primiero
DESCRIPTION:
URL:https://www.asiago7cbiketeam.com/event/mythons-primiero/
LOCATION:Fiera di Primiero (Tn)
CATEGORIES:MTB
END:VEVENT
BEGIN:VEVENT
DTSTART;VALUE=DATE:20210912
DTEND;VALUE=DATE:20210913
DTSTAMP:20260425T182837
CREATED:20210722T171341Z
LAST-MODIFIED:20210722T171341Z
UID:523-1631404800-1631491199@www.asiago7cbiketeam.com
SUMMARY:Gf D'Autunno
DESCRIPTION:
URL:https://www.asiago7cbiketeam.com/event/gf-dautunno/
LOCATION:Parona di Valpolicella (Vr)
CATEGORIES:MTB
END:VEVENT
BEGIN:VEVENT
DTSTART;VALUE=DATE:20210912
DTEND;VALUE=DATE:20210913
DTSTAMP:20260425T182837
CREATED:20210722T171517Z
LAST-MODIFIED:20210722T171517Z
UID:526-1631404800-1631491199@www.asiago7cbiketeam.com
SUMMARY:Gran Paradiso Bike
DESCRIPTION:
URL:https://www.asiago7cbiketeam.com/event/gran-paradiso-bike/
LOCATION:Cogne (Ao)
CATEGORIES:MTB
END:VEVENT
BEGIN:VEVENT
DTSTART;VALUE=DATE:20210912
DTEND;VALUE=DATE:20210913
DTSTAMP:20260425T182837
CREATED:20210722T171740Z
LAST-MODIFIED:20210722T171740Z
UID:530-1631404800-1631491199@www.asiago7cbiketeam.com
SUMMARY:Sinalunga
DESCRIPTION:
URL:https://www.asiago7cbiketeam.com/event/sinalunga/
LOCATION:Sinalunga (Si)
CATEGORIES:MTB
END:VEVENT
BEGIN:VEVENT
DTSTART;VALUE=DATE:20210912
DTEND;VALUE=DATE:20210913
DTSTAMP:20260425T182837
CREATED:20210722T171927Z
LAST-MODIFIED:20210722T171927Z
UID:533-1631404800-1631491199@www.asiago7cbiketeam.com
SUMMARY:GF delle Terme
DESCRIPTION:
URL:https://www.asiago7cbiketeam.com/event/gf-delle-terme/
LOCATION:Montecatini Terme (Pt)
CATEGORIES:MTB
END:VEVENT
BEGIN:VEVENT
DTSTART;VALUE=DATE:20210919
DTEND;VALUE=DATE:20210920
DTSTAMP:20260425T182837
CREATED:20210722T172110Z
LAST-MODIFIED:20210722T172110Z
UID:536-1632009600-1632095999@www.asiago7cbiketeam.com
SUMMARY:Via dell'Ossidiana
DESCRIPTION:
URL:https://www.asiago7cbiketeam.com/event/via-dellossidiana/
LOCATION:Pau (Or)
CATEGORIES:MTB
END:VEVENT
BEGIN:VEVENT
DTSTART;VALUE=DATE:20210919
DTEND;VALUE=DATE:20210920
DTSTAMP:20260425T182837
CREATED:20210722T172238Z
LAST-MODIFIED:20210722T172238Z
UID:539-1632009600-1632095999@www.asiago7cbiketeam.com
SUMMARY:Gf Monte San Giorgio
DESCRIPTION:
URL:https://www.asiago7cbiketeam.com/event/gf-monte-san-giorgio/
LOCATION:Piossasco (To)
CATEGORIES:MTB
END:VEVENT
BEGIN:VEVENT
DTSTART;VALUE=DATE:20210919
DTEND;VALUE=DATE:20210920
DTSTAMP:20260425T182837
CREATED:20210722T172416Z
LAST-MODIFIED:20210722T172416Z
UID:544-1632009600-1632095999@www.asiago7cbiketeam.com
SUMMARY:Etna Marathon
DESCRIPTION:
URL:https://www.asiago7cbiketeam.com/event/etna-marathon/
LOCATION:Milo (Ct)
CATEGORIES:MTB
END:VEVENT
BEGIN:VEVENT
DTSTART;VALUE=DATE:20210919
DTEND;VALUE=DATE:20210920
DTSTAMP:20260425T182837
CREATED:20210722T172523Z
LAST-MODIFIED:20210722T172523Z
UID:548-1632009600-1632095999@www.asiago7cbiketeam.com
SUMMARY:Rampiconero
DESCRIPTION:
URL:https://www.asiago7cbiketeam.com/event/rampiconero/
LOCATION:Camerano (An)
CATEGORIES:MTB
END:VEVENT
BEGIN:VEVENT
DTSTART;VALUE=DATE:20210926
DTEND;VALUE=DATE:20210927
DTSTAMP:20260425T182837
CREATED:20210722T172749Z
LAST-MODIFIED:20210722T172749Z
UID:551-1632614400-1632700799@www.asiago7cbiketeam.com
SUMMARY:Mx Valle del Farfa
DESCRIPTION:
URL:https://www.asiago7cbiketeam.com/event/mx-valle-del-farfa/
LOCATION:Castelnuovo di Farfa (RI)
CATEGORIES:MTB
END:VEVENT
BEGIN:VEVENT
DTSTART;VALUE=DATE:20210926
DTEND;VALUE=DATE:20210927
DTSTAMP:20260425T182837
CREATED:20210722T172943Z
LAST-MODIFIED:20210722T172943Z
UID:553-1632614400-1632700799@www.asiago7cbiketeam.com
SUMMARY:GimondiBike
DESCRIPTION:
URL:https://www.asiago7cbiketeam.com/event/gimondibike/
LOCATION:Iseo Franciacorta (Bs)
CATEGORIES:MTB
END:VEVENT
BEGIN:VEVENT
DTSTART;VALUE=DATE:20210926
DTEND;VALUE=DATE:20210927
DTSTAMP:20260425T182837
CREATED:20210722T173140Z
LAST-MODIFIED:20210722T173140Z
UID:556-1632614400-1632700799@www.asiago7cbiketeam.com
SUMMARY:Mx Dell'Altopiano
DESCRIPTION:
URL:https://www.asiago7cbiketeam.com/event/mx-dellaltopiano/
LOCATION:Gallio (Vi)
CATEGORIES:MTB
END:VEVENT
BEGIN:VEVENT
DTSTART;VALUE=DATE:20210926
DTEND;VALUE=DATE:20210927
DTSTAMP:20260425T182837
CREATED:20210722T173424Z
LAST-MODIFIED:20210722T173424Z
UID:560-1632614400-1632700799@www.asiago7cbiketeam.com
SUMMARY:Valle dei Vini
DESCRIPTION:
URL:https://www.asiago7cbiketeam.com/event/valle-dei-vini/
LOCATION:Sambuca di Sicilia (Ag)
CATEGORIES:MTB
END:VEVENT
BEGIN:VEVENT
DTSTART;VALUE=DATE:20210926
DTEND;VALUE=DATE:20210927
DTSTAMP:20260425T182837
CREATED:20210722T173647Z
LAST-MODIFIED:20210722T173647Z
UID:563-1632614400-1632700799@www.asiago7cbiketeam.com
SUMMARY:Eremita e Marzano
DESCRIPTION:
URL:https://www.asiago7cbiketeam.com/event/eremita-e-marzano/
LOCATION:Colliano (Sa)
CATEGORIES:MTB
END:VEVENT
BEGIN:VEVENT
DTSTART;VALUE=DATE:20211003
DTEND;VALUE=DATE:20211004
DTSTAMP:20260425T182837
CREATED:20210722T173827Z
LAST-MODIFIED:20210722T173827Z
UID:566-1633219200-1633305599@www.asiago7cbiketeam.com
SUMMARY:Energy Marathon
DESCRIPTION:
URL:https://www.asiago7cbiketeam.com/event/energy-marathon/
LOCATION:Carpendolo (Bs)
CATEGORIES:MTB
END:VEVENT
BEGIN:VEVENT
DTSTART;VALUE=DATE:20211003
DTEND;VALUE=DATE:20211004
DTSTAMP:20260425T182837
CREATED:20210722T174036Z
LAST-MODIFIED:20210722T174036Z
UID:569-1633219200-1633305599@www.asiago7cbiketeam.com
SUMMARY:Capoliveri Legend
DESCRIPTION:
URL:https://www.asiago7cbiketeam.com/event/capoliveri-legend/
LOCATION:Capoliveri (Li)-Isola d’elba
CATEGORIES:MTB
END:VEVENT
BEGIN:VEVENT
DTSTART;VALUE=DATE:20211010
DTEND;VALUE=DATE:20211011
DTSTAMP:20260425T182837
CREATED:20210722T180311Z
LAST-MODIFIED:20210722T180311Z
UID:572-1633824000-1633910399@www.asiago7cbiketeam.com
SUMMARY:Garda Marathon
DESCRIPTION:
URL:https://www.asiago7cbiketeam.com/event/garda-marathon/
LOCATION:Garda (VR)
CATEGORIES:MTB
END:VEVENT
BEGIN:VEVENT
DTSTART;VALUE=DATE:20211010
DTEND;VALUE=DATE:20211011
DTSTAMP:20260425T182837
CREATED:20210722T180428Z
LAST-MODIFIED:20210722T180428Z
UID:574-1633824000-1633910399@www.asiago7cbiketeam.com
SUMMARY:Aironbike
DESCRIPTION:
URL:https://www.asiago7cbiketeam.com/event/aironbike/
LOCATION:Guastalla (Re)
CATEGORIES:MTB
END:VEVENT
BEGIN:VEVENT
DTSTART;VALUE=DATE:20211016
DTEND;VALUE=DATE:20211017
DTSTAMP:20260425T182837
CREATED:20210722T180549Z
LAST-MODIFIED:20210722T180549Z
UID:577-1634342400-1634428799@www.asiago7cbiketeam.com
SUMMARY:Riva Bike Marathon
DESCRIPTION:
URL:https://www.asiago7cbiketeam.com/event/riva-bike-marathon/
LOCATION:Riva del Garda (Tn)
CATEGORIES:MTB
END:VEVENT
BEGIN:VEVENT
DTSTART;VALUE=DATE:20211017
DTEND;VALUE=DATE:20211018
DTSTAMP:20260425T182837
CREATED:20210722T180710Z
LAST-MODIFIED:20210722T180710Z
UID:580-1634428800-1634515199@www.asiago7cbiketeam.com
SUMMARY:GF Monteriggioni
DESCRIPTION:
URL:https://www.asiago7cbiketeam.com/event/gf-monteriggioni/
LOCATION:Monteriggioni (Si)
CATEGORIES:MTB
END:VEVENT
END:VCALENDAR