BEGIN:VCALENDAR
VERSION:2.0
PRODID:-//Asiago 7C Bike Team - ECPv5.12.3//NONSGML v1.0//EN
CALSCALE:GREGORIAN
METHOD:PUBLISH
X-WR-CALNAME:Asiago 7C Bike Team
X-ORIGINAL-URL:https://www.asiago7cbiketeam.com
X-WR-CALDESC:Events for Asiago 7C Bike Team
REFRESH-INTERVAL;VALUE=DURATION:PT1H
X-Robots-Tag:noindex
X-PUBLISHED-TTL:PT1H
BEGIN:VTIMEZONE
TZID:Europe/Rome
BEGIN:DAYLIGHT
TZOFFSETFROM:+0100
TZOFFSETTO:+0200
TZNAME:CEST
DTSTART:20240331T010000
END:DAYLIGHT
BEGIN:STANDARD
TZOFFSETFROM:+0200
TZOFFSETTO:+0100
TZNAME:CET
DTSTART:20241027T010000
END:STANDARD
END:VTIMEZONE
BEGIN:VEVENT
DTSTART;VALUE=DATE:20240615
DTEND;VALUE=DATE:20240616
DTSTAMP:20260420T152152
CREATED:20240401T073725Z
LAST-MODIFIED:20240401T073725Z
UID:1178-1718409600-1718495999@www.asiago7cbiketeam.com
SUMMARY:Bmw Hero Dolomites
DESCRIPTION:
URL:https://www.asiago7cbiketeam.com/event/bmw-hero-dolomites/
LOCATION:Selva Val Gardena (BZ)
CATEGORIES:MTB
END:VEVENT
BEGIN:VEVENT
DTSTART;VALUE=DATE:20240616
DTEND;VALUE=DATE:20240617
DTSTAMP:20260420T152152
CREATED:20240401T073842Z
LAST-MODIFIED:20240401T073842Z
UID:1182-1718496000-1718582399@www.asiago7cbiketeam.com
SUMMARY:GF delle Sorgenti
DESCRIPTION:
URL:https://www.asiago7cbiketeam.com/event/gf-delle-sorgenti-2/
LOCATION:Nocera Umbra (Pg)
CATEGORIES:MTB
END:VEVENT
BEGIN:VEVENT
DTSTART;VALUE=DATE:20240616
DTEND;VALUE=DATE:20240617
DTSTAMP:20260420T152152
CREATED:20240401T074027Z
LAST-MODIFIED:20240401T074027Z
UID:1185-1718496000-1718582399@www.asiago7cbiketeam.com
SUMMARY:Leonessa Mx Cup
DESCRIPTION:
URL:https://www.asiago7cbiketeam.com/event/leonessa-mx-cup/
LOCATION:Leonessa (RI)
CATEGORIES:MTB
END:VEVENT
BEGIN:VEVENT
DTSTART;VALUE=DATE:20240616
DTEND;VALUE=DATE:20240617
DTSTAMP:20260420T152152
CREATED:20240401T074153Z
LAST-MODIFIED:20240401T074153Z
UID:1189-1718496000-1718582399@www.asiago7cbiketeam.com
SUMMARY:Marathon Aragonesi
DESCRIPTION:
URL:https://www.asiago7cbiketeam.com/event/marathon-aragonesi/
LOCATION:Campotenese – Morano Calabro (CS)
CATEGORIES:MTB
END:VEVENT
BEGIN:VEVENT
DTSTART;VALUE=DATE:20240623
DTEND;VALUE=DATE:20240624
DTSTAMP:20260420T152152
CREATED:20240401T074447Z
LAST-MODIFIED:20240401T074447Z
UID:1197-1719100800-1719187199@www.asiago7cbiketeam.com
SUMMARY:Est! Est! Est!
DESCRIPTION:
URL:https://www.asiago7cbiketeam.com/event/est-est-est/
LOCATION:Montefiascone (VT)
CATEGORIES:MTB
END:VEVENT
BEGIN:VEVENT
DTSTART;VALUE=DATE:20240623
DTEND;VALUE=DATE:20240624
DTSTAMP:20260420T152152
CREATED:20240401T074605Z
LAST-MODIFIED:20240401T074605Z
UID:1201-1719100800-1719187199@www.asiago7cbiketeam.com
SUMMARY:La Via del Sale
DESCRIPTION:
URL:https://www.asiago7cbiketeam.com/event/la-via-del-sale-3/
LOCATION:Limone Piemonte (Cn)
CATEGORIES:MTB
END:VEVENT
BEGIN:VEVENT
DTSTART;VALUE=DATE:20240623
DTEND;VALUE=DATE:20240624
DTSTAMP:20260420T152152
CREATED:20240401T074700Z
LAST-MODIFIED:20240401T074700Z
UID:1204-1719100800-1719187199@www.asiago7cbiketeam.com
SUMMARY:Marathon Altopiano
DESCRIPTION:
URL:https://www.asiago7cbiketeam.com/event/marathon-altopiano/
LOCATION:Gallio (Vi)
CATEGORIES:MTB
END:VEVENT
BEGIN:VEVENT
DTSTART;VALUE=DATE:20240623
DTEND;VALUE=DATE:20240624
DTSTAMP:20260420T152152
CREATED:20240401T074817Z
LAST-MODIFIED:20240401T074817Z
UID:1207-1719100800-1719187199@www.asiago7cbiketeam.com
SUMMARY:Soprazocco Bike
DESCRIPTION:
URL:https://www.asiago7cbiketeam.com/event/soprazocco-bike-3/
LOCATION:Puegnago del Garda (BS)
CATEGORIES:MTB
END:VEVENT
BEGIN:VEVENT
DTSTART;VALUE=DATE:20240623
DTEND;VALUE=DATE:20240624
DTSTAMP:20260420T152152
CREATED:20240401T074323Z
LAST-MODIFIED:20240401T074338Z
UID:1193-1719100800-1719187199@www.asiago7cbiketeam.com
SUMMARY:Città di Poppi
DESCRIPTION:
URL:https://www.asiago7cbiketeam.com/event/citta-di-poppi/
LOCATION:Poppi (AR)
CATEGORIES:MTB
END:VEVENT
BEGIN:VEVENT
DTSTART;VALUE=DATE:20240629
DTEND;VALUE=DATE:20240630
DTSTAMP:20260420T152152
CREATED:20240401T075006Z
LAST-MODIFIED:20240401T075006Z
UID:1211-1719619200-1719705599@www.asiago7cbiketeam.com
SUMMARY:Dolomitica Brenta
DESCRIPTION:
URL:https://www.asiago7cbiketeam.com/event/dolomitica-brenta-2/
LOCATION:Pinzolo (Tn)
CATEGORIES:MTB
END:VEVENT
BEGIN:VEVENT
DTSTART;VALUE=DATE:20240630
DTEND;VALUE=DATE:20240701
DTSTAMP:20260420T152152
CREATED:20240401T075149Z
LAST-MODIFIED:20240401T075149Z
UID:1214-1719705600-1719791999@www.asiago7cbiketeam.com
SUMMARY:209 Marathon
DESCRIPTION:
URL:https://www.asiago7cbiketeam.com/event/209-marathon/
LOCATION:Arrone (TR)
CATEGORIES:MTB
END:VEVENT
BEGIN:VEVENT
DTSTART;VALUE=DATE:20240630
DTEND;VALUE=DATE:20240701
DTSTAMP:20260420T152152
CREATED:20240401T075244Z
LAST-MODIFIED:20240401T075244Z
UID:1218-1719705600-1719791999@www.asiago7cbiketeam.com
SUMMARY:Pollino Marathon
DESCRIPTION:
URL:https://www.asiago7cbiketeam.com/event/pollino-marathon-3/
LOCATION:Terranova di Pollino (PZ)
CATEGORIES:MTB
END:VEVENT
BEGIN:VEVENT
DTSTART;VALUE=DATE:20240707
DTEND;VALUE=DATE:20240708
DTSTAMP:20260420T152152
CREATED:20240401T075348Z
LAST-MODIFIED:20240401T075348Z
UID:1221-1720310400-1720396799@www.asiago7cbiketeam.com
SUMMARY:Assietta Legend
DESCRIPTION:
URL:https://www.asiago7cbiketeam.com/event/assietta-legend-3/
LOCATION:Sestriere (To)
CATEGORIES:MTB
END:VEVENT
BEGIN:VEVENT
DTSTART;VALUE=DATE:20240707
DTEND;VALUE=DATE:20240708
DTSTAMP:20260420T152152
CREATED:20240401T075504Z
LAST-MODIFIED:20240401T075504Z
UID:1224-1720310400-1720396799@www.asiago7cbiketeam.com
SUMMARY:Martani Superbike
DESCRIPTION:
URL:https://www.asiago7cbiketeam.com/event/martani-superbike-3/
LOCATION:Massa Martana (Pg)
CATEGORIES:MTB
END:VEVENT
BEGIN:VEVENT
DTSTART;VALUE=DATE:20240707
DTEND;VALUE=DATE:20240708
DTSTAMP:20260420T152152
CREATED:20240401T075618Z
LAST-MODIFIED:20240401T075618Z
UID:1227-1720310400-1720396799@www.asiago7cbiketeam.com
SUMMARY:V. Camonica Bike Enjoy
DESCRIPTION:
URL:https://www.asiago7cbiketeam.com/event/v-camonica-bike-enjoy/
LOCATION:Borno (BS)
CATEGORIES:MTB
END:VEVENT
BEGIN:VEVENT
DTSTART;VALUE=DATE:20240713
DTEND;VALUE=DATE:20240714
DTSTAMP:20260420T152152
CREATED:20240401T075735Z
LAST-MODIFIED:20240401T075735Z
UID:1231-1720828800-1720915199@www.asiago7cbiketeam.com
SUMMARY:Dolomiti Superbike
DESCRIPTION:
URL:https://www.asiago7cbiketeam.com/event/dolomiti-superbike-3/
LOCATION:Villabassa(Bz)
CATEGORIES:MTB
END:VEVENT
BEGIN:VEVENT
DTSTART;VALUE=DATE:20240714
DTEND;VALUE=DATE:20240715
DTSTAMP:20260420T152152
CREATED:20240401T075821Z
LAST-MODIFIED:20240401T075821Z
UID:1234-1720915200-1721001599@www.asiago7cbiketeam.com
SUMMARY:Sila Epic
DESCRIPTION:
URL:https://www.asiago7cbiketeam.com/event/sila-epic-2/
LOCATION:Camigliatello Silano (Cs)
CATEGORIES:MTB
END:VEVENT
BEGIN:VEVENT
DTSTART;VALUE=DATE:20240720
DTEND;VALUE=DATE:20240721
DTSTAMP:20260420T152152
CREATED:20240401T075942Z
LAST-MODIFIED:20240401T075942Z
UID:1237-1721433600-1721519999@www.asiago7cbiketeam.com
SUMMARY:Valsugana Wild Ride
DESCRIPTION:
URL:https://www.asiago7cbiketeam.com/event/valsugana-wild-ride/
LOCATION:Telve (TN)
CATEGORIES:MTB
END:VEVENT
BEGIN:VEVENT
DTSTART;VALUE=DATE:20240721
DTEND;VALUE=DATE:20240722
DTSTAMP:20260420T152152
CREATED:20240401T080326Z
LAST-MODIFIED:20240401T080326Z
UID:1241-1721520000-1721606399@www.asiago7cbiketeam.com
SUMMARY:P. Simbruini e Livata
DESCRIPTION:
URL:https://www.asiago7cbiketeam.com/event/p-simbruini-e-livata/
LOCATION:Subiaco (Rm)
CATEGORIES:MTB
END:VEVENT
BEGIN:VEVENT
DTSTART;VALUE=DATE:20240721
DTEND;VALUE=DATE:20240722
DTSTAMP:20260420T152152
CREATED:20240401T080423Z
LAST-MODIFIED:20240401T080423Z
UID:1244-1721520000-1721606399@www.asiago7cbiketeam.com
SUMMARY:Xevent - S. Vito Cadore
DESCRIPTION:
URL:https://www.asiago7cbiketeam.com/event/xevent-s-vito-cadore/
LOCATION:San Vito di Cadore (BL)
CATEGORIES:MTB
END:VEVENT
BEGIN:VEVENT
DTSTART;VALUE=DATE:20240727
DTEND;VALUE=DATE:20240728
DTSTAMP:20260420T152152
CREATED:20240401T080537Z
LAST-MODIFIED:20240401T080537Z
UID:1246-1722038400-1722124799@www.asiago7cbiketeam.com
SUMMARY:Alta Valtellina Mx
DESCRIPTION:
URL:https://www.asiago7cbiketeam.com/event/alta-valtellina-mx/
LOCATION:Valdidentro (SO)
CATEGORIES:MTB
END:VEVENT
BEGIN:VEVENT
DTSTART;VALUE=DATE:20240728
DTEND;VALUE=DATE:20240729
DTSTAMP:20260420T152152
CREATED:20240401T080631Z
LAST-MODIFIED:20240401T080631Z
UID:1250-1722124800-1722211199@www.asiago7cbiketeam.com
SUMMARY:Troi Trek
DESCRIPTION:
URL:https://www.asiago7cbiketeam.com/event/troi-trek-2/
LOCATION:Polcenigo (PN)
CATEGORIES:MTB
END:VEVENT
BEGIN:VEVENT
DTSTART;VALUE=DATE:20240825
DTEND;VALUE=DATE:20240826
DTSTAMP:20260420T152152
CREATED:20240401T080833Z
LAST-MODIFIED:20240401T080833Z
UID:1256-1724544000-1724630399@www.asiago7cbiketeam.com
SUMMARY:Stragolem
DESCRIPTION:
URL:https://www.asiago7cbiketeam.com/event/stragolem/
LOCATION:Zone (BS)
CATEGORIES:MTB
END:VEVENT
BEGIN:VEVENT
DTSTART;TZID=Europe/Rome:20240825T080000
DTEND;TZID=Europe/Rome:20240825T170000
DTSTAMP:20260420T152152
CREATED:20240401T080733Z
LAST-MODIFIED:20240401T080733Z
UID:1253-1724572800-1724605200@www.asiago7cbiketeam.com
SUMMARY:Città di Labico
DESCRIPTION:
URL:https://www.asiago7cbiketeam.com/event/citta-di-labico/
LOCATION:Labico (Roma)
CATEGORIES:MTB
END:VEVENT
BEGIN:VEVENT
DTSTART;VALUE=DATE:20240831
DTEND;VALUE=DATE:20240901
DTSTAMP:20260420T152152
CREATED:20240401T081352Z
LAST-MODIFIED:20240401T081352Z
UID:1260-1725062400-1725148799@www.asiago7cbiketeam.com
SUMMARY:Kronplatz King
DESCRIPTION:
URL:https://www.asiago7cbiketeam.com/event/kronplatz-king/
LOCATION:www.kronplatzking.com
CATEGORIES:MTB
END:VEVENT
BEGIN:VEVENT
DTSTART;VALUE=DATE:20240901
DTEND;VALUE=DATE:20240902
DTSTAMP:20260420T152152
CREATED:20240401T081511Z
LAST-MODIFIED:20240401T081511Z
UID:1264-1725148800-1725235199@www.asiago7cbiketeam.com
SUMMARY:Montel Bike
DESCRIPTION:
URL:https://www.asiago7cbiketeam.com/event/montel-bike/
LOCATION:Volpago del Montello (TV)
CATEGORIES:MTB
END:VEVENT
BEGIN:VEVENT
DTSTART;VALUE=DATE:20240901
DTEND;VALUE=DATE:20240902
DTSTAMP:20260420T152152
CREATED:20240401T081613Z
LAST-MODIFIED:20240401T081613Z
UID:1268-1725148800-1725235199@www.asiago7cbiketeam.com
SUMMARY:South Garda Bike
DESCRIPTION:
URL:https://www.asiago7cbiketeam.com/event/south-garda-bike-2/
LOCATION:Medole (Mn)
CATEGORIES:MTB
END:VEVENT
BEGIN:VEVENT
DTSTART;VALUE=DATE:20240901
DTEND;VALUE=DATE:20240902
DTSTAMP:20260420T152152
CREATED:20240401T081703Z
LAST-MODIFIED:20240401T081703Z
UID:1271-1725148800-1725235199@www.asiago7cbiketeam.com
SUMMARY:Straccabike
DESCRIPTION:
URL:https://www.asiago7cbiketeam.com/event/straccabike-3/
LOCATION:Pratovecchio (Ar)
CATEGORIES:MTB
END:VEVENT
BEGIN:VEVENT
DTSTART;VALUE=DATE:20240907
DTEND;VALUE=DATE:20240908
DTSTAMP:20260420T152152
CREATED:20240401T081818Z
LAST-MODIFIED:20240401T081818Z
UID:1274-1725667200-1725753599@www.asiago7cbiketeam.com
SUMMARY:Mythos Primiero
DESCRIPTION:
URL:https://www.asiago7cbiketeam.com/event/mythos-primiero-2/
LOCATION:Fiera di Primiero (Tn)
CATEGORIES:MTB
END:VEVENT
BEGIN:VEVENT
DTSTART;VALUE=DATE:20240908
DTEND;VALUE=DATE:20240909
DTSTAMP:20260420T152152
CREATED:20240401T081931Z
LAST-MODIFIED:20240401T081931Z
UID:1277-1725753600-1725839999@www.asiago7cbiketeam.com
SUMMARY:Mx Castelli Romani
DESCRIPTION:
URL:https://www.asiago7cbiketeam.com/event/mx-castelli-romani/
LOCATION:Lariano (RM)
CATEGORIES:MTB
END:VEVENT
END:VCALENDAR