BEGIN:VCALENDAR
VERSION:2.0
PRODID:-//Asiago 7C Bike Team - ECPv5.12.3//NONSGML v1.0//EN
CALSCALE:GREGORIAN
METHOD:PUBLISH
X-WR-CALNAME:Asiago 7C Bike Team
X-ORIGINAL-URL:https://www.asiago7cbiketeam.com
X-WR-CALDESC:Events for Asiago 7C Bike Team
REFRESH-INTERVAL;VALUE=DURATION:PT1H
X-Robots-Tag:noindex
X-PUBLISHED-TTL:PT1H
BEGIN:VTIMEZONE
TZID:Europe/Rome
BEGIN:DAYLIGHT
TZOFFSETFROM:+0100
TZOFFSETTO:+0200
TZNAME:CEST
DTSTART:20240331T010000
END:DAYLIGHT
BEGIN:STANDARD
TZOFFSETFROM:+0200
TZOFFSETTO:+0100
TZNAME:CET
DTSTART:20241027T010000
END:STANDARD
END:VTIMEZONE
BEGIN:VEVENT
DTSTART;VALUE=DATE:20241006
DTEND;VALUE=DATE:20241007
DTSTAMP:20260420T081711
CREATED:20240401T083843Z
LAST-MODIFIED:20240401T083843Z
UID:1311-1728172800-1728259199@www.asiago7cbiketeam.com
SUMMARY:Casentino Bike
DESCRIPTION:
URL:https://www.asiago7cbiketeam.com/event/casentino-bike-3/
LOCATION:Bibbiena (Ar)
CATEGORIES:MTB
END:VEVENT
BEGIN:VEVENT
DTSTART;VALUE=DATE:20241006
DTEND;VALUE=DATE:20241007
DTSTAMP:20260420T081711
CREATED:20240401T083932Z
LAST-MODIFIED:20240401T083932Z
UID:1314-1728172800-1728259199@www.asiago7cbiketeam.com
SUMMARY:La Via dei Berici
DESCRIPTION:
URL:https://www.asiago7cbiketeam.com/event/la-via-dei-berici/
LOCATION:Vicenza
CATEGORIES:MTB
END:VEVENT
BEGIN:VEVENT
DTSTART;VALUE=DATE:20241013
DTEND;VALUE=DATE:20241014
DTSTAMP:20260420T081711
CREATED:20240401T084045Z
LAST-MODIFIED:20240401T084045Z
UID:1317-1728777600-1728863999@www.asiago7cbiketeam.com
SUMMARY:Fosbike
DESCRIPTION:
URL:https://www.asiago7cbiketeam.com/event/fosbike/
LOCATION:Carpi (MO)
CATEGORIES:MTB
END:VEVENT
BEGIN:VEVENT
DTSTART;VALUE=DATE:20241020
DTEND;VALUE=DATE:20241021
DTSTAMP:20260420T081711
CREATED:20240401T084140Z
LAST-MODIFIED:20240401T084140Z
UID:1321-1729382400-1729468799@www.asiago7cbiketeam.com
SUMMARY:Castro Legend Cup
DESCRIPTION:
URL:https://www.asiago7cbiketeam.com/event/castro-legend-cup-2/
LOCATION:Castro (LE)
CATEGORIES:MTB
END:VEVENT
BEGIN:VEVENT
DTSTART;VALUE=DATE:20241020
DTEND;VALUE=DATE:20241021
DTSTAMP:20260420T081711
CREATED:20240401T084248Z
LAST-MODIFIED:20240401T084248Z
UID:1324-1729382400-1729468799@www.asiago7cbiketeam.com
SUMMARY:Sulla Via di Ulisse
DESCRIPTION:
URL:https://www.asiago7cbiketeam.com/event/sulla-via-di-ulisse/
LOCATION:Sperlonga (LT)
CATEGORIES:MTB
END:VEVENT
END:VCALENDAR