BEGIN:VCALENDAR
VERSION:2.0
PRODID:-//Asiago 7C Bike Team - ECPv5.12.3//NONSGML v1.0//EN
CALSCALE:GREGORIAN
METHOD:PUBLISH
X-WR-CALNAME:Asiago 7C Bike Team
X-ORIGINAL-URL:https://www.asiago7cbiketeam.com
X-WR-CALDESC:Events for Asiago 7C Bike Team
REFRESH-INTERVAL;VALUE=DURATION:PT1H
X-Robots-Tag:noindex
X-PUBLISHED-TTL:PT1H
BEGIN:VTIMEZONE
TZID:Europe/Rome
BEGIN:DAYLIGHT
TZOFFSETFROM:+0100
TZOFFSETTO:+0200
TZNAME:CEST
DTSTART:20220327T010000
END:DAYLIGHT
BEGIN:STANDARD
TZOFFSETFROM:+0200
TZOFFSETTO:+0100
TZNAME:CET
DTSTART:20221030T010000
END:STANDARD
END:VTIMEZONE
BEGIN:VEVENT
DTSTART;VALUE=DATE:20220529
DTEND;VALUE=DATE:20220530
DTSTAMP:20260425T045554
CREATED:20220310T091358Z
LAST-MODIFIED:20220310T091358Z
UID:918-1653782400-1653868799@www.asiago7cbiketeam.com
SUMMARY:Il Carpegna Mi Basta
DESCRIPTION:
URL:https://www.asiago7cbiketeam.com/event/il-carpegna-mi-basta-2/
LOCATION:Carpegna (PU)
CATEGORIES:MTB
END:VEVENT
BEGIN:VEVENT
DTSTART;VALUE=DATE:20220529
DTEND;VALUE=DATE:20220530
DTSTAMP:20260425T045554
CREATED:20220310T091437Z
LAST-MODIFIED:20220310T091437Z
UID:921-1653782400-1653868799@www.asiago7cbiketeam.com
SUMMARY:Durona Bike
DESCRIPTION:
URL:https://www.asiago7cbiketeam.com/event/durona-bike/
LOCATION:chiampo (Vi)
CATEGORIES:MTB
END:VEVENT
BEGIN:VEVENT
DTSTART;VALUE=DATE:20220529
DTEND;VALUE=DATE:20220530
DTSTAMP:20260425T045554
CREATED:20220310T091531Z
LAST-MODIFIED:20220310T091531Z
UID:923-1653782400-1653868799@www.asiago7cbiketeam.com
SUMMARY:Nebros Marathon
DESCRIPTION:
URL:https://www.asiago7cbiketeam.com/event/nebros-marathon-2/
LOCATION:Randazzo (Ct)
CATEGORIES:MTB
END:VEVENT
BEGIN:VEVENT
DTSTART;VALUE=DATE:20220529
DTEND;VALUE=DATE:20220530
DTSTAMP:20260425T045554
CREATED:20220310T091653Z
LAST-MODIFIED:20220310T091653Z
UID:925-1653782400-1653868799@www.asiago7cbiketeam.com
SUMMARY:Mx Monti Lucretili
DESCRIPTION:
URL:https://www.asiago7cbiketeam.com/event/mx-monti-lucretili/
LOCATION:Palombara Sabina (RM)
CATEGORIES:MTB
END:VEVENT
END:VCALENDAR