BEGIN:VCALENDAR
VERSION:2.0
PRODID:-//Asiago 7C Bike Team - ECPv5.12.3//NONSGML v1.0//EN
CALSCALE:GREGORIAN
METHOD:PUBLISH
X-WR-CALNAME:Asiago 7C Bike Team
X-ORIGINAL-URL:https://www.asiago7cbiketeam.com
X-WR-CALDESC:Events for Asiago 7C Bike Team
REFRESH-INTERVAL;VALUE=DURATION:PT1H
X-Robots-Tag:noindex
X-PUBLISHED-TTL:PT1H
BEGIN:VTIMEZONE
TZID:Europe/Rome
BEGIN:DAYLIGHT
TZOFFSETFROM:+0100
TZOFFSETTO:+0200
TZNAME:CEST
DTSTART:20240331T010000
END:DAYLIGHT
BEGIN:STANDARD
TZOFFSETFROM:+0200
TZOFFSETTO:+0100
TZNAME:CET
DTSTART:20241027T010000
END:STANDARD
END:VTIMEZONE
BEGIN:VEVENT
DTSTART;VALUE=DATE:20241006
DTEND;VALUE=DATE:20241007
DTSTAMP:20260420T050918
CREATED:20240401T083843Z
LAST-MODIFIED:20240401T083843Z
UID:1311-1728172800-1728259199@www.asiago7cbiketeam.com
SUMMARY:Casentino Bike
DESCRIPTION:
URL:https://www.asiago7cbiketeam.com/event/casentino-bike-3/
LOCATION:Bibbiena (Ar)
CATEGORIES:MTB
END:VEVENT
BEGIN:VEVENT
DTSTART;VALUE=DATE:20241006
DTEND;VALUE=DATE:20241007
DTSTAMP:20260420T050918
CREATED:20240401T083932Z
LAST-MODIFIED:20240401T083932Z
UID:1314-1728172800-1728259199@www.asiago7cbiketeam.com
SUMMARY:La Via dei Berici
DESCRIPTION:
URL:https://www.asiago7cbiketeam.com/event/la-via-dei-berici/
LOCATION:Vicenza
CATEGORIES:MTB
END:VEVENT
END:VCALENDAR