BEGIN:VCALENDAR
VERSION:2.0
PRODID:-//Asiago 7C Bike Team - ECPv5.12.3//NONSGML v1.0//EN
CALSCALE:GREGORIAN
METHOD:PUBLISH
X-WR-CALNAME:Asiago 7C Bike Team
X-ORIGINAL-URL:https://www.asiago7cbiketeam.com
X-WR-CALDESC:Events for Asiago 7C Bike Team
REFRESH-INTERVAL;VALUE=DURATION:PT1H
X-Robots-Tag:noindex
X-PUBLISHED-TTL:PT1H
BEGIN:VTIMEZONE
TZID:Europe/Rome
BEGIN:DAYLIGHT
TZOFFSETFROM:+0100
TZOFFSETTO:+0200
TZNAME:CEST
DTSTART:20210328T010000
END:DAYLIGHT
BEGIN:STANDARD
TZOFFSETFROM:+0200
TZOFFSETTO:+0100
TZNAME:CET
DTSTART:20211031T010000
END:STANDARD
END:VTIMEZONE
BEGIN:VEVENT
DTSTART;VALUE=DATE:20210321
DTEND;VALUE=DATE:20210322
DTSTAMP:20260424T133445
CREATED:20210722T142351Z
LAST-MODIFIED:20210722T142351Z
UID:335-1616284800-1616371199@www.asiago7cbiketeam.com
SUMMARY:Bardolino Bike
DESCRIPTION:
URL:https://www.asiago7cbiketeam.com/event/bardolino-bike/
LOCATION:Bardolno (Vr)
CATEGORIES:MTB
END:VEVENT
BEGIN:VEVENT
DTSTART;VALUE=DATE:20210321
DTEND;VALUE=DATE:20210322
DTSTAMP:20260424T133445
CREATED:20210722T060824Z
LAST-MODIFIED:20210722T060824Z
UID:52-1616284800-1616371199@www.asiago7cbiketeam.com
SUMMARY:La Classicissima
DESCRIPTION:
URL:https://www.asiago7cbiketeam.com/event/la-classicissima/
LOCATION:Sanremo (IM)
CATEGORIES:GRAN FONDO
END:VEVENT
BEGIN:VEVENT
DTSTART;VALUE=DATE:20210314
DTEND;VALUE=DATE:20210315
DTSTAMP:20260424T133445
CREATED:20210722T055930Z
LAST-MODIFIED:20210722T060006Z
UID:49-1615680000-1615766399@www.asiago7cbiketeam.com
SUMMARY:Garda-Bottecchia
DESCRIPTION:
URL:https://www.asiago7cbiketeam.com/event/garda-bottecchia/
LOCATION:Garda (VR)
CATEGORIES:GRAN FONDO
END:VEVENT
BEGIN:VEVENT
DTSTART;VALUE=DATE:20210307
DTEND;VALUE=DATE:20210308
DTSTAMP:20260424T133445
CREATED:20210722T142217Z
LAST-MODIFIED:20210722T142217Z
UID:332-1615075200-1615161599@www.asiago7cbiketeam.com
SUMMARY:Orvieto Wine Marathon
DESCRIPTION:
URL:https://www.asiago7cbiketeam.com/event/orvieto-wine-marathon/
LOCATION:Orvieto (Tr)
CATEGORIES:MTB
END:VEVENT
BEGIN:VEVENT
DTSTART;VALUE=DATE:20210307
DTEND;VALUE=DATE:20210308
DTSTAMP:20260424T133445
CREATED:20210722T054537Z
LAST-MODIFIED:20210722T055239Z
UID:45-1615075200-1615161599@www.asiago7cbiketeam.com
SUMMARY:Loano (SV)
DESCRIPTION:
URL:https://www.asiago7cbiketeam.com/event/loano-sv/
LOCATION:Loano (SV)
CATEGORIES:GRAN FONDO
END:VEVENT
END:VCALENDAR