BEGIN:VCALENDAR
VERSION:2.0
PRODID:-//Asiago 7C Bike Team - ECPv5.12.3//NONSGML v1.0//EN
CALSCALE:GREGORIAN
METHOD:PUBLISH
X-WR-CALNAME:Asiago 7C Bike Team
X-ORIGINAL-URL:https://www.asiago7cbiketeam.com
X-WR-CALDESC:Events for Asiago 7C Bike Team
REFRESH-INTERVAL;VALUE=DURATION:PT1H
X-Robots-Tag:noindex
X-PUBLISHED-TTL:PT1H
BEGIN:VTIMEZONE
TZID:Europe/Rome
BEGIN:DAYLIGHT
TZOFFSETFROM:+0100
TZOFFSETTO:+0200
TZNAME:CEST
DTSTART:20210328T010000
END:DAYLIGHT
BEGIN:STANDARD
TZOFFSETFROM:+0200
TZOFFSETTO:+0100
TZNAME:CET
DTSTART:20211031T010000
END:STANDARD
END:VTIMEZONE
BEGIN:VEVENT
DTSTART;VALUE=DATE:20210704
DTEND;VALUE=DATE:20210705
DTSTAMP:20260424T101233
CREATED:20210722T162856Z
LAST-MODIFIED:20210722T162856Z
UID:456-1625356800-1625443199@www.asiago7cbiketeam.com
SUMMARY:Mx di Floresta 1275
DESCRIPTION:
URL:https://www.asiago7cbiketeam.com/event/mx-di-floresta-1275/
LOCATION:Floresta (Me)
CATEGORIES:MTB
END:VEVENT
BEGIN:VEVENT
DTSTART;VALUE=DATE:20210704
DTEND;VALUE=DATE:20210705
DTSTAMP:20260424T101233
CREATED:20210722T162557Z
LAST-MODIFIED:20210722T162557Z
UID:453-1625356800-1625443199@www.asiago7cbiketeam.com
SUMMARY:Martani Superbike
DESCRIPTION:
URL:https://www.asiago7cbiketeam.com/event/martani-superbike/
LOCATION:Massa Martana (Pg)
CATEGORIES:MTB
END:VEVENT
BEGIN:VEVENT
DTSTART;VALUE=DATE:20210704
DTEND;VALUE=DATE:20210705
DTSTAMP:20260424T101233
CREATED:20210722T162252Z
LAST-MODIFIED:20210722T162252Z
UID:451-1625356800-1625443199@www.asiago7cbiketeam.com
SUMMARY:Assietta Legend
DESCRIPTION:
URL:https://www.asiago7cbiketeam.com/event/assietta-legend/
LOCATION:Sestriere (To)
CATEGORIES:MTB
END:VEVENT
BEGIN:VEVENT
DTSTART;VALUE=DATE:20210704
DTEND;VALUE=DATE:20210705
DTSTAMP:20260424T101233
CREATED:20210722T104430Z
LAST-MODIFIED:20210722T104430Z
UID:211-1625356800-1625443199@www.asiago7cbiketeam.com
SUMMARY:Maratona-Enel
DESCRIPTION:
URL:https://www.asiago7cbiketeam.com/event/maratona-enel/
LOCATION:Corvara (Bz)
CATEGORIES:GRAN FONDO
END:VEVENT
BEGIN:VEVENT
DTSTART;VALUE=DATE:20210627
DTEND;VALUE=DATE:20210628
DTSTAMP:20260424T101233
CREATED:20210722T161910Z
LAST-MODIFIED:20210722T161910Z
UID:448-1624752000-1624838399@www.asiago7cbiketeam.com
SUMMARY:Parco Nazionale Abruzzo
DESCRIPTION:
URL:https://www.asiago7cbiketeam.com/event/parco-nazionale-abruzzo/
LOCATION:Pescasseroli(Aq)
CATEGORIES:MTB
END:VEVENT
BEGIN:VEVENT
DTSTART;VALUE=DATE:20210627
DTEND;VALUE=DATE:20210628
DTSTAMP:20260424T101233
CREATED:20210722T161628Z
LAST-MODIFIED:20210722T161628Z
UID:445-1624752000-1624838399@www.asiago7cbiketeam.com
SUMMARY:Casentino Bike
DESCRIPTION:
URL:https://www.asiago7cbiketeam.com/event/casentino-bike/
LOCATION:Bibbiena (Ar)
CATEGORIES:MTB
END:VEVENT
BEGIN:VEVENT
DTSTART;VALUE=DATE:20210627
DTEND;VALUE=DATE:20210628
DTSTAMP:20260424T101233
CREATED:20210722T161442Z
LAST-MODIFIED:20210722T161442Z
UID:442-1624752000-1624838399@www.asiago7cbiketeam.com
SUMMARY:GF Città di Labico
DESCRIPTION:
URL:https://www.asiago7cbiketeam.com/event/gf-citta-di-labico/
LOCATION:Labico (Roma)
CATEGORIES:MTB
END:VEVENT
BEGIN:VEVENT
DTSTART;VALUE=DATE:20210627
DTEND;VALUE=DATE:20210628
DTSTAMP:20260424T101233
CREATED:20210722T104255Z
LAST-MODIFIED:20210722T104255Z
UID:208-1624752000-1624838399@www.asiago7cbiketeam.com
SUMMARY:Gavia e Mortirolo
DESCRIPTION:
URL:https://www.asiago7cbiketeam.com/event/gavia-e-mortirolo/
LOCATION:Aprica (So)
CATEGORIES:GRAN FONDO
END:VEVENT
BEGIN:VEVENT
DTSTART;VALUE=DATE:20210627
DTEND;VALUE=DATE:20210628
DTSTAMP:20260424T101233
CREATED:20210722T104028Z
LAST-MODIFIED:20210722T104028Z
UID:205-1624752000-1624838399@www.asiago7cbiketeam.com
SUMMARY:Fausto Coppi
DESCRIPTION:
URL:https://www.asiago7cbiketeam.com/event/fausto-coppi/
LOCATION:Cuneo
CATEGORIES:GRAN FONDO
END:VEVENT
BEGIN:VEVENT
DTSTART;VALUE=DATE:20210627
DTEND;VALUE=DATE:20210628
DTSTAMP:20260424T101233
CREATED:20210722T103904Z
LAST-MODIFIED:20210722T103904Z
UID:202-1624752000-1624838399@www.asiago7cbiketeam.com
SUMMARY:GF del Mugello
DESCRIPTION:
URL:https://www.asiago7cbiketeam.com/event/gf-del-mugello/
LOCATION:Scaperia (Fi)
CATEGORIES:GRAN FONDO
END:VEVENT
BEGIN:VEVENT
DTSTART;VALUE=DATE:20210627
DTEND;VALUE=DATE:20210628
DTSTAMP:20260424T101233
CREATED:20210722T103728Z
LAST-MODIFIED:20210722T103728Z
UID:199-1624752000-1624838399@www.asiago7cbiketeam.com
SUMMARY:Padova-Olympia
DESCRIPTION:
URL:https://www.asiago7cbiketeam.com/event/padova-olympia/
LOCATION:Padova
CATEGORIES:GRAN FONDO
END:VEVENT
BEGIN:VEVENT
DTSTART;VALUE=DATE:20210626
DTEND;VALUE=DATE:20210627
DTSTAMP:20260424T101233
CREATED:20210722T160907Z
LAST-MODIFIED:20210722T160907Z
UID:439-1624665600-1624751999@www.asiago7cbiketeam.com
SUMMARY:Monte Rosa Prestige
DESCRIPTION:
URL:https://www.asiago7cbiketeam.com/event/monte-rosa-prestige/
LOCATION:Brusson-Val d’Ayas (Ao)
CATEGORIES:MTB
END:VEVENT
BEGIN:VEVENT
DTSTART;VALUE=DATE:20210620
DTEND;VALUE=DATE:20210621
DTSTAMP:20260424T101233
CREATED:20210722T160446Z
LAST-MODIFIED:20210722T160446Z
UID:436-1624147200-1624233599@www.asiago7cbiketeam.com
SUMMARY:La Via del Sale
DESCRIPTION:
URL:https://www.asiago7cbiketeam.com/event/la-via-del-sale/
LOCATION:Limone Piemonte (Cn)
CATEGORIES:MTB
END:VEVENT
BEGIN:VEVENT
DTSTART;VALUE=DATE:20210620
DTEND;VALUE=DATE:20210621
DTSTAMP:20260424T101233
CREATED:20210722T160151Z
LAST-MODIFIED:20210722T160151Z
UID:433-1624147200-1624233599@www.asiago7cbiketeam.com
SUMMARY:Vertikal Ring
DESCRIPTION:
URL:https://www.asiago7cbiketeam.com/event/vertikal-ring/
LOCATION:Tarcento(Ud)
CATEGORIES:MTB
END:VEVENT
BEGIN:VEVENT
DTSTART;VALUE=DATE:20210620
DTEND;VALUE=DATE:20210621
DTSTAMP:20260424T101233
CREATED:20210722T155725Z
LAST-MODIFIED:20210722T155725Z
UID:430-1624147200-1624233599@www.asiago7cbiketeam.com
SUMMARY:100 Km dei Forti
DESCRIPTION:
URL:https://www.asiago7cbiketeam.com/event/100-km-dei-forti/
LOCATION:Lavarone (Tn)
CATEGORIES:MTB
END:VEVENT
BEGIN:VEVENT
DTSTART;VALUE=DATE:20210620
DTEND;VALUE=DATE:20210621
DTSTAMP:20260424T101233
CREATED:20210722T103603Z
LAST-MODIFIED:20210722T103603Z
UID:195-1624147200-1624233599@www.asiago7cbiketeam.com
SUMMARY:La Montblanc
DESCRIPTION:
URL:https://www.asiago7cbiketeam.com/event/la-montblanc/
LOCATION:Courmayeur (Ao)
CATEGORIES:GRAN FONDO
END:VEVENT
BEGIN:VEVENT
DTSTART;VALUE=DATE:20210620
DTEND;VALUE=DATE:20210621
DTSTAMP:20260424T101233
CREATED:20210722T103426Z
LAST-MODIFIED:20210722T103426Z
UID:192-1624147200-1624233599@www.asiago7cbiketeam.com
SUMMARY:Straducale
DESCRIPTION:
URL:https://www.asiago7cbiketeam.com/event/straducale/
LOCATION:Urbino (PU)
CATEGORIES:GRAN FONDO
END:VEVENT
BEGIN:VEVENT
DTSTART;VALUE=DATE:20210620
DTEND;VALUE=DATE:20210621
DTSTAMP:20260424T101233
CREATED:20210722T103244Z
LAST-MODIFIED:20210722T103244Z
UID:190-1624147200-1624233599@www.asiago7cbiketeam.com
SUMMARY:Sportful Dolomiti
DESCRIPTION:
URL:https://www.asiago7cbiketeam.com/event/sportful-dolomiti/
LOCATION:Feltre (Bl)
CATEGORIES:GRAN FONDO
END:VEVENT
BEGIN:VEVENT
DTSTART;VALUE=DATE:20210620
DTEND;VALUE=DATE:20210621
DTSTAMP:20260424T101233
CREATED:20210722T103050Z
LAST-MODIFIED:20210722T103050Z
UID:187-1624147200-1624233599@www.asiago7cbiketeam.com
SUMMARY:Davide Cassani
DESCRIPTION:
URL:https://www.asiago7cbiketeam.com/event/davide-cassani/
LOCATION:Faenza (Ra)
CATEGORIES:GRAN FONDO
END:VEVENT
BEGIN:VEVENT
DTSTART;VALUE=DATE:20210620
DTEND;VALUE=DATE:20210621
DTSTAMP:20260424T101233
CREATED:20210722T102621Z
LAST-MODIFIED:20210722T102621Z
UID:184-1624147200-1624233599@www.asiago7cbiketeam.com
SUMMARY:Edita Pucinskaite
DESCRIPTION:
URL:https://www.asiago7cbiketeam.com/event/edita-pucinskaite/
LOCATION:Pistoia
CATEGORIES:GRAN FONDO
END:VEVENT
BEGIN:VEVENT
DTSTART;VALUE=DATE:20210613
DTEND;VALUE=DATE:20210614
DTSTAMP:20260424T101233
CREATED:20210722T155346Z
LAST-MODIFIED:20210722T155346Z
UID:427-1623542400-1623628799@www.asiago7cbiketeam.com
SUMMARY:Monte Cucco
DESCRIPTION:
URL:https://www.asiago7cbiketeam.com/event/monte-cucco/
LOCATION:Costacciaro (Pg)
CATEGORIES:MTB
END:VEVENT
BEGIN:VEVENT
DTSTART;VALUE=DATE:20210613
DTEND;VALUE=DATE:20210614
DTSTAMP:20260424T101233
CREATED:20210722T102340Z
LAST-MODIFIED:20210722T102340Z
UID:181-1623542400-1623628799@www.asiago7cbiketeam.com
SUMMARY:Ventoux-Santini
DESCRIPTION:
URL:https://www.asiago7cbiketeam.com/event/ventoux-santini/
LOCATION:Vaison la Romaine (FRA)
CATEGORIES:GRAN FONDO
END:VEVENT
BEGIN:VEVENT
DTSTART;VALUE=DATE:20210613
DTEND;VALUE=DATE:20210614
DTSTAMP:20260424T101233
CREATED:20210722T101944Z
LAST-MODIFIED:20210722T102419Z
UID:177-1623542400-1623628799@www.asiago7cbiketeam.com
SUMMARY:Matildica
DESCRIPTION:
URL:https://www.asiago7cbiketeam.com/event/matildica/
LOCATION:Albinea (RE)
CATEGORIES:GRAN FONDO
END:VEVENT
BEGIN:VEVENT
DTSTART;VALUE=DATE:20210613
DTEND;VALUE=DATE:20210614
DTSTAMP:20260424T101233
CREATED:20210722T101741Z
LAST-MODIFIED:20210722T101741Z
UID:174-1623542400-1623628799@www.asiago7cbiketeam.com
SUMMARY:Berghem #molamia
DESCRIPTION:
URL:https://www.asiago7cbiketeam.com/event/berghem-molamia/
LOCATION:Gazzaniga (Bg)
CATEGORIES:GRAN FONDO
END:VEVENT
BEGIN:VEVENT
DTSTART;VALUE=DATE:20210613
DTEND;VALUE=DATE:20210614
DTSTAMP:20260424T101233
CREATED:20210722T095733Z
LAST-MODIFIED:20210722T095733Z
UID:171-1623542400-1623628799@www.asiago7cbiketeam.com
SUMMARY:Gran Sasso Bike M.
DESCRIPTION:
URL:https://www.asiago7cbiketeam.com/event/gran-sasso-bike-m/
LOCATION:Fonte Cerretto (Aq)
CATEGORIES:GRAN FONDO
END:VEVENT
BEGIN:VEVENT
DTSTART;VALUE=DATE:20210613
DTEND;VALUE=DATE:20210614
DTSTAMP:20260424T101233
CREATED:20210722T095502Z
LAST-MODIFIED:20210722T095502Z
UID:168-1623542400-1623628799@www.asiago7cbiketeam.com
SUMMARY:GF del Po
DESCRIPTION:
URL:https://www.asiago7cbiketeam.com/event/gf-del-po/
LOCATION:Ferrara
CATEGORIES:GRAN FONDO
END:VEVENT
BEGIN:VEVENT
DTSTART;VALUE=DATE:20210612
DTEND;VALUE=DATE:20210613
DTSTAMP:20260424T101233
CREATED:20210722T155213Z
LAST-MODIFIED:20210722T155213Z
UID:424-1623456000-1623542399@www.asiago7cbiketeam.com
SUMMARY:Hero Dolomites
DESCRIPTION:
URL:https://www.asiago7cbiketeam.com/event/hero-dolomites/
LOCATION:Selva di Val Gardena (Bz)
CATEGORIES:MTB
END:VEVENT
BEGIN:VEVENT
DTSTART;VALUE=DATE:20210611
DTEND;VALUE=DATE:20210612
DTSTAMP:20260424T101233
CREATED:20210722T095309Z
LAST-MODIFIED:20210722T095309Z
UID:165-1623369600-1623455999@www.asiago7cbiketeam.com
SUMMARY:Castelli 24 Ore
DESCRIPTION:
URL:https://www.asiago7cbiketeam.com/event/castelli-24-ore/
LOCATION:Feltre (Bl)
CATEGORIES:GRAN FONDO
END:VEVENT
BEGIN:VEVENT
DTSTART;VALUE=DATE:20210606
DTEND;VALUE=DATE:20210607
DTSTAMP:20260424T101233
CREATED:20210722T155043Z
LAST-MODIFIED:20210722T155043Z
UID:421-1622937600-1623023999@www.asiago7cbiketeam.com
SUMMARY:Conquistadores Cup
DESCRIPTION:
URL:https://www.asiago7cbiketeam.com/event/conquistadores-cup/
LOCATION:Porto Azzurro (Li)
CATEGORIES:MTB
END:VEVENT
BEGIN:VEVENT
DTSTART;VALUE=DATE:20210606
DTEND;VALUE=DATE:20210607
DTSTAMP:20260424T101233
CREATED:20210722T154909Z
LAST-MODIFIED:20210722T154909Z
UID:418-1622937600-1623023999@www.asiago7cbiketeam.com
SUMMARY:GF Durona
DESCRIPTION:
URL:https://www.asiago7cbiketeam.com/event/gf-durona/
LOCATION:chiampo (Vi)
CATEGORIES:MTB
END:VEVENT
END:VCALENDAR