BEGIN:VCALENDAR
VERSION:2.0
PRODID:-//Asiago 7C Bike Team - ECPv5.12.3//NONSGML v1.0//EN
CALSCALE:GREGORIAN
METHOD:PUBLISH
X-WR-CALNAME:Asiago 7C Bike Team
X-ORIGINAL-URL:https://www.asiago7cbiketeam.com
X-WR-CALDESC:Events for Asiago 7C Bike Team
REFRESH-INTERVAL;VALUE=DURATION:PT1H
X-Robots-Tag:noindex
X-PUBLISHED-TTL:PT1H
BEGIN:VTIMEZONE
TZID:Europe/Rome
BEGIN:DAYLIGHT
TZOFFSETFROM:+0100
TZOFFSETTO:+0200
TZNAME:CEST
DTSTART:20220327T010000
END:DAYLIGHT
BEGIN:STANDARD
TZOFFSETFROM:+0200
TZOFFSETTO:+0100
TZNAME:CET
DTSTART:20221030T010000
END:STANDARD
END:VTIMEZONE
BEGIN:VEVENT
DTSTART;VALUE=DATE:20220626
DTEND;VALUE=DATE:20220627
DTSTAMP:20260423T183002
CREATED:20220310T092713Z
LAST-MODIFIED:20220310T092713Z
UID:951-1656201600-1656287999@www.asiago7cbiketeam.com
SUMMARY:Mx dell'Altopiano
DESCRIPTION:
URL:https://www.asiago7cbiketeam.com/event/mx-dellaltopiano-2/
LOCATION:Gallio (Vi)
CATEGORIES:MTB
END:VEVENT
BEGIN:VEVENT
DTSTART;VALUE=DATE:20220626
DTEND;VALUE=DATE:20220627
DTSTAMP:20260423T183002
CREATED:20220310T074003Z
LAST-MODIFIED:20220310T074003Z
UID:761-1656201600-1656287999@www.asiago7cbiketeam.com
SUMMARY:Gavia & Mortirolo
DESCRIPTION:
URL:https://www.asiago7cbiketeam.com/event/gavia-mortirolo/
LOCATION:Aprica (So)
CATEGORIES:GRAN FONDO
END:VEVENT
BEGIN:VEVENT
DTSTART;VALUE=DATE:20220626
DTEND;VALUE=DATE:20220627
DTSTAMP:20260423T183002
CREATED:20220310T073907Z
LAST-MODIFIED:20220310T073907Z
UID:758-1656201600-1656287999@www.asiago7cbiketeam.com
SUMMARY:GF nel Parco - Sarto
DESCRIPTION:
URL:https://www.asiago7cbiketeam.com/event/gf-nel-parco-sarto/
LOCATION:Villetta Barrea (AQ)
CATEGORIES:GRAN FONDO
END:VEVENT
BEGIN:VEVENT
DTSTART;VALUE=DATE:20220626
DTEND;VALUE=DATE:20220627
DTSTAMP:20260423T183002
CREATED:20220310T073803Z
LAST-MODIFIED:20220310T073803Z
UID:755-1656201600-1656287999@www.asiago7cbiketeam.com
SUMMARY:Monti Sibillini
DESCRIPTION:
URL:https://www.asiago7cbiketeam.com/event/monti-sibillini/
LOCATION:Caldarola (MC)
CATEGORIES:GRAN FONDO
END:VEVENT
BEGIN:VEVENT
DTSTART;VALUE=DATE:20220626
DTEND;VALUE=DATE:20220627
DTSTAMP:20260423T183002
CREATED:20220310T073650Z
LAST-MODIFIED:20220310T073650Z
UID:752-1656201600-1656287999@www.asiago7cbiketeam.com
SUMMARY:Mugello Via del Latte
DESCRIPTION:
URL:https://www.asiago7cbiketeam.com/event/mugello-via-del-latte/
LOCATION:Scarperia (FI)
CATEGORIES:GRAN FONDO
END:VEVENT
BEGIN:VEVENT
DTSTART;VALUE=DATE:20220626
DTEND;VALUE=DATE:20220627
DTSTAMP:20260423T183002
CREATED:20220310T073534Z
LAST-MODIFIED:20220310T073534Z
UID:749-1656201600-1656287999@www.asiago7cbiketeam.com
SUMMARY:Matesannio Marathon
DESCRIPTION:
URL:https://www.asiago7cbiketeam.com/event/matesannio-marathon/
LOCATION:Gioia Sannitica (CE)
CATEGORIES:GRAN FONDO
END:VEVENT
BEGIN:VEVENT
DTSTART;VALUE=DATE:20220626
DTEND;VALUE=DATE:20220627
DTSTAMP:20260423T183002
CREATED:20220310T073427Z
LAST-MODIFIED:20220310T073427Z
UID:747-1656201600-1656287999@www.asiago7cbiketeam.com
SUMMARY:Città di Padova
DESCRIPTION:
URL:https://www.asiago7cbiketeam.com/event/citta-di-padova/
LOCATION:Padova
CATEGORIES:GRAN FONDO
END:VEVENT
BEGIN:VEVENT
DTSTART;VALUE=DATE:20220626
DTEND;VALUE=DATE:20220627
DTSTAMP:20260423T183002
CREATED:20220310T073341Z
LAST-MODIFIED:20220310T073341Z
UID:745-1656201600-1656287999@www.asiago7cbiketeam.com
SUMMARY:Sestriere - Finestre
DESCRIPTION:
URL:https://www.asiago7cbiketeam.com/event/sestriere-finestre-2/
LOCATION:Sestriere (To)
CATEGORIES:GRAN FONDO
END:VEVENT
BEGIN:VEVENT
DTSTART;VALUE=DATE:20220626
DTEND;VALUE=DATE:20220627
DTSTAMP:20260423T183002
CREATED:20220310T073243Z
LAST-MODIFIED:20220310T073243Z
UID:743-1656201600-1656287999@www.asiago7cbiketeam.com
SUMMARY:Carnia Fuji - Zoncolan
DESCRIPTION:
URL:https://www.asiago7cbiketeam.com/event/carnia-fuji-zoncolan-2/
LOCATION:Villa Santina (Ud)
CATEGORIES:GRAN FONDO
END:VEVENT
BEGIN:VEVENT
DTSTART;VALUE=DATE:20220625
DTEND;VALUE=DATE:20220626
DTSTAMP:20260423T183002
CREATED:20220310T092614Z
LAST-MODIFIED:20220310T092614Z
UID:949-1656115200-1656201599@www.asiago7cbiketeam.com
SUMMARY:Dolomitica Brenta
DESCRIPTION:
URL:https://www.asiago7cbiketeam.com/event/dolomitica-brenta/
LOCATION:Pinzolo (Tn)
CATEGORIES:MTB
END:VEVENT
BEGIN:VEVENT
DTSTART;VALUE=DATE:20220625
DTEND;VALUE=DATE:20220626
DTSTAMP:20260423T183002
CREATED:20220310T092537Z
LAST-MODIFIED:20220310T092537Z
UID:947-1656115200-1656201599@www.asiago7cbiketeam.com
SUMMARY:Monterosa Prestige
DESCRIPTION:
URL:https://www.asiago7cbiketeam.com/event/monterosa-prestige/
LOCATION:Brusson-Val d’Ayas (Ao)
CATEGORIES:MTB
END:VEVENT
BEGIN:VEVENT
DTSTART;VALUE=DATE:20220625
DTEND;VALUE=DATE:20220626
DTSTAMP:20260423T183002
CREATED:20220310T073152Z
LAST-MODIFIED:20220310T073152Z
UID:741-1656115200-1656201599@www.asiago7cbiketeam.com
SUMMARY:Nova Eroica
DESCRIPTION:
URL:https://www.asiago7cbiketeam.com/event/nova-eroica-2/
LOCATION:Buonconvento (Si)
CATEGORIES:GRAN FONDO
END:VEVENT
BEGIN:VEVENT
DTSTART;VALUE=DATE:20220624
DTEND;VALUE=DATE:20220625
DTSTAMP:20260423T183002
CREATED:20220310T073027Z
LAST-MODIFIED:20220310T073027Z
UID:739-1656028800-1656115199@www.asiago7cbiketeam.com
SUMMARY:Castelli 24 ore
DESCRIPTION:
URL:https://www.asiago7cbiketeam.com/event/castelli-24-ore-2/
LOCATION:Feltre (Bl)
CATEGORIES:GRAN FONDO
END:VEVENT
BEGIN:VEVENT
DTSTART;VALUE=DATE:20220619
DTEND;VALUE=DATE:20220620
DTSTAMP:20260423T183002
CREATED:20220310T092328Z
LAST-MODIFIED:20220310T092328Z
UID:944-1655596800-1655683199@www.asiago7cbiketeam.com
SUMMARY:Monselice in Rosa
DESCRIPTION:
URL:https://www.asiago7cbiketeam.com/event/monselice-in-rosa/
LOCATION:Monselice (PD)
CATEGORIES:MTB
END:VEVENT
BEGIN:VEVENT
DTSTART;VALUE=DATE:20220619
DTEND;VALUE=DATE:20220620
DTSTAMP:20260423T183002
CREATED:20220310T092235Z
LAST-MODIFIED:20220310T092235Z
UID:941-1655596800-1655683199@www.asiago7cbiketeam.com
SUMMARY:Mainarde Bike Race
DESCRIPTION:
URL:https://www.asiago7cbiketeam.com/event/mainarde-bike-race/
LOCATION:Filignano (IS)
CATEGORIES:MTB
END:VEVENT
BEGIN:VEVENT
DTSTART;VALUE=DATE:20220619
DTEND;VALUE=DATE:20220620
DTSTAMP:20260423T183002
CREATED:20220310T072913Z
LAST-MODIFIED:20220310T072913Z
UID:737-1655596800-1655683199@www.asiago7cbiketeam.com
SUMMARY:Valli Monregalesi
DESCRIPTION:
URL:https://www.asiago7cbiketeam.com/event/valli-monregalesi-2/
LOCATION:Mondovì (Cn)
CATEGORIES:GRAN FONDO
END:VEVENT
BEGIN:VEVENT
DTSTART;VALUE=DATE:20220619
DTEND;VALUE=DATE:20220620
DTSTAMP:20260423T183002
CREATED:20220310T072750Z
LAST-MODIFIED:20220310T072750Z
UID:735-1655596800-1655683199@www.asiago7cbiketeam.com
SUMMARY:Edita Pucinskaite
DESCRIPTION:
URL:https://www.asiago7cbiketeam.com/event/edita-pucinskaite-2/
LOCATION:Pistoia
CATEGORIES:GRAN FONDO
END:VEVENT
BEGIN:VEVENT
DTSTART;VALUE=DATE:20220619
DTEND;VALUE=DATE:20220620
DTSTAMP:20260423T183002
CREATED:20220310T072630Z
LAST-MODIFIED:20220310T072630Z
UID:732-1655596800-1655683199@www.asiago7cbiketeam.com
SUMMARY:Top Dolomites
DESCRIPTION:
URL:https://www.asiago7cbiketeam.com/event/top-dolomites-2/
LOCATION:Madonna di Campiglio (TN)
CATEGORIES:GRAN FONDO
END:VEVENT
BEGIN:VEVENT
DTSTART;VALUE=DATE:20220619
DTEND;VALUE=DATE:20220620
DTSTAMP:20260423T183002
CREATED:20220310T072525Z
LAST-MODIFIED:20220310T072525Z
UID:730-1655596800-1655683199@www.asiago7cbiketeam.com
SUMMARY:Sportful Dolomiti
DESCRIPTION:
URL:https://www.asiago7cbiketeam.com/event/sportful-dolomiti-2/
LOCATION:Feltre (Bl)
CATEGORIES:GRAN FONDO
END:VEVENT
BEGIN:VEVENT
DTSTART;VALUE=DATE:20220618
DTEND;VALUE=DATE:20220619
DTSTAMP:20260423T183002
CREATED:20220310T092120Z
LAST-MODIFIED:20220310T092120Z
UID:939-1655510400-1655596799@www.asiago7cbiketeam.com
SUMMARY:Hero Dolomites
DESCRIPTION:
URL:https://www.asiago7cbiketeam.com/event/hero-dolomites-2/
LOCATION:Selva di Val Gardena (Bz)
CATEGORIES:MTB
END:VEVENT
BEGIN:VEVENT
DTSTART;VALUE=DATE:20220618
DTEND;VALUE=DATE:20220619
DTSTAMP:20260423T183002
CREATED:20220310T092040Z
LAST-MODIFIED:20220310T092040Z
UID:937-1655510400-1655596799@www.asiago7cbiketeam.com
SUMMARY:La Via del Sale
DESCRIPTION:
URL:https://www.asiago7cbiketeam.com/event/la-via-del-sale-2/
LOCATION:Limone Piemonte (Cn)
CATEGORIES:MTB
END:VEVENT
BEGIN:VEVENT
DTSTART;VALUE=DATE:20220612
DTEND;VALUE=DATE:20220613
DTSTAMP:20260423T183002
CREATED:20220310T091957Z
LAST-MODIFIED:20220310T091957Z
UID:935-1654992000-1655078399@www.asiago7cbiketeam.com
SUMMARY:100 km dei Forti
DESCRIPTION:
URL:https://www.asiago7cbiketeam.com/event/100-km-dei-forti-2/
LOCATION:Lavarone (Tn)
CATEGORIES:MTB
END:VEVENT
BEGIN:VEVENT
DTSTART;VALUE=DATE:20220612
DTEND;VALUE=DATE:20220613
DTSTAMP:20260423T183002
CREATED:20220310T091918Z
LAST-MODIFIED:20220310T091918Z
UID:933-1654992000-1655078399@www.asiago7cbiketeam.com
SUMMARY:Monte Cucco
DESCRIPTION:
URL:https://www.asiago7cbiketeam.com/event/monte-cucco-2/
LOCATION:Costacciaro (Pg)
CATEGORIES:MTB
END:VEVENT
BEGIN:VEVENT
DTSTART;VALUE=DATE:20220612
DTEND;VALUE=DATE:20220613
DTSTAMP:20260423T183002
CREATED:20220310T072431Z
LAST-MODIFIED:20220310T072431Z
UID:728-1654992000-1655078399@www.asiago7cbiketeam.com
SUMMARY:La Montblanc
DESCRIPTION:
URL:https://www.asiago7cbiketeam.com/event/la-montblanc-2/
LOCATION:Courmayeur (Ao)
CATEGORIES:GRAN FONDO
END:VEVENT
BEGIN:VEVENT
DTSTART;VALUE=DATE:20220612
DTEND;VALUE=DATE:20220613
DTSTAMP:20260423T183002
CREATED:20220310T072340Z
LAST-MODIFIED:20220310T072340Z
UID:726-1654992000-1655078399@www.asiago7cbiketeam.com
SUMMARY:Straducale
DESCRIPTION:
URL:https://www.asiago7cbiketeam.com/event/straducale-2/
LOCATION:Urbino (PU)
CATEGORIES:GRAN FONDO
END:VEVENT
BEGIN:VEVENT
DTSTART;VALUE=DATE:20220612
DTEND;VALUE=DATE:20220613
DTSTAMP:20260423T183002
CREATED:20220310T072305Z
LAST-MODIFIED:20220310T072305Z
UID:724-1654992000-1655078399@www.asiago7cbiketeam.com
SUMMARY:Stelvio Santini
DESCRIPTION:
URL:https://www.asiago7cbiketeam.com/event/stelvio-santini-2/
LOCATION:Bormio (So)
CATEGORIES:GRAN FONDO
END:VEVENT
BEGIN:VEVENT
DTSTART;VALUE=DATE:20220612
DTEND;VALUE=DATE:20220613
DTSTAMP:20260423T183002
CREATED:20220310T072214Z
LAST-MODIFIED:20220310T072214Z
UID:722-1654992000-1655078399@www.asiago7cbiketeam.com
SUMMARY:Berghem #molamia
DESCRIPTION:
URL:https://www.asiago7cbiketeam.com/event/berghem-molamia-2/
LOCATION:Gazzaniga (Bg)
CATEGORIES:GRAN FONDO
END:VEVENT
BEGIN:VEVENT
DTSTART;VALUE=DATE:20220612
DTEND;VALUE=DATE:20220613
DTSTAMP:20260423T183002
CREATED:20220310T072117Z
LAST-MODIFIED:20220310T072117Z
UID:720-1654992000-1655078399@www.asiago7cbiketeam.com
SUMMARY:Gran Sasso Bike M.
DESCRIPTION:
URL:https://www.asiago7cbiketeam.com/event/gran-sasso-bike-m-2/
LOCATION:Fonte Cerretto (Aq)
CATEGORIES:GRAN FONDO
END:VEVENT
BEGIN:VEVENT
DTSTART;VALUE=DATE:20220612
DTEND;VALUE=DATE:20220613
DTSTAMP:20260423T183002
CREATED:20220310T072005Z
LAST-MODIFIED:20220310T072005Z
UID:718-1654992000-1655078399@www.asiago7cbiketeam.com
SUMMARY:Lapierre Ventoux
DESCRIPTION:
URL:https://www.asiago7cbiketeam.com/event/lapierre-ventoux/
LOCATION:Vaison la Romaine (FRA)
CATEGORIES:GRAN FONDO
END:VEVENT
BEGIN:VEVENT
DTSTART;VALUE=DATE:20220612
DTEND;VALUE=DATE:20220613
DTSTAMP:20260423T183002
CREATED:20220310T071814Z
LAST-MODIFIED:20220310T071814Z
UID:715-1654992000-1655078399@www.asiago7cbiketeam.com
SUMMARY:Latina
DESCRIPTION:
URL:https://www.asiago7cbiketeam.com/event/latina/
LOCATION:Latina
CATEGORIES:GRAN FONDO
END:VEVENT
END:VCALENDAR