BEGIN:VCALENDAR
VERSION:2.0
PRODID:-//Asiago 7C Bike Team - ECPv5.12.3//NONSGML v1.0//EN
CALSCALE:GREGORIAN
METHOD:PUBLISH
X-WR-CALNAME:Asiago 7C Bike Team
X-ORIGINAL-URL:https://www.asiago7cbiketeam.com
X-WR-CALDESC:Events for Asiago 7C Bike Team
REFRESH-INTERVAL;VALUE=DURATION:PT1H
X-Robots-Tag:noindex
X-PUBLISHED-TTL:PT1H
BEGIN:VTIMEZONE
TZID:Europe/Rome
BEGIN:DAYLIGHT
TZOFFSETFROM:+0100
TZOFFSETTO:+0200
TZNAME:CEST
DTSTART:20220327T010000
END:DAYLIGHT
BEGIN:STANDARD
TZOFFSETFROM:+0200
TZOFFSETTO:+0100
TZNAME:CET
DTSTART:20221030T010000
END:STANDARD
END:VTIMEZONE
BEGIN:VEVENT
DTSTART;VALUE=DATE:20220424
DTEND;VALUE=DATE:20220425
DTSTAMP:20260423T222206
CREATED:20220310T064210Z
LAST-MODIFIED:20220310T064210Z
UID:635-1650758400-1650844799@www.asiago7cbiketeam.com
SUMMARY:Bra - Bra Specialized
DESCRIPTION:
URL:https://www.asiago7cbiketeam.com/event/bra-bra-specialized-2/
LOCATION:Bra – Loc. Pollenzo (CN)
CATEGORIES:GRAN FONDO
END:VEVENT
BEGIN:VEVENT
DTSTART;VALUE=DATE:20220424
DTEND;VALUE=DATE:20220425
DTSTAMP:20260423T222206
CREATED:20220310T064316Z
LAST-MODIFIED:20220310T064316Z
UID:637-1650758400-1650844799@www.asiago7cbiketeam.com
SUMMARY:GranGiro Monte Albo
DESCRIPTION:
URL:https://www.asiago7cbiketeam.com/event/grangiro-monte-albo/
LOCATION:Budoni (SS)
CATEGORIES:GRAN FONDO
END:VEVENT
BEGIN:VEVENT
DTSTART;VALUE=DATE:20220424
DTEND;VALUE=DATE:20220425
DTSTAMP:20260423T222206
CREATED:20220310T064409Z
LAST-MODIFIED:20220310T064409Z
UID:640-1650758400-1650844799@www.asiago7cbiketeam.com
SUMMARY:MF Primavera
DESCRIPTION:
URL:https://www.asiago7cbiketeam.com/event/mf-primavera-2/
LOCATION:Ariano Irpino (AV)
CATEGORIES:GRAN FONDO
END:VEVENT
BEGIN:VEVENT
DTSTART;VALUE=DATE:20220424
DTEND;VALUE=DATE:20220425
DTSTAMP:20260423T222206
CREATED:20220310T064716Z
LAST-MODIFIED:20220310T064716Z
UID:642-1650758400-1650844799@www.asiago7cbiketeam.com
SUMMARY:Why Sport
DESCRIPTION:
URL:https://www.asiago7cbiketeam.com/event/why-sport-2/
LOCATION:Valdagno (VI)
CATEGORIES:GRAN FONDO
END:VEVENT
BEGIN:VEVENT
DTSTART;VALUE=DATE:20220424
DTEND;VALUE=DATE:20220425
DTSTAMP:20260423T222206
CREATED:20220310T064913Z
LAST-MODIFIED:20220310T064913Z
UID:646-1650758400-1650844799@www.asiago7cbiketeam.com
SUMMARY:GF Radio Radio
DESCRIPTION:
URL:https://www.asiago7cbiketeam.com/event/gf-radio-radio/
LOCATION:Castelnuovo di Farfa (RI)
CATEGORIES:GRAN FONDO
END:VEVENT
BEGIN:VEVENT
DTSTART;VALUE=DATE:20220424
DTEND;VALUE=DATE:20220425
DTSTAMP:20260423T222206
CREATED:20220310T084450Z
LAST-MODIFIED:20220310T084450Z
UID:865-1650758400-1650844799@www.asiago7cbiketeam.com
SUMMARY:Marathon del Salento
DESCRIPTION:
URL:https://www.asiago7cbiketeam.com/event/marathon-del-salento/
LOCATION:Ugento (LE)
CATEGORIES:MTB
END:VEVENT
BEGIN:VEVENT
DTSTART;VALUE=DATE:20220424
DTEND;VALUE=DATE:20220425
DTSTAMP:20260423T222206
CREATED:20220310T084539Z
LAST-MODIFIED:20220310T084539Z
UID:868-1650758400-1650844799@www.asiago7cbiketeam.com
SUMMARY:Nove Fossi
DESCRIPTION:
URL:https://www.asiago7cbiketeam.com/event/nove-fossi-2/
LOCATION:Cingoli (Mc)
CATEGORIES:MTB
END:VEVENT
BEGIN:VEVENT
DTSTART;VALUE=DATE:20220424
DTEND;VALUE=DATE:20220425
DTSTAMP:20260423T222206
CREATED:20220310T084705Z
LAST-MODIFIED:20220310T084705Z
UID:870-1650758400-1650844799@www.asiago7cbiketeam.com
SUMMARY:Mtb Garda Marathon
DESCRIPTION:
URL:https://www.asiago7cbiketeam.com/event/mtb-garda-marathon/
LOCATION:Garda (VR)
CATEGORIES:MTB
END:VEVENT
BEGIN:VEVENT
DTSTART;VALUE=DATE:20220424
DTEND;VALUE=DATE:20220425
DTSTAMP:20260423T222206
CREATED:20220310T084749Z
LAST-MODIFIED:20220310T084749Z
UID:872-1650758400-1650844799@www.asiago7cbiketeam.com
SUMMARY:Marathon dei Lupi
DESCRIPTION:
URL:https://www.asiago7cbiketeam.com/event/marathon-dei-lupi/
LOCATION:Pico (Fr)
CATEGORIES:MTB
END:VEVENT
BEGIN:VEVENT
DTSTART;VALUE=DATE:20220424
DTEND;VALUE=DATE:20220425
DTSTAMP:20260423T222206
CREATED:20220310T084833Z
LAST-MODIFIED:20220310T084833Z
UID:874-1650758400-1650844799@www.asiago7cbiketeam.com
SUMMARY:Is Trebinas
DESCRIPTION:
URL:https://www.asiago7cbiketeam.com/event/is-trebinas/
LOCATION:Pau (Or)
CATEGORIES:MTB
END:VEVENT
BEGIN:VEVENT
DTSTART;VALUE=DATE:20220424
DTEND;VALUE=DATE:20220425
DTSTAMP:20260423T222206
CREATED:20220310T084929Z
LAST-MODIFIED:20220310T084929Z
UID:876-1650758400-1650844799@www.asiago7cbiketeam.com
SUMMARY:Città di Pontremoli
DESCRIPTION:
URL:https://www.asiago7cbiketeam.com/event/citta-di-pontremoli/
LOCATION:Pontremoli (MS)
CATEGORIES:MTB
END:VEVENT
BEGIN:VEVENT
DTSTART;VALUE=DATE:20220425
DTEND;VALUE=DATE:20220426
DTSTAMP:20260423T222206
CREATED:20220310T064818Z
LAST-MODIFIED:20220310T064818Z
UID:644-1650844800-1650931199@www.asiago7cbiketeam.com
SUMMARY:Le Strade Rosa - Sixs
DESCRIPTION:
URL:https://www.asiago7cbiketeam.com/event/le-strade-rosa-sixs/
LOCATION:Castelnuovo di Farfa (RI)
CATEGORIES:GRAN FONDO
END:VEVENT
BEGIN:VEVENT
DTSTART;VALUE=DATE:20220425
DTEND;VALUE=DATE:20220426
DTSTAMP:20260423T222206
CREATED:20220310T085025Z
LAST-MODIFIED:20220310T085025Z
UID:879-1650844800-1650931199@www.asiago7cbiketeam.com
SUMMARY:Colli della Sabina
DESCRIPTION:
URL:https://www.asiago7cbiketeam.com/event/colli-della-sabina/
LOCATION:Passo Corese (Ri)
CATEGORIES:MTB
END:VEVENT
BEGIN:VEVENT
DTSTART;VALUE=DATE:20220430
DTEND;VALUE=DATE:20220501
DTSTAMP:20260423T222206
CREATED:20220310T085143Z
LAST-MODIFIED:20220310T085143Z
UID:881-1651276800-1651363199@www.asiago7cbiketeam.com
SUMMARY:Riva del Garda Bike
DESCRIPTION:
URL:https://www.asiago7cbiketeam.com/event/riva-del-garda-bike/
LOCATION:Riva del Garda (Tn)
CATEGORIES:MTB
END:VEVENT
BEGIN:VEVENT
DTSTART;VALUE=DATE:20220501
DTEND;VALUE=DATE:20220502
DTSTAMP:20260423T222206
CREATED:20220310T064957Z
LAST-MODIFIED:20220310T064957Z
UID:648-1651363200-1651449599@www.asiago7cbiketeam.com
SUMMARY:Liotto - Vicenza
DESCRIPTION:
URL:https://www.asiago7cbiketeam.com/event/liotto-vicenza-2/
LOCATION:Vicenza
CATEGORIES:GRAN FONDO
END:VEVENT
BEGIN:VEVENT
DTSTART;VALUE=DATE:20220501
DTEND;VALUE=DATE:20220502
DTSTAMP:20260423T222206
CREATED:20220310T065100Z
LAST-MODIFIED:20220310T065100Z
UID:650-1651363200-1651449599@www.asiago7cbiketeam.com
SUMMARY:Nebrodi
DESCRIPTION:
URL:https://www.asiago7cbiketeam.com/event/nebrodi/
LOCATION:Capo d’Orlando (ME)
CATEGORIES:GRAN FONDO
END:VEVENT
BEGIN:VEVENT
DTSTART;VALUE=DATE:20220501
DTEND;VALUE=DATE:20220502
DTSTAMP:20260423T222206
CREATED:20220310T065150Z
LAST-MODIFIED:20220310T065150Z
UID:653-1651363200-1651449599@www.asiago7cbiketeam.com
SUMMARY:GF Perini
DESCRIPTION:
URL:https://www.asiago7cbiketeam.com/event/gf-perini/
LOCATION:Carpaneto Piacentino (PC)
CATEGORIES:GRAN FONDO
END:VEVENT
BEGIN:VEVENT
DTSTART;VALUE=DATE:20220501
DTEND;VALUE=DATE:20220502
DTSTAMP:20260423T222206
CREATED:20220310T065243Z
LAST-MODIFIED:20220310T065243Z
UID:656-1651363200-1651449599@www.asiago7cbiketeam.com
SUMMARY:100 km Isola Verde
DESCRIPTION:
URL:https://www.asiago7cbiketeam.com/event/100-km-isola-verde/
LOCATION:Ischia (NA)
CATEGORIES:GRAN FONDO
END:VEVENT
BEGIN:VEVENT
DTSTART;VALUE=DATE:20220501
DTEND;VALUE=DATE:20220502
DTSTAMP:20260423T222206
CREATED:20220310T065319Z
LAST-MODIFIED:20220310T065319Z
UID:659-1651363200-1651449599@www.asiago7cbiketeam.com
SUMMARY:Torino
DESCRIPTION:
URL:https://www.asiago7cbiketeam.com/event/torino-2/
LOCATION:Torino
CATEGORIES:GRAN FONDO
END:VEVENT
BEGIN:VEVENT
DTSTART;VALUE=DATE:20220501
DTEND;VALUE=DATE:20220502
DTSTAMP:20260423T222206
CREATED:20220310T085325Z
LAST-MODIFIED:20220310T085325Z
UID:883-1651363200-1651449599@www.asiago7cbiketeam.com
SUMMARY:Saraceni Mtb Race
DESCRIPTION:
URL:https://www.asiago7cbiketeam.com/event/saraceni-mtb-race/
LOCATION:Agropoli (SA)
CATEGORIES:MTB
END:VEVENT
BEGIN:VEVENT
DTSTART;VALUE=DATE:20220508
DTEND;VALUE=DATE:20220509
DTSTAMP:20260423T222206
CREATED:20220310T065444Z
LAST-MODIFIED:20220310T065444Z
UID:661-1651968000-1652054399@www.asiago7cbiketeam.com
SUMMARY:Blockhaus Marathon
DESCRIPTION:
URL:https://www.asiago7cbiketeam.com/event/blockhaus-marathon-2/
LOCATION:Pacentro (AQ)
CATEGORIES:GRAN FONDO
END:VEVENT
BEGIN:VEVENT
DTSTART;VALUE=DATE:20220508
DTEND;VALUE=DATE:20220509
DTSTAMP:20260423T222206
CREATED:20220310T065715Z
LAST-MODIFIED:20220310T065715Z
UID:666-1651968000-1652054399@www.asiago7cbiketeam.com
SUMMARY:Versilia
DESCRIPTION:
URL:https://www.asiago7cbiketeam.com/event/versilia/
LOCATION:Viareggio (LU)
CATEGORIES:GRAN FONDO
END:VEVENT
BEGIN:VEVENT
DTSTART;VALUE=DATE:20220508
DTEND;VALUE=DATE:20220509
DTSTAMP:20260423T222206
CREATED:20220310T070008Z
LAST-MODIFIED:20220310T070008Z
UID:671-1651968000-1652054399@www.asiago7cbiketeam.com
SUMMARY:Cassino
DESCRIPTION:
URL:https://www.asiago7cbiketeam.com/event/cassino/
LOCATION:Cassino (Fr)
CATEGORIES:GRAN FONDO
END:VEVENT
BEGIN:VEVENT
DTSTART;VALUE=DATE:20220508
DTEND;VALUE=DATE:20220509
DTSTAMP:20260423T222206
CREATED:20220310T070102Z
LAST-MODIFIED:20220310T070102Z
UID:673-1651968000-1652054399@www.asiago7cbiketeam.com
SUMMARY:San Benedetto Ciù Ciù
DESCRIPTION:
URL:https://www.asiago7cbiketeam.com/event/san-benedetto-ciu-ciu/
LOCATION:San Benedetto del Tronto (Ap)
CATEGORIES:GRAN FONDO
END:VEVENT
BEGIN:VEVENT
DTSTART;VALUE=DATE:20220508
DTEND;VALUE=DATE:20220509
DTSTAMP:20260423T222206
CREATED:20220310T085445Z
LAST-MODIFIED:20220310T085445Z
UID:886-1651968000-1652054399@www.asiago7cbiketeam.com
SUMMARY:Costa Etruschi Epic
DESCRIPTION:
URL:https://www.asiago7cbiketeam.com/event/costa-etruschi-epic/
LOCATION:Marina di Bibbona (Li)
CATEGORIES:MTB
END:VEVENT
BEGIN:VEVENT
DTSTART;VALUE=DATE:20220508
DTEND;VALUE=DATE:20220509
DTSTAMP:20260423T222206
CREATED:20220310T085536Z
LAST-MODIFIED:20220310T085536Z
UID:888-1651968000-1652054399@www.asiago7cbiketeam.com
SUMMARY:Mx Monte Calvo
DESCRIPTION:
URL:https://www.asiago7cbiketeam.com/event/mx-monte-calvo/
LOCATION:Amaseno (FR)
CATEGORIES:MTB
END:VEVENT
BEGIN:VEVENT
DTSTART;VALUE=DATE:20220508
DTEND;VALUE=DATE:20220509
DTSTAMP:20260423T222206
CREATED:20220310T085622Z
LAST-MODIFIED:20220310T085622Z
UID:891-1651968000-1652054399@www.asiago7cbiketeam.com
SUMMARY:Trinacria Race
DESCRIPTION:
URL:https://www.asiago7cbiketeam.com/event/trinacria-race-2/
LOCATION:Letojanni
CATEGORIES:MTB
END:VEVENT
BEGIN:VEVENT
DTSTART;TZID=Europe/Rome:20220508T080000
DTEND;TZID=Europe/Rome:20220508T170000
DTSTAMP:20260423T222206
CREATED:20220310T065933Z
LAST-MODIFIED:20220310T065933Z
UID:669-1651996800-1652029200@www.asiago7cbiketeam.com
SUMMARY:Gimondi - Bianchi
DESCRIPTION:
URL:https://www.asiago7cbiketeam.com/event/gimondi-bianchi-2/
LOCATION:Bergamo
CATEGORIES:GRAN FONDO
END:VEVENT
BEGIN:VEVENT
DTSTART;VALUE=DATE:20220514
DTEND;VALUE=DATE:20220515
DTSTAMP:20260423T222206
CREATED:20220310T090011Z
LAST-MODIFIED:20220310T090011Z
UID:893-1652486400-1652572799@www.asiago7cbiketeam.com
SUMMARY:Lessinia Legend
DESCRIPTION:
URL:https://www.asiago7cbiketeam.com/event/lessinia-legend/
LOCATION:San Martino Buon Albergo (VR)
CATEGORIES:MTB
END:VEVENT
BEGIN:VEVENT
DTSTART;VALUE=DATE:20220515
DTEND;VALUE=DATE:20220516
DTSTAMP:20260423T222206
CREATED:20220310T070216Z
LAST-MODIFIED:20220310T070216Z
UID:675-1652572800-1652659199@www.asiago7cbiketeam.com
SUMMARY:Mangia e Bevi
DESCRIPTION:
URL:https://www.asiago7cbiketeam.com/event/mangia-e-bevi/
LOCATION:Vercelli
CATEGORIES:GRAN FONDO
END:VEVENT
END:VCALENDAR