BEGIN:VCALENDAR
VERSION:2.0
PRODID:-//Asiago 7C Bike Team - ECPv5.12.3//NONSGML v1.0//EN
CALSCALE:GREGORIAN
METHOD:PUBLISH
X-WR-CALNAME:Asiago 7C Bike Team
X-ORIGINAL-URL:https://www.asiago7cbiketeam.com
X-WR-CALDESC:Events for Asiago 7C Bike Team
REFRESH-INTERVAL;VALUE=DURATION:PT1H
X-Robots-Tag:noindex
X-PUBLISHED-TTL:PT1H
BEGIN:VTIMEZONE
TZID:Europe/Rome
BEGIN:DAYLIGHT
TZOFFSETFROM:+0100
TZOFFSETTO:+0200
TZNAME:CEST
DTSTART:20240331T010000
END:DAYLIGHT
BEGIN:STANDARD
TZOFFSETFROM:+0200
TZOFFSETTO:+0100
TZNAME:CET
DTSTART:20241027T010000
END:STANDARD
END:VTIMEZONE
BEGIN:VEVENT
DTSTART;VALUE=DATE:20240303
DTEND;VALUE=DATE:20240304
DTSTAMP:20260423T002056
CREATED:20240307T194535Z
LAST-MODIFIED:20240307T194535Z
UID:1043-1709424000-1709510399@www.asiago7cbiketeam.com
SUMMARY:Bosco delle Pianelle
DESCRIPTION:
URL:https://www.asiago7cbiketeam.com/event/bosco-delle-pianelle-3/
CATEGORIES:GRAN FONDO
END:VEVENT
BEGIN:VEVENT
DTSTART;VALUE=DATE:20240303
DTEND;VALUE=DATE:20240304
DTSTAMP:20260423T002056
CREATED:20240307T194708Z
LAST-MODIFIED:20240307T194708Z
UID:1045-1709424000-1709510399@www.asiago7cbiketeam.com
SUMMARY:Energy Marathon
DESCRIPTION:
URL:https://www.asiago7cbiketeam.com/event/energy-marathon-3/
LOCATION:Carpenedolo (BS)
CATEGORIES:GRAN FONDO
END:VEVENT
BEGIN:VEVENT
DTSTART;VALUE=DATE:20240303
DTEND;VALUE=DATE:20240304
DTSTAMP:20260423T002056
CREATED:20240307T194948Z
LAST-MODIFIED:20240307T194948Z
UID:1048-1709424000-1709510399@www.asiago7cbiketeam.com
SUMMARY:Orvieto Wine Mx
DESCRIPTION:
URL:https://www.asiago7cbiketeam.com/event/orvieto-wine-mx-2/
LOCATION:Orvieto (Tr)
CATEGORIES:GRAN FONDO
END:VEVENT
BEGIN:VEVENT
DTSTART;VALUE=DATE:20240310
DTEND;VALUE=DATE:20240311
DTSTAMP:20260423T002056
CREATED:20240307T195141Z
LAST-MODIFIED:20240307T195141Z
UID:1050-1710028800-1710115199@www.asiago7cbiketeam.com
SUMMARY:Bacialla Bike
DESCRIPTION:
URL:https://www.asiago7cbiketeam.com/event/bacialla-bike-3/
LOCATION:Terontola (Ar)
CATEGORIES:GRAN FONDO
END:VEVENT
BEGIN:VEVENT
DTSTART;VALUE=DATE:20240310
DTEND;VALUE=DATE:20240311
DTSTAMP:20260423T002056
CREATED:20240307T195357Z
LAST-MODIFIED:20240307T195357Z
UID:1052-1710028800-1710115199@www.asiago7cbiketeam.com
SUMMARY:Bardolino Bike
DESCRIPTION:
URL:https://www.asiago7cbiketeam.com/event/bardolino-bike-3/
LOCATION:Bardolino (VR)
CATEGORIES:GRAN FONDO
END:VEVENT
BEGIN:VEVENT
DTSTART;VALUE=DATE:20240317
DTEND;VALUE=DATE:20240318
DTSTAMP:20260423T002056
CREATED:20240307T195707Z
LAST-MODIFIED:20240307T195707Z
UID:1054-1710633600-1710719999@www.asiago7cbiketeam.com
SUMMARY:Castello Monteriggioni
DESCRIPTION:
URL:https://www.asiago7cbiketeam.com/event/castello-monteriggioni/
LOCATION:Monteriggioni (Si)
END:VEVENT
BEGIN:VEVENT
DTSTART;VALUE=DATE:20240317
DTEND;VALUE=DATE:20240318
DTSTAMP:20260423T002056
CREATED:20240307T195901Z
LAST-MODIFIED:20240307T195901Z
UID:1056-1710633600-1710719999@www.asiago7cbiketeam.com
SUMMARY:Muretto di Alassio
DESCRIPTION:
URL:https://www.asiago7cbiketeam.com/event/muretto-di-alassio-2/
LOCATION:Alassio (Sv)
END:VEVENT
BEGIN:VEVENT
DTSTART;VALUE=DATE:20240317
DTEND;VALUE=DATE:20240318
DTSTAMP:20260423T002056
CREATED:20240307T200132Z
LAST-MODIFIED:20240307T200132Z
UID:1058-1710633600-1710719999@www.asiago7cbiketeam.com
SUMMARY:Mx Monti Ausoni
DESCRIPTION:
URL:https://www.asiago7cbiketeam.com/event/mx-monti-ausoni/
LOCATION:fondi
CATEGORIES:GRAN FONDO
END:VEVENT
BEGIN:VEVENT
DTSTART;VALUE=DATE:20240317
DTEND;VALUE=DATE:20240318
DTSTAMP:20260423T002056
CREATED:20240307T200400Z
LAST-MODIFIED:20240307T200400Z
UID:1061-1710633600-1710719999@www.asiago7cbiketeam.com
SUMMARY:Wild  Valtrompia Mtb
DESCRIPTION:
URL:https://www.asiago7cbiketeam.com/event/wild-valtrompia-mtb/
LOCATION:Concesio (BS)
CATEGORIES:GRAN FONDO
END:VEVENT
BEGIN:VEVENT
DTSTART;VALUE=DATE:20240324
DTEND;VALUE=DATE:20240325
DTSTAMP:20260423T002056
CREATED:20240307T200901Z
LAST-MODIFIED:20240307T200901Z
UID:1064-1711238400-1711324799@www.asiago7cbiketeam.com
SUMMARY:Tre Valli Bike Fun
DESCRIPTION:
URL:https://www.asiago7cbiketeam.com/event/tre-valli-bike-fun/
LOCATION:Tregnago (VR)
CATEGORIES:GRAN FONDO
END:VEVENT
BEGIN:VEVENT
DTSTART;VALUE=DATE:20240324
DTEND;VALUE=DATE:20240325
DTSTAMP:20260423T002056
CREATED:20240307T201455Z
LAST-MODIFIED:20240307T201455Z
UID:1066-1711238400-1711324799@www.asiago7cbiketeam.com
SUMMARY:Valle dei Tufi Xc Race
DESCRIPTION:
URL:https://www.asiago7cbiketeam.com/event/valle-dei-tufi-xc-race/
LOCATION:Mondolfo (Pu)
CATEGORIES:GRAN FONDO
END:VEVENT
BEGIN:VEVENT
DTSTART;VALUE=DATE:20240407
DTEND;VALUE=DATE:20240408
DTSTAMP:20260423T002056
CREATED:20240307T201722Z
LAST-MODIFIED:20240307T201722Z
UID:1069-1712448000-1712534399@www.asiago7cbiketeam.com
SUMMARY:GF del Syrah
DESCRIPTION:
URL:https://www.asiago7cbiketeam.com/event/gf-del-syrah/
LOCATION:tavarnelle di cortona  (Ar )
END:VEVENT
BEGIN:VEVENT
DTSTART;VALUE=DATE:20240407
DTEND;VALUE=DATE:20240408
DTSTAMP:20260423T002056
CREATED:20240307T201926Z
LAST-MODIFIED:20240307T201926Z
UID:1072-1712448000-1712534399@www.asiago7cbiketeam.com
SUMMARY:Mtb dei tre castelli
DESCRIPTION:M
URL:https://www.asiago7cbiketeam.com/event/mtb-dei-tre-castelli/
LOCATION:faleria (Vt)
CATEGORIES:GRAN FONDO
END:VEVENT
BEGIN:VEVENT
DTSTART;VALUE=DATE:20240407
DTEND;VALUE=DATE:20240408
DTSTAMP:20260423T002056
CREATED:20240307T202057Z
LAST-MODIFIED:20240307T202057Z
UID:1075-1712448000-1712534399@www.asiago7cbiketeam.com
SUMMARY:Savogno race
DESCRIPTION:
URL:https://www.asiago7cbiketeam.com/event/savogno-race/
LOCATION:savigno (bo)
CATEGORIES:GRAN FONDO
END:VEVENT
BEGIN:VEVENT
DTSTART;VALUE=DATE:20240407
DTEND;VALUE=DATE:20240408
DTSTAMP:20260423T002056
CREATED:20240307T202234Z
LAST-MODIFIED:20240307T202234Z
UID:1078-1712448000-1712534399@www.asiago7cbiketeam.com
SUMMARY:Spaccapria
DESCRIPTION:
URL:https://www.asiago7cbiketeam.com/event/spaccapria-3/
LOCATION:Torreglia (Pd)
CATEGORIES:GRAN FONDO
END:VEVENT
BEGIN:VEVENT
DTSTART;VALUE=DATE:20240407
DTEND;VALUE=DATE:20240408
DTSTAMP:20260423T002056
CREATED:20240308T183430Z
LAST-MODIFIED:20240308T183430Z
UID:1080-1712448000-1712534399@www.asiago7cbiketeam.com
SUMMARY:Savigno Race
DESCRIPTION:
URL:https://www.asiago7cbiketeam.com/event/savigno-race/
LOCATION:savigno (bo)
CATEGORIES:GRAN FONDO
END:VEVENT
BEGIN:VEVENT
DTSTART;VALUE=DATE:20240407
DTEND;VALUE=DATE:20240408
DTSTAMP:20260423T002056
CREATED:20240308T183606Z
LAST-MODIFIED:20240308T183606Z
UID:1082-1712448000-1712534399@www.asiago7cbiketeam.com
SUMMARY:Spaccapria
DESCRIPTION:
URL:https://www.asiago7cbiketeam.com/event/spaccapria-4/
LOCATION:Torreglia (Pd)
CATEGORIES:GRAN FONDO
END:VEVENT
BEGIN:VEVENT
DTSTART;TZID=Europe/Rome:20240407T000000
DTEND;TZID=Europe/Rome:20240407T235900
DTSTAMP:20260423T002056
CREATED:20240308T183737Z
LAST-MODIFIED:20240308T184101Z
UID:1084-1712448000-1712534340@www.asiago7cbiketeam.com
SUMMARY:Valle del Conca
DESCRIPTION:
URL:https://www.asiago7cbiketeam.com/event/valle-del-conca/
LOCATION:casteldimezzo (PU)
CATEGORIES:GRAN FONDO
END:VEVENT
BEGIN:VEVENT
DTSTART;VALUE=DATE:20240414
DTEND;VALUE=DATE:20240415
DTSTAMP:20260423T002056
CREATED:20240308T184216Z
LAST-MODIFIED:20240308T184225Z
UID:1087-1713052800-1713139199@www.asiago7cbiketeam.com
SUMMARY:Garda Marathon
DESCRIPTION:
URL:https://www.asiago7cbiketeam.com/event/garda-marathon-2/
LOCATION:Garda (VR)
CATEGORIES:GRAN FONDO
END:VEVENT
BEGIN:VEVENT
DTSTART;VALUE=DATE:20240414
DTEND;VALUE=DATE:20240415
DTSTAMP:20260423T002056
CREATED:20240308T184536Z
LAST-MODIFIED:20240308T184536Z
UID:1089-1713052800-1713139199@www.asiago7cbiketeam.com
SUMMARY:Marathon del Salento
DESCRIPTION:
URL:https://www.asiago7cbiketeam.com/event/marathon-del-salento-2/
LOCATION:Ugento (LE)
CATEGORIES:GRAN FONDO
END:VEVENT
BEGIN:VEVENT
DTSTART;VALUE=DATE:20240414
DTEND;VALUE=DATE:20240415
DTSTAMP:20260423T002056
CREATED:20240308T210117Z
LAST-MODIFIED:20240308T210117Z
UID:1094-1713052800-1713139199@www.asiago7cbiketeam.com
SUMMARY:Sinalunga Bike
DESCRIPTION:
URL:https://www.asiago7cbiketeam.com/event/sinalunga-bike-2/
LOCATION:Sinalunga (Si)
CATEGORIES:GRAN FONDO
END:VEVENT
BEGIN:VEVENT
DTSTART;TZID=Europe/Rome:20240414T080000
DTEND;TZID=Europe/Rome:20240414T170000
DTSTAMP:20260423T002056
CREATED:20240308T184932Z
LAST-MODIFIED:20240308T184932Z
UID:1092-1713081600-1713114000@www.asiago7cbiketeam.com
SUMMARY:Pedalanghe
DESCRIPTION:
URL:https://www.asiago7cbiketeam.com/event/pedalanghe-3/
LOCATION:Cossano Belbo (Cn)
CATEGORIES:GRAN FONDO
END:VEVENT
BEGIN:VEVENT
DTSTART;VALUE=DATE:20240421
DTEND;VALUE=DATE:20240422
DTSTAMP:20260423T002056
CREATED:20240308T210212Z
LAST-MODIFIED:20240308T210212Z
UID:1096-1713657600-1713743999@www.asiago7cbiketeam.com
SUMMARY:Brescia Xtech
DESCRIPTION:
URL:https://www.asiago7cbiketeam.com/event/brescia-xtech/
LOCATION:Brescia
CATEGORIES:GRAN FONDO
END:VEVENT
BEGIN:VEVENT
DTSTART;VALUE=DATE:20240421
DTEND;VALUE=DATE:20240422
DTSTAMP:20260423T002056
CREATED:20240308T210415Z
LAST-MODIFIED:20240308T210415Z
UID:1098-1713657600-1713743999@www.asiago7cbiketeam.com
SUMMARY:Da Piazza a Piazza
DESCRIPTION:
URL:https://www.asiago7cbiketeam.com/event/da-piazza-a-piazza-2/
LOCATION:Prato
CATEGORIES:GRAN FONDO
END:VEVENT
BEGIN:VEVENT
DTSTART;VALUE=DATE:20240421
DTEND;VALUE=DATE:20240422
DTSTAMP:20260423T002056
CREATED:20240308T210505Z
LAST-MODIFIED:20240308T210505Z
UID:1100-1713657600-1713743999@www.asiago7cbiketeam.com
SUMMARY:Maraton dei Lupi
DESCRIPTION:
URL:https://www.asiago7cbiketeam.com/event/maraton-dei-lupi/
LOCATION:Pico (Fr)
CATEGORIES:GRAN FONDO
END:VEVENT
BEGIN:VEVENT
DTSTART;TZID=Europe/Rome:20240421T080000
DTEND;TZID=Europe/Rome:20240421T170000
DTSTAMP:20260423T002056
CREATED:20240308T211004Z
LAST-MODIFIED:20240308T211004Z
UID:1102-1713686400-1713718800@www.asiago7cbiketeam.com
SUMMARY:Santa XC Race
DESCRIPTION:
URL:https://www.asiago7cbiketeam.com/event/santa-xc-race/
LOCATION:santarcangelo di romagna Fc
CATEGORIES:GRAN FONDO
END:VEVENT
BEGIN:VEVENT
DTSTART;VALUE=DATE:20240425
DTEND;VALUE=DATE:20240426
DTSTAMP:20260423T002056
CREATED:20240308T211104Z
LAST-MODIFIED:20240308T211104Z
UID:1105-1714003200-1714089599@www.asiago7cbiketeam.com
SUMMARY:Colli della Sabina
DESCRIPTION:
URL:https://www.asiago7cbiketeam.com/event/colli-della-sabina-2/
LOCATION:Passo Corese (Ri)
CATEGORIES:GRAN FONDO
END:VEVENT
BEGIN:VEVENT
DTSTART;VALUE=DATE:20240428
DTEND;VALUE=DATE:20240429
DTSTAMP:20260423T002056
CREATED:20240308T211203Z
LAST-MODIFIED:20240308T211203Z
UID:1107-1714262400-1714348799@www.asiago7cbiketeam.com
SUMMARY:Aspromarathon
DESCRIPTION:
URL:https://www.asiago7cbiketeam.com/event/aspromarathon-3/
LOCATION:Reggio Calabria (Rc)
CATEGORIES:GRAN FONDO
END:VEVENT
BEGIN:VEVENT
DTSTART;VALUE=DATE:20240428
DTEND;VALUE=DATE:20240429
DTSTAMP:20260423T002056
CREATED:20240308T211433Z
LAST-MODIFIED:20240308T211433Z
UID:1112-1714262400-1714348799@www.asiago7cbiketeam.com
SUMMARY:GF del Durello
DESCRIPTION:
URL:https://www.asiago7cbiketeam.com/event/gf-del-durello/
LOCATION:San Giovanni Ilarione Vr
CATEGORIES:GRAN FONDO
END:VEVENT
BEGIN:VEVENT
DTSTART;VALUE=DATE:20240428
DTEND;VALUE=DATE:20240429
DTSTAMP:20260423T002056
CREATED:20240308T211505Z
LAST-MODIFIED:20240308T211505Z
UID:1115-1714262400-1714348799@www.asiago7cbiketeam.com
SUMMARY:Nove Fossi
DESCRIPTION:
URL:https://www.asiago7cbiketeam.com/event/nove-fossi-3/
LOCATION:Cingoli (Mc)
CATEGORIES:GRAN FONDO
END:VEVENT
END:VCALENDAR