BEGIN:VCALENDAR
VERSION:2.0
PRODID:-//Asiago 7C Bike Team - ECPv5.12.3//NONSGML v1.0//EN
CALSCALE:GREGORIAN
METHOD:PUBLISH
X-WR-CALNAME:Asiago 7C Bike Team
X-ORIGINAL-URL:https://www.asiago7cbiketeam.com
X-WR-CALDESC:Events for Asiago 7C Bike Team
REFRESH-INTERVAL;VALUE=DURATION:PT1H
X-Robots-Tag:noindex
X-PUBLISHED-TTL:PT1H
BEGIN:VTIMEZONE
TZID:Europe/Rome
BEGIN:DAYLIGHT
TZOFFSETFROM:+0100
TZOFFSETTO:+0200
TZNAME:CEST
DTSTART:20240331T010000
END:DAYLIGHT
BEGIN:STANDARD
TZOFFSETFROM:+0200
TZOFFSETTO:+0100
TZNAME:CET
DTSTART:20241027T010000
END:STANDARD
END:VTIMEZONE
BEGIN:VEVENT
DTSTART;VALUE=DATE:20240825
DTEND;VALUE=DATE:20240826
DTSTAMP:20260420T093105
CREATED:20240401T080833Z
LAST-MODIFIED:20240401T080833Z
UID:1256-1724544000-1724630399@www.asiago7cbiketeam.com
SUMMARY:Stragolem
DESCRIPTION:
URL:https://www.asiago7cbiketeam.com/event/stragolem/
LOCATION:Zone (BS)
CATEGORIES:MTB
END:VEVENT
BEGIN:VEVENT
DTSTART;VALUE=DATE:20240825
DTEND;VALUE=DATE:20240826
DTSTAMP:20260420T093105
CREATED:20240512T184409Z
LAST-MODIFIED:20240512T184409Z
UID:1447-1724544000-1724630399@www.asiago7cbiketeam.com
SUMMARY:GF Maltidica
DESCRIPTION:
URL:https://www.asiago7cbiketeam.com/event/gf-maltidica/
LOCATION:Reggio Emilia
CATEGORIES:GRAN FONDO
END:VEVENT
BEGIN:VEVENT
DTSTART;TZID=Europe/Rome:20240825T080000
DTEND;TZID=Europe/Rome:20240825T170000
DTSTAMP:20260420T093105
CREATED:20240401T080733Z
LAST-MODIFIED:20240401T080733Z
UID:1253-1724572800-1724605200@www.asiago7cbiketeam.com
SUMMARY:Città di Labico
DESCRIPTION:
URL:https://www.asiago7cbiketeam.com/event/citta-di-labico/
LOCATION:Labico (Roma)
CATEGORIES:MTB
END:VEVENT
BEGIN:VEVENT
DTSTART;VALUE=DATE:20240831
DTEND;VALUE=DATE:20240901
DTSTAMP:20260420T093105
CREATED:20240401T081352Z
LAST-MODIFIED:20240401T081352Z
UID:1260-1725062400-1725148799@www.asiago7cbiketeam.com
SUMMARY:Kronplatz King
DESCRIPTION:
URL:https://www.asiago7cbiketeam.com/event/kronplatz-king/
LOCATION:www.kronplatzking.com
CATEGORIES:MTB
END:VEVENT
BEGIN:VEVENT
DTSTART;VALUE=DATE:20240901
DTEND;VALUE=DATE:20240902
DTSTAMP:20260420T093105
CREATED:20240401T081511Z
LAST-MODIFIED:20240401T081511Z
UID:1264-1725148800-1725235199@www.asiago7cbiketeam.com
SUMMARY:Montel Bike
DESCRIPTION:
URL:https://www.asiago7cbiketeam.com/event/montel-bike/
LOCATION:Volpago del Montello (TV)
CATEGORIES:MTB
END:VEVENT
BEGIN:VEVENT
DTSTART;VALUE=DATE:20240901
DTEND;VALUE=DATE:20240902
DTSTAMP:20260420T093105
CREATED:20240401T081613Z
LAST-MODIFIED:20240401T081613Z
UID:1268-1725148800-1725235199@www.asiago7cbiketeam.com
SUMMARY:South Garda Bike
DESCRIPTION:
URL:https://www.asiago7cbiketeam.com/event/south-garda-bike-2/
LOCATION:Medole (Mn)
CATEGORIES:MTB
END:VEVENT
BEGIN:VEVENT
DTSTART;VALUE=DATE:20240901
DTEND;VALUE=DATE:20240902
DTSTAMP:20260420T093105
CREATED:20240401T081703Z
LAST-MODIFIED:20240401T081703Z
UID:1271-1725148800-1725235199@www.asiago7cbiketeam.com
SUMMARY:Straccabike
DESCRIPTION:
URL:https://www.asiago7cbiketeam.com/event/straccabike-3/
LOCATION:Pratovecchio (Ar)
CATEGORIES:MTB
END:VEVENT
BEGIN:VEVENT
DTSTART;VALUE=DATE:20240901
DTEND;VALUE=DATE:20240902
DTSTAMP:20260420T093105
CREATED:20240512T184541Z
LAST-MODIFIED:20240512T184541Z
UID:1450-1725148800-1725235199@www.asiago7cbiketeam.com
SUMMARY:Mythos Alpine Gravel
DESCRIPTION:
URL:https://www.asiago7cbiketeam.com/event/mythos-alpine-gravel/
LOCATION:San Martino di C. (Tn)
CATEGORIES:GRAN FONDO
END:VEVENT
BEGIN:VEVENT
DTSTART;VALUE=DATE:20240901
DTEND;VALUE=DATE:20240902
DTSTAMP:20260420T093105
CREATED:20240512T184640Z
LAST-MODIFIED:20240512T184640Z
UID:1453-1725148800-1725235199@www.asiago7cbiketeam.com
SUMMARY:GFNY Alpes Vaujani
DESCRIPTION:
URL:https://www.asiago7cbiketeam.com/event/gfny-alpes-vaujani/
LOCATION:Vaujany (FRA)
CATEGORIES:GRAN FONDO
END:VEVENT
BEGIN:VEVENT
DTSTART;VALUE=DATE:20240901
DTEND;VALUE=DATE:20240902
DTSTAMP:20260420T093105
CREATED:20240512T184749Z
LAST-MODIFIED:20240512T184749Z
UID:1455-1725148800-1725235199@www.asiago7cbiketeam.com
SUMMARY:Oetztaler
DESCRIPTION:
URL:https://www.asiago7cbiketeam.com/event/oetztaler-3/
LOCATION:Solden (AUT)
END:VEVENT
BEGIN:VEVENT
DTSTART;VALUE=DATE:20240907
DTEND;VALUE=DATE:20240908
DTSTAMP:20260420T093105
CREATED:20240401T081818Z
LAST-MODIFIED:20240401T081818Z
UID:1274-1725667200-1725753599@www.asiago7cbiketeam.com
SUMMARY:Mythos Primiero
DESCRIPTION:
URL:https://www.asiago7cbiketeam.com/event/mythos-primiero-2/
LOCATION:Fiera di Primiero (Tn)
CATEGORIES:MTB
END:VEVENT
BEGIN:VEVENT
DTSTART;VALUE=DATE:20240908
DTEND;VALUE=DATE:20240909
DTSTAMP:20260420T093105
CREATED:20240401T081931Z
LAST-MODIFIED:20240401T081931Z
UID:1277-1725753600-1725839999@www.asiago7cbiketeam.com
SUMMARY:Mx Castelli Romani
DESCRIPTION:
URL:https://www.asiago7cbiketeam.com/event/mx-castelli-romani/
LOCATION:Lariano (RM)
CATEGORIES:MTB
END:VEVENT
BEGIN:VEVENT
DTSTART;VALUE=DATE:20240908
DTEND;VALUE=DATE:20240909
DTSTAMP:20260420T093105
CREATED:20240401T082148Z
LAST-MODIFIED:20240401T082148Z
UID:1280-1725753600-1725839999@www.asiago7cbiketeam.com
SUMMARY:Mx Eremita Marzano
DESCRIPTION:
URL:https://www.asiago7cbiketeam.com/event/mx-eremita-marzano/
LOCATION:Colliano (Sa)
CATEGORIES:MTB
END:VEVENT
BEGIN:VEVENT
DTSTART;VALUE=DATE:20240908
DTEND;VALUE=DATE:20240909
DTSTAMP:20260420T093105
CREATED:20240401T082855Z
LAST-MODIFIED:20240401T082855Z
UID:1283-1725753600-1725839999@www.asiago7cbiketeam.com
SUMMARY:Sasso Race
DESCRIPTION:
URL:https://www.asiago7cbiketeam.com/event/sasso-race/
LOCATION:Sasso Marconi (BO)
CATEGORIES:MTB
END:VEVENT
BEGIN:VEVENT
DTSTART;VALUE=DATE:20240908
DTEND;VALUE=DATE:20240909
DTSTAMP:20260420T093105
CREATED:20240512T184840Z
LAST-MODIFIED:20240512T184840Z
UID:1458-1725753600-1725839999@www.asiago7cbiketeam.com
SUMMARY:Città dell'Aquila
DESCRIPTION:
URL:https://www.asiago7cbiketeam.com/event/citta-dellaquila-2/
LOCATION:L’Aquila
CATEGORIES:GRAN FONDO
END:VEVENT
BEGIN:VEVENT
DTSTART;VALUE=DATE:20240915
DTEND;VALUE=DATE:20240916
DTSTAMP:20260420T093105
CREATED:20240401T083007Z
LAST-MODIFIED:20240401T083007Z
UID:1286-1726358400-1726444799@www.asiago7cbiketeam.com
SUMMARY:Marathon Brianza
DESCRIPTION:
URL:https://www.asiago7cbiketeam.com/event/marathon-brianza-2/
LOCATION:Casatenovo (Lc)
CATEGORIES:MTB
END:VEVENT
BEGIN:VEVENT
DTSTART;VALUE=DATE:20240915
DTEND;VALUE=DATE:20240916
DTSTAMP:20260420T093105
CREATED:20240401T083104Z
LAST-MODIFIED:20240401T083104Z
UID:1289-1726358400-1726444799@www.asiago7cbiketeam.com
SUMMARY:Rampiconero (AN)
DESCRIPTION:
URL:https://www.asiago7cbiketeam.com/event/rampiconero-an/
LOCATION:Camerano (An)
CATEGORIES:MTB
END:VEVENT
BEGIN:VEVENT
DTSTART;VALUE=DATE:20240915
DTEND;VALUE=DATE:20240916
DTSTAMP:20260420T093105
CREATED:20240401T083213Z
LAST-MODIFIED:20240401T083213Z
UID:1292-1726358400-1726444799@www.asiago7cbiketeam.com
SUMMARY:Vittoria Etna Mx
DESCRIPTION:
URL:https://www.asiago7cbiketeam.com/event/vittoria-etna-mx/
LOCATION:Milo (Ct)
CATEGORIES:MTB
END:VEVENT
BEGIN:VEVENT
DTSTART;VALUE=DATE:20240915
DTEND;VALUE=DATE:20240916
DTSTAMP:20260420T093105
CREATED:20240512T185029Z
LAST-MODIFIED:20240512T185029Z
UID:1461-1726358400-1726444799@www.asiago7cbiketeam.com
SUMMARY:La Gialla Cycling
DESCRIPTION:
URL:https://www.asiago7cbiketeam.com/event/la-gialla-cycling/
LOCATION:Misano Adriatico (Rn)
CATEGORIES:GRAN FONDO
END:VEVENT
BEGIN:VEVENT
DTSTART;VALUE=DATE:20240921
DTEND;VALUE=DATE:20240922
DTSTAMP:20260420T093105
CREATED:20240512T185121Z
LAST-MODIFIED:20240512T185121Z
UID:1464-1726876800-1726963199@www.asiago7cbiketeam.com
SUMMARY:Far Gravel
DESCRIPTION:
URL:https://www.asiago7cbiketeam.com/event/far-gravel/
LOCATION:Argenta (Fe)
CATEGORIES:GRAN FONDO
END:VEVENT
BEGIN:VEVENT
DTSTART;VALUE=DATE:20240922
DTEND;VALUE=DATE:20240923
DTSTAMP:20260420T093105
CREATED:20240401T083317Z
LAST-MODIFIED:20240401T083317Z
UID:1295-1726963200-1727049599@www.asiago7cbiketeam.com
SUMMARY:Alta Valmarecchia
DESCRIPTION:
URL:https://www.asiago7cbiketeam.com/event/alta-valmarecchia/
LOCATION:Novafeltria (Rn)
CATEGORIES:MTB
END:VEVENT
BEGIN:VEVENT
DTSTART;VALUE=DATE:20240922
DTEND;VALUE=DATE:20240923
DTSTAMP:20260420T093105
CREATED:20240401T083417Z
LAST-MODIFIED:20240401T083417Z
UID:1299-1726963200-1727049599@www.asiago7cbiketeam.com
SUMMARY:La Prevostura
DESCRIPTION:
URL:https://www.asiago7cbiketeam.com/event/la-prevostura-2/
LOCATION:Lessona (BI)
CATEGORIES:MTB
END:VEVENT
BEGIN:VEVENT
DTSTART;VALUE=DATE:20240922
DTEND;VALUE=DATE:20240923
DTSTAMP:20260420T093105
CREATED:20240401T083513Z
LAST-MODIFIED:20240401T083513Z
UID:1302-1726963200-1727049599@www.asiago7cbiketeam.com
SUMMARY:Presolana Race
DESCRIPTION:
URL:https://www.asiago7cbiketeam.com/event/presolana-race-2/
LOCATION:Rovetta (BG)
CATEGORIES:MTB
END:VEVENT
BEGIN:VEVENT
DTSTART;VALUE=DATE:20240922
DTEND;VALUE=DATE:20240923
DTSTAMP:20260420T093105
CREATED:20240512T185218Z
LAST-MODIFIED:20240512T185218Z
UID:1467-1726963200-1727049599@www.asiago7cbiketeam.com
SUMMARY:La Medievale
DESCRIPTION:
URL:https://www.asiago7cbiketeam.com/event/la-medievale-2/
LOCATION:San Paolo dei Cavaliri (Rm)
CATEGORIES:GRAN FONDO
END:VEVENT
BEGIN:VEVENT
DTSTART;VALUE=DATE:20240922
DTEND;VALUE=DATE:20240923
DTSTAMP:20260420T093105
CREATED:20240512T185322Z
LAST-MODIFIED:20240512T185322Z
UID:1469-1726963200-1727049599@www.asiago7cbiketeam.com
SUMMARY:5 Mila Marche
DESCRIPTION:
URL:https://www.asiago7cbiketeam.com/event/5-mila-marche/
LOCATION:Porto Recanati (Mc)
CATEGORIES:GRAN FONDO
END:VEVENT
BEGIN:VEVENT
DTSTART;VALUE=DATE:20240922
DTEND;VALUE=DATE:20240923
DTSTAMP:20260420T093105
CREATED:20240512T185412Z
LAST-MODIFIED:20240512T185412Z
UID:1472-1726963200-1727049599@www.asiago7cbiketeam.com
SUMMARY:Diano Marina
DESCRIPTION:
URL:https://www.asiago7cbiketeam.com/event/diano-marina-2/
LOCATION:Diano Marina (IM)
CATEGORIES:GRAN FONDO
END:VEVENT
BEGIN:VEVENT
DTSTART;VALUE=DATE:20240922
DTEND;VALUE=DATE:20240923
DTSTAMP:20260420T093105
CREATED:20240512T185513Z
LAST-MODIFIED:20240512T185513Z
UID:1474-1726963200-1727049599@www.asiago7cbiketeam.com
SUMMARY:Green Fondo Bettini
DESCRIPTION:
URL:https://www.asiago7cbiketeam.com/event/green-fondo-bettini/
LOCATION:Pomarance (Pi)
CATEGORIES:GRAN FONDO
END:VEVENT
BEGIN:VEVENT
DTSTART;VALUE=DATE:20240928
DTEND;VALUE=DATE:20240929
DTSTAMP:20260420T093105
CREATED:20240512T185607Z
LAST-MODIFIED:20240512T185607Z
UID:1476-1727481600-1727567999@www.asiago7cbiketeam.com
SUMMARY:Istria 300
DESCRIPTION:
URL:https://www.asiago7cbiketeam.com/event/istria-300/
LOCATION:Porec (CRO)
CATEGORIES:GRAN FONDO
END:VEVENT
BEGIN:VEVENT
DTSTART;VALUE=DATE:20240929
DTEND;VALUE=DATE:20240930
DTSTAMP:20260420T093105
CREATED:20240401T083632Z
LAST-MODIFIED:20240401T083632Z
UID:1305-1727568000-1727654399@www.asiago7cbiketeam.com
SUMMARY:I Sentieri dei Lupi
DESCRIPTION:
URL:https://www.asiago7cbiketeam.com/event/i-sentieri-dei-lupi/
LOCATION:Collarmele (AQ)
CATEGORIES:MTB
END:VEVENT
BEGIN:VEVENT
DTSTART;VALUE=DATE:20240929
DTEND;VALUE=DATE:20240930
DTSTAMP:20260420T093105
CREATED:20240401T083744Z
LAST-MODIFIED:20240401T083744Z
UID:1309-1727568000-1727654399@www.asiago7cbiketeam.com
SUMMARY:Marathon del Farfa
DESCRIPTION:
URL:https://www.asiago7cbiketeam.com/event/marathon-del-farfa/
LOCATION:Castelnuovo di Farfa (RI)
CATEGORIES:MTB
END:VEVENT
END:VCALENDAR