BEGIN:VCALENDAR
VERSION:2.0
PRODID:-//Asiago 7C Bike Team - ECPv5.12.3//NONSGML v1.0//EN
CALSCALE:GREGORIAN
METHOD:PUBLISH
X-WR-CALNAME:Asiago 7C Bike Team
X-ORIGINAL-URL:https://www.asiago7cbiketeam.com
X-WR-CALDESC:Events for Asiago 7C Bike Team
REFRESH-INTERVAL;VALUE=DURATION:PT1H
X-Robots-Tag:noindex
X-PUBLISHED-TTL:PT1H
BEGIN:VTIMEZONE
TZID:Europe/Rome
BEGIN:DAYLIGHT
TZOFFSETFROM:+0100
TZOFFSETTO:+0200
TZNAME:CEST
DTSTART:20240331T010000
END:DAYLIGHT
BEGIN:STANDARD
TZOFFSETFROM:+0200
TZOFFSETTO:+0100
TZNAME:CET
DTSTART:20241027T010000
END:STANDARD
END:VTIMEZONE
BEGIN:VEVENT
DTSTART;VALUE=DATE:20241006
DTEND;VALUE=DATE:20241007
DTSTAMP:20260420T094139
CREATED:20240401T083843Z
LAST-MODIFIED:20240401T083843Z
UID:1311-1728172800-1728259199@www.asiago7cbiketeam.com
SUMMARY:Casentino Bike
DESCRIPTION:
URL:https://www.asiago7cbiketeam.com/event/casentino-bike-3/
LOCATION:Bibbiena (Ar)
CATEGORIES:MTB
END:VEVENT
BEGIN:VEVENT
DTSTART;VALUE=DATE:20241006
DTEND;VALUE=DATE:20241007
DTSTAMP:20260420T094139
CREATED:20240401T083932Z
LAST-MODIFIED:20240401T083932Z
UID:1314-1728172800-1728259199@www.asiago7cbiketeam.com
SUMMARY:La Via dei Berici
DESCRIPTION:
URL:https://www.asiago7cbiketeam.com/event/la-via-dei-berici/
LOCATION:Vicenza
CATEGORIES:MTB
END:VEVENT
BEGIN:VEVENT
DTSTART;VALUE=DATE:20241006
DTEND;VALUE=DATE:20241007
DTSTAMP:20260420T094139
CREATED:20240512T190303Z
LAST-MODIFIED:20240512T190303Z
UID:1486-1728172800-1728259199@www.asiago7cbiketeam.com
SUMMARY:L'Eroica
DESCRIPTION:
URL:https://www.asiago7cbiketeam.com/event/leroica/
LOCATION:Gaiole in Chianti (Si)
CATEGORIES:GRAN FONDO
END:VEVENT
BEGIN:VEVENT
DTSTART;VALUE=DATE:20241006
DTEND;VALUE=DATE:20241007
DTSTAMP:20260420T094139
CREATED:20240512T190359Z
LAST-MODIFIED:20240512T190359Z
UID:1489-1728172800-1728259199@www.asiago7cbiketeam.com
SUMMARY:Tre Valli Varesine
DESCRIPTION:
URL:https://www.asiago7cbiketeam.com/event/tre-valli-varesine-2/
LOCATION:Varese
CATEGORIES:GRAN FONDO
END:VEVENT
BEGIN:VEVENT
DTSTART;VALUE=DATE:20241013
DTEND;VALUE=DATE:20241014
DTSTAMP:20260420T094139
CREATED:20240401T084045Z
LAST-MODIFIED:20240401T084045Z
UID:1317-1728777600-1728863999@www.asiago7cbiketeam.com
SUMMARY:Fosbike
DESCRIPTION:
URL:https://www.asiago7cbiketeam.com/event/fosbike/
LOCATION:Carpi (MO)
CATEGORIES:MTB
END:VEVENT
BEGIN:VEVENT
DTSTART;VALUE=DATE:20241013
DTEND;VALUE=DATE:20241014
DTSTAMP:20260420T094139
CREATED:20240512T190455Z
LAST-MODIFIED:20240512T190455Z
UID:1491-1728777600-1728863999@www.asiago7cbiketeam.com
SUMMARY:Il Lombardia
DESCRIPTION:
URL:https://www.asiago7cbiketeam.com/event/il-lombardia-2/
LOCATION:Cantù (Co)
CATEGORIES:GRAN FONDO
END:VEVENT
BEGIN:VEVENT
DTSTART;VALUE=DATE:20241013
DTEND;VALUE=DATE:20241014
DTSTAMP:20260420T094139
CREATED:20240512T190705Z
LAST-MODIFIED:20240512T190705Z
UID:1493-1728777600-1728863999@www.asiago7cbiketeam.com
SUMMARY:Dorelan Reactive
DESCRIPTION:
URL:https://www.asiago7cbiketeam.com/event/dorelan-reactive/
LOCATION:Peschiera del Garda (Vr)
CATEGORIES:GRAN FONDO
END:VEVENT
BEGIN:VEVENT
DTSTART;VALUE=DATE:20241013
DTEND;VALUE=DATE:20241014
DTSTAMP:20260420T094139
CREATED:20240512T190758Z
LAST-MODIFIED:20240512T190758Z
UID:1495-1728777600-1728863999@www.asiago7cbiketeam.com
SUMMARY:Cycling Marathon
DESCRIPTION:
URL:https://www.asiago7cbiketeam.com/event/cycling-marathon-2/
LOCATION:Pietra Ligure (Sv)
CATEGORIES:GRAN FONDO
END:VEVENT
BEGIN:VEVENT
DTSTART;VALUE=DATE:20241013
DTEND;VALUE=DATE:20241014
DTSTAMP:20260420T094139
CREATED:20240512T190901Z
LAST-MODIFIED:20240512T190901Z
UID:1497-1728777600-1728863999@www.asiago7cbiketeam.com
SUMMARY:S. Bianche del Sale
DESCRIPTION:
URL:https://www.asiago7cbiketeam.com/event/s-bianche-del-sale/
LOCATION:Cervia (RA)
CATEGORIES:GRAN FONDO
END:VEVENT
BEGIN:VEVENT
DTSTART;VALUE=DATE:20241013
DTEND;VALUE=DATE:20241014
DTSTAMP:20260420T094139
CREATED:20240512T191014Z
LAST-MODIFIED:20240512T191014Z
UID:1499-1728777600-1728863999@www.asiago7cbiketeam.com
SUMMARY:Le Strade Rosa
DESCRIPTION:
URL:https://www.asiago7cbiketeam.com/event/le-strade-rosa-2/
LOCATION:Castelnuovo di Farfa (RI)
CATEGORIES:GRAN FONDO
END:VEVENT
BEGIN:VEVENT
DTSTART;VALUE=DATE:20241020
DTEND;VALUE=DATE:20241021
DTSTAMP:20260420T094139
CREATED:20240401T084140Z
LAST-MODIFIED:20240401T084140Z
UID:1321-1729382400-1729468799@www.asiago7cbiketeam.com
SUMMARY:Castro Legend Cup
DESCRIPTION:
URL:https://www.asiago7cbiketeam.com/event/castro-legend-cup-2/
LOCATION:Castro (LE)
CATEGORIES:MTB
END:VEVENT
BEGIN:VEVENT
DTSTART;VALUE=DATE:20241020
DTEND;VALUE=DATE:20241021
DTSTAMP:20260420T094139
CREATED:20240401T084248Z
LAST-MODIFIED:20240401T084248Z
UID:1324-1729382400-1729468799@www.asiago7cbiketeam.com
SUMMARY:Sulla Via di Ulisse
DESCRIPTION:
URL:https://www.asiago7cbiketeam.com/event/sulla-via-di-ulisse/
LOCATION:Sperlonga (LT)
CATEGORIES:MTB
END:VEVENT
END:VCALENDAR