BEGIN:VCALENDAR
VERSION:2.0
PRODID:-//Asiago 7C Bike Team - ECPv5.12.3//NONSGML v1.0//EN
CALSCALE:GREGORIAN
METHOD:PUBLISH
X-WR-CALNAME:Asiago 7C Bike Team
X-ORIGINAL-URL:https://www.asiago7cbiketeam.com
X-WR-CALDESC:Events for Asiago 7C Bike Team
REFRESH-INTERVAL;VALUE=DURATION:PT1H
X-Robots-Tag:noindex
X-PUBLISHED-TTL:PT1H
BEGIN:VTIMEZONE
TZID:Europe/Rome
BEGIN:DAYLIGHT
TZOFFSETFROM:+0100
TZOFFSETTO:+0200
TZNAME:CEST
DTSTART:20240331T010000
END:DAYLIGHT
BEGIN:STANDARD
TZOFFSETFROM:+0200
TZOFFSETTO:+0100
TZNAME:CET
DTSTART:20241027T010000
END:STANDARD
END:VTIMEZONE
BEGIN:VEVENT
DTSTART;VALUE=DATE:20240303
DTEND;VALUE=DATE:20240304
DTSTAMP:20260422T143004
CREATED:20240307T194535Z
LAST-MODIFIED:20240307T194535Z
UID:1043-1709424000-1709510399@www.asiago7cbiketeam.com
SUMMARY:Bosco delle Pianelle
DESCRIPTION:
URL:https://www.asiago7cbiketeam.com/event/bosco-delle-pianelle-3/
CATEGORIES:GRAN FONDO
END:VEVENT
BEGIN:VEVENT
DTSTART;VALUE=DATE:20240303
DTEND;VALUE=DATE:20240304
DTSTAMP:20260422T143004
CREATED:20240307T194708Z
LAST-MODIFIED:20240307T194708Z
UID:1045-1709424000-1709510399@www.asiago7cbiketeam.com
SUMMARY:Energy Marathon
DESCRIPTION:
URL:https://www.asiago7cbiketeam.com/event/energy-marathon-3/
LOCATION:Carpenedolo (BS)
CATEGORIES:GRAN FONDO
END:VEVENT
BEGIN:VEVENT
DTSTART;VALUE=DATE:20240303
DTEND;VALUE=DATE:20240304
DTSTAMP:20260422T143004
CREATED:20240307T194948Z
LAST-MODIFIED:20240307T194948Z
UID:1048-1709424000-1709510399@www.asiago7cbiketeam.com
SUMMARY:Orvieto Wine Mx
DESCRIPTION:
URL:https://www.asiago7cbiketeam.com/event/orvieto-wine-mx-2/
LOCATION:Orvieto (Tr)
CATEGORIES:GRAN FONDO
END:VEVENT
BEGIN:VEVENT
DTSTART;VALUE=DATE:20240310
DTEND;VALUE=DATE:20240311
DTSTAMP:20260422T143004
CREATED:20240307T195141Z
LAST-MODIFIED:20240307T195141Z
UID:1050-1710028800-1710115199@www.asiago7cbiketeam.com
SUMMARY:Bacialla Bike
DESCRIPTION:
URL:https://www.asiago7cbiketeam.com/event/bacialla-bike-3/
LOCATION:Terontola (Ar)
CATEGORIES:GRAN FONDO
END:VEVENT
BEGIN:VEVENT
DTSTART;VALUE=DATE:20240310
DTEND;VALUE=DATE:20240311
DTSTAMP:20260422T143004
CREATED:20240307T195357Z
LAST-MODIFIED:20240307T195357Z
UID:1052-1710028800-1710115199@www.asiago7cbiketeam.com
SUMMARY:Bardolino Bike
DESCRIPTION:
URL:https://www.asiago7cbiketeam.com/event/bardolino-bike-3/
LOCATION:Bardolino (VR)
CATEGORIES:GRAN FONDO
END:VEVENT
BEGIN:VEVENT
DTSTART;VALUE=DATE:20240317
DTEND;VALUE=DATE:20240318
DTSTAMP:20260422T143004
CREATED:20240307T195707Z
LAST-MODIFIED:20240307T195707Z
UID:1054-1710633600-1710719999@www.asiago7cbiketeam.com
SUMMARY:Castello Monteriggioni
DESCRIPTION:
URL:https://www.asiago7cbiketeam.com/event/castello-monteriggioni/
LOCATION:Monteriggioni (Si)
END:VEVENT
BEGIN:VEVENT
DTSTART;VALUE=DATE:20240317
DTEND;VALUE=DATE:20240318
DTSTAMP:20260422T143004
CREATED:20240307T195901Z
LAST-MODIFIED:20240307T195901Z
UID:1056-1710633600-1710719999@www.asiago7cbiketeam.com
SUMMARY:Muretto di Alassio
DESCRIPTION:
URL:https://www.asiago7cbiketeam.com/event/muretto-di-alassio-2/
LOCATION:Alassio (Sv)
END:VEVENT
BEGIN:VEVENT
DTSTART;VALUE=DATE:20240317
DTEND;VALUE=DATE:20240318
DTSTAMP:20260422T143004
CREATED:20240307T200132Z
LAST-MODIFIED:20240307T200132Z
UID:1058-1710633600-1710719999@www.asiago7cbiketeam.com
SUMMARY:Mx Monti Ausoni
DESCRIPTION:
URL:https://www.asiago7cbiketeam.com/event/mx-monti-ausoni/
LOCATION:fondi
CATEGORIES:GRAN FONDO
END:VEVENT
BEGIN:VEVENT
DTSTART;VALUE=DATE:20240317
DTEND;VALUE=DATE:20240318
DTSTAMP:20260422T143004
CREATED:20240307T200400Z
LAST-MODIFIED:20240307T200400Z
UID:1061-1710633600-1710719999@www.asiago7cbiketeam.com
SUMMARY:Wild  Valtrompia Mtb
DESCRIPTION:
URL:https://www.asiago7cbiketeam.com/event/wild-valtrompia-mtb/
LOCATION:Concesio (BS)
CATEGORIES:GRAN FONDO
END:VEVENT
BEGIN:VEVENT
DTSTART;VALUE=DATE:20240324
DTEND;VALUE=DATE:20240325
DTSTAMP:20260422T143004
CREATED:20240307T200901Z
LAST-MODIFIED:20240307T200901Z
UID:1064-1711238400-1711324799@www.asiago7cbiketeam.com
SUMMARY:Tre Valli Bike Fun
DESCRIPTION:
URL:https://www.asiago7cbiketeam.com/event/tre-valli-bike-fun/
LOCATION:Tregnago (VR)
CATEGORIES:GRAN FONDO
END:VEVENT
BEGIN:VEVENT
DTSTART;VALUE=DATE:20240324
DTEND;VALUE=DATE:20240325
DTSTAMP:20260422T143004
CREATED:20240307T201455Z
LAST-MODIFIED:20240307T201455Z
UID:1066-1711238400-1711324799@www.asiago7cbiketeam.com
SUMMARY:Valle dei Tufi Xc Race
DESCRIPTION:
URL:https://www.asiago7cbiketeam.com/event/valle-dei-tufi-xc-race/
LOCATION:Mondolfo (Pu)
CATEGORIES:GRAN FONDO
END:VEVENT
END:VCALENDAR